Back to Multiple platform build/check report for BioC 3.13
ABCDEF[G]HIJKLMNOPQRSTUVWXYZ

This page was generated on 2021-09-13 15:06:26 -0400 (Mon, 13 Sep 2021).

BUILD BIN results for GA4GHshiny on tokay2

To the developers/maintainers of the GA4GHshiny package:
- Please allow up to 24 hours (and sometimes 48 hours) for your latest push to git@git.bioconductor.org:packages/GA4GHshiny.git to
reflect on this report. See How and When does the builder pull? When will my changes propagate? here for more information.
- Make sure to use the following settings in order to reproduce any error or warning you see on this page.

raw results

Package 683/2041HostnameOS / ArchINSTALLBUILDCHECKBUILD BIN
GA4GHshiny 1.14.0  (landing page)
Welliton Souza
Snapshot Date: 2021-09-12 04:50:10 -0400 (Sun, 12 Sep 2021)
git_url: https://git.bioconductor.org/packages/GA4GHshiny
git_branch: RELEASE_3_13
git_last_commit: 8c2cb31
git_last_commit_date: 2021-05-19 12:27:58 -0400 (Wed, 19 May 2021)
nebbiolo1Linux (Ubuntu 20.04.2 LTS) / x86_64  OK    OK    OK  UNNEEDED, same version is already published
tokay2Windows Server 2012 R2 Standard / x64  OK    OK    OK    OK  UNNEEDED, same version is already published
machv2macOS 10.14.6 Mojave / x86_64  OK    OK    OK    OK  UNNEEDED, same version is already published

Summary

Package: GA4GHshiny
Version: 1.14.0
Command: rm -rf GA4GHshiny.buildbin-libdir && mkdir GA4GHshiny.buildbin-libdir && C:\Users\biocbuild\bbs-3.13-bioc\R\bin\R.exe CMD INSTALL --merge-multiarch --build --library=GA4GHshiny.buildbin-libdir GA4GHshiny_1.14.0.tar.gz
StartedAt: 2021-09-13 08:55:08 -0400 (Mon, 13 Sep 2021)
EndedAt: 2021-09-13 08:56:31 -0400 (Mon, 13 Sep 2021)
EllapsedTime: 82.9 seconds
RetCode: 0
Status:   OK  
PackageFile: GA4GHshiny_1.14.0.zip
PackageFileSize: 454.8 KiB

Command output

##############################################################################
##############################################################################
###
### Running command:
###
###   rm -rf GA4GHshiny.buildbin-libdir && mkdir GA4GHshiny.buildbin-libdir && C:\Users\biocbuild\bbs-3.13-bioc\R\bin\R.exe CMD INSTALL --merge-multiarch --build --library=GA4GHshiny.buildbin-libdir GA4GHshiny_1.14.0.tar.gz
###
##############################################################################
##############################################################################



install for i386

* installing *source* package 'GA4GHshiny' ...
** using staged installation
** R
** inst
** byte-compile and prepare package for lazy loading
No methods found in package 'BiocGenerics' for request: 'lengths' when loading 'GA4GHclient'
** help
*** installing help indices
  converting help for package 'GA4GHshiny'
    finding HTML links ... done
    GA4GHshiny-package                      html  
    app                                     html  
    countGenotype                           html  
** building package indices
** installing vignettes
** testing if installed package can be loaded from temporary location
No methods found in package 'BiocGenerics' for request: 'lengths' when loading 'GA4GHclient'
** testing if installed package can be loaded from final location
No methods found in package 'BiocGenerics' for request: 'lengths' when loading 'GA4GHclient'
** testing if installed package keeps a record of temporary installation path

install for x64

* installing *source* package 'GA4GHshiny' ...
** testing if installed package can be loaded
No methods found in package 'BiocGenerics' for request: 'lengths' when loading 'GA4GHclient'
* MD5 sums
packaged installation of 'GA4GHshiny' as GA4GHshiny_1.14.0.zip
* DONE (GA4GHshiny)