Index of /checkResults/release/bioc-LATEST/GA4GHshiny/raw-results/tokay2

[ICO]NameLast modifiedSizeDescription

[DIR]Parent Directory  -  
[TXT]buildbin-out.txt15-Jan-2022 03:06 1.8K 
[   ]buildbin-summary.dcf15-Jan-2022 03:06 557  
[TXT]buildsrc-out.txt15-Jan-2022 03:06 897  
[   ]buildsrc-summary.dcf15-Jan-2022 03:06 470  
[TXT]checksrc-out.txt15-Jan-2022 03:06 3.9K 
[   ]checksrc-summary.dcf15-Jan-2022 03:06 474  
[TXT]install-out.txt15-Jan-2022 03:06 2.5K 
[   ]install-summary.dcf15-Jan-2022 03:06 667