Index of /checkResults/release/bioc-LATEST/GA4GHshiny/raw-results/nebbiolo2

[ICO]NameLast modifiedSizeDescription

[DIR]Parent Directory  -  
[   ]install-summary.dcf18-Jan-2022 03:05 265  
[TXT]install-out.txt18-Jan-2022 03:05 1.2K 
[   ]checksrc-summary.dcf18-Jan-2022 03:05 436  
[TXT]checksrc-out.txt18-Jan-2022 03:05 3.3K 
[   ]buildsrc-summary.dcf18-Jan-2022 03:05 426  
[TXT]buildsrc-out.txt18-Jan-2022 03:05 858