Index of /checkResults/release/bioc-LATEST/GA4GHshiny/raw-results/nebbiolo2

[ICO]NameLast modifiedSizeDescription

[DIR]Parent Directory  -  
[TXT]buildsrc-out.txt02-Dec-2021 07:17 858  
[   ]buildsrc-summary.dcf02-Dec-2021 07:17 426  
[TXT]checksrc-out.txt02-Dec-2021 07:17 3.3K 
[   ]checksrc-summary.dcf02-Dec-2021 07:17 436  
[TXT]install-out.txt02-Dec-2021 07:17 1.2K 
[   ]install-summary.dcf02-Dec-2021 07:17 265