Index of /checkResults/release/bioc-LATEST/GA4GHshiny/raw-results/machv2

[ICO]NameLast modifiedSizeDescription

[DIR]Parent Directory  -  
[TXT]buildbin-out.txt04-Dec-2021 03:05 1.5K 
[   ]buildbin-summary.dcf04-Dec-2021 03:05 548  
[TXT]buildsrc-out.txt04-Dec-2021 03:05 868  
[   ]buildsrc-summary.dcf04-Dec-2021 03:05 434  
[TXT]checksrc-out.txt04-Dec-2021 03:05 3.3K 
[   ]checksrc-summary.dcf04-Dec-2021 03:05 456  
[TXT]install-out.txt04-Dec-2021 03:05 1.3K 
[   ]install-summary.dcf04-Dec-2021 03:05 275