Back to Multiple platform build/check report for BioC 3.13
ABCDEF[G]HIJKLMNOPQRSTUVWXYZ

This page was generated on 2021-09-22 15:04:51 -0400 (Wed, 22 Sep 2021).

BUILD results for GA4GHshiny on nebbiolo1

To the developers/maintainers of the GA4GHshiny package:
- Please allow up to 24 hours (and sometimes 48 hours) for your latest push to git@git.bioconductor.org:packages/GA4GHshiny.git to
reflect on this report. See How and When does the builder pull? When will my changes propagate? here for more information.
- Make sure to use the following settings in order to reproduce any error or warning you see on this page.

raw results

Package 683/2041HostnameOS / ArchINSTALLBUILDCHECKBUILD BIN
GA4GHshiny 1.14.0  (landing page)
Welliton Souza
Snapshot Date: 2021-09-21 04:50:12 -0400 (Tue, 21 Sep 2021)
git_url: https://git.bioconductor.org/packages/GA4GHshiny
git_branch: RELEASE_3_13
git_last_commit: 8c2cb31
git_last_commit_date: 2021-05-19 12:27:58 -0400 (Wed, 19 May 2021)
nebbiolo1Linux (Ubuntu 20.04.2 LTS) / x86_64  OK    OK    OK  UNNEEDED, same version is already published
tokay2Windows Server 2012 R2 Standard / x64  OK    OK    OK    OK  UNNEEDED, same version is already published
machv2macOS 10.14.6 Mojave / x86_64  OK    OK    OK    OK  UNNEEDED, same version is already published

Summary

Package: GA4GHshiny
Version: 1.14.0
Command: /home/biocbuild/bbs-3.13-bioc/R/bin/R CMD build --keep-empty-dirs --no-resave-data GA4GHshiny
StartedAt: 2021-09-21 07:17:49 -0400 (Tue, 21 Sep 2021)
EndedAt: 2021-09-21 07:18:26 -0400 (Tue, 21 Sep 2021)
EllapsedTime: 37.1 seconds
RetCode: 0
Status:   OK  
PackageFile: GA4GHshiny_1.14.0.tar.gz
PackageFileSize: 283.9 KiB

Command output

##############################################################################
##############################################################################
###
### Running command:
###
###   /home/biocbuild/bbs-3.13-bioc/R/bin/R CMD build --keep-empty-dirs --no-resave-data GA4GHshiny
###
##############################################################################
##############################################################################


* checking for file ‘GA4GHshiny/DESCRIPTION’ ... OK
* preparing ‘GA4GHshiny’:
* checking DESCRIPTION meta-information ... OK
* installing the package to build vignettes
* creating vignettes ... OK
* checking for LF line-endings in source and make files and shell scripts
* checking for empty or unneeded directories
Omitted ‘LazyData’ from DESCRIPTION
* building ‘GA4GHshiny_1.14.0.tar.gz’