Back to Multiple platform build/check report for BioC 3.13
ABCDE[F]GHIJKLMNOPQRSTUVWXYZ

This page was generated on 2021-09-20 15:05:13 -0400 (Mon, 20 Sep 2021).

BUILD BIN results for FoldGO on tokay2

To the developers/maintainers of the FoldGO package:
- Please allow up to 24 hours (and sometimes 48 hours) for your latest push to git@git.bioconductor.org:packages/FoldGO.git to
reflect on this report. See How and When does the builder pull? When will my changes propagate? here for more information.
- Make sure to use the following settings in order to reproduce any error or warning you see on this page.

raw results

Package 673/2041HostnameOS / ArchINSTALLBUILDCHECKBUILD BIN
FoldGO 1.10.0  (landing page)
Daniil Wiebe
Snapshot Date: 2021-09-19 04:50:10 -0400 (Sun, 19 Sep 2021)
git_url: https://git.bioconductor.org/packages/FoldGO
git_branch: RELEASE_3_13
git_last_commit: defd37f
git_last_commit_date: 2021-05-19 12:37:57 -0400 (Wed, 19 May 2021)
nebbiolo1Linux (Ubuntu 20.04.2 LTS) / x86_64  OK    OK    OK  UNNEEDED, same version is already published
tokay2Windows Server 2012 R2 Standard / x64  OK    OK    OK    OK  UNNEEDED, same version is already published
machv2macOS 10.14.6 Mojave / x86_64  OK    OK    OK    OK  UNNEEDED, same version is already published

Summary

Package: FoldGO
Version: 1.10.0
Command: rm -rf FoldGO.buildbin-libdir && mkdir FoldGO.buildbin-libdir && C:\Users\biocbuild\bbs-3.13-bioc\R\bin\R.exe CMD INSTALL --merge-multiarch --build --library=FoldGO.buildbin-libdir FoldGO_1.10.0.tar.gz
StartedAt: 2021-09-20 08:50:34 -0400 (Mon, 20 Sep 2021)
EndedAt: 2021-09-20 08:52:07 -0400 (Mon, 20 Sep 2021)
EllapsedTime: 92.0 seconds
RetCode: 0
Status:   OK  
PackageFile: FoldGO_1.10.0.zip
PackageFileSize: 1.271 MiB

Command output

##############################################################################
##############################################################################
###
### Running command:
###
###   rm -rf FoldGO.buildbin-libdir && mkdir FoldGO.buildbin-libdir && C:\Users\biocbuild\bbs-3.13-bioc\R\bin\R.exe CMD INSTALL --merge-multiarch --build --library=FoldGO.buildbin-libdir FoldGO_1.10.0.tar.gz
###
##############################################################################
##############################################################################



install for i386

* installing *source* package 'FoldGO' ...
** using staged installation
** R
** data
*** moving datasets to lazyload DB

** inst
** byte-compile and prepare package for lazy loading
in method for 'getAnnotation' with signature '"MgsaSets"': no definition for class "MgsaSets"
** help
*** installing help indices
  converting help for package 'FoldGO'
    finding HTML links ... done
    examdata_bg                             html  
    examdata_degs                           html  
    examdata_objs                           html  
    fagroupstopgo_class                     html  
    foldspectest_class                      html  
    gafreader_class                         html  
    genegroups_class                        html  
    getAnnotation                           html  
    getWholeIntName                         html  
    plot-FoldSpecTest-ANY-method            html  
    rna_seq_data                            html  
** building package indices
** installing vignettes
** testing if installed package can be loaded from temporary location
** testing if installed package can be loaded from final location
** testing if installed package keeps a record of temporary installation path

install for x64

* installing *source* package 'FoldGO' ...
** testing if installed package can be loaded
* MD5 sums
packaged installation of 'FoldGO' as FoldGO_1.10.0.zip
* DONE (FoldGO)