Index of /checkResults/release/bioc-LATEST/FoldGO/raw-results/tokay2

[ICO]NameLast modifiedSizeDescription

[DIR]Parent Directory  -  
[TXT]buildbin-out.txt02-Dec-2021 07:17 2.0K 
[   ]buildbin-summary.dcf02-Dec-2021 07:17 533  
[TXT]buildsrc-out.txt02-Dec-2021 07:17 891  
[   ]buildsrc-summary.dcf02-Dec-2021 07:17 455  
[TXT]checksrc-out.txt02-Dec-2021 07:17 4.0K 
[   ]checksrc-summary.dcf02-Dec-2021 07:17 458  
[TXT]install-out.txt02-Dec-2021 07:17 2.7K 
[   ]install-summary.dcf02-Dec-2021 07:17 631