Back to Multiple platform build/check report for BioC 3.19:   simplified   long
ABCDE[F]GHIJKLMNOPQRSTUVWXYZ

This page was generated on 2024-07-19 17:41 -0400 (Fri, 19 Jul 2024).

HostnameOSArch (*)R versionInstalled pkgs
nebbiolo1Linux (Ubuntu 22.04.3 LTS)x86_644.4.1 (2024-06-14) -- "Race for Your Life" 4742
palomino7Windows Server 2022 Datacenterx644.4.1 (2024-06-14 ucrt) -- "Race for Your Life" 4484
merida1macOS 12.7.5 Montereyx86_644.4.1 (2024-06-14) -- "Race for Your Life" 4513
kjohnson1macOS 13.6.6 Venturaarm644.4.1 (2024-06-14) -- "Race for Your Life" 4462
Click on any hostname to see more info about the system (e.g. compilers)      (*) as reported by 'uname -p', except on Windows and Mac OS X

Package 723/2300HostnameOS / ArchINSTALLBUILDCHECKBUILD BIN
FindIT2 1.10.0  (landing page)
Guandong Shang
Snapshot Date: 2024-07-17 14:00 -0400 (Wed, 17 Jul 2024)
git_url: https://git.bioconductor.org/packages/FindIT2
git_branch: RELEASE_3_19
git_last_commit: ca624b0
git_last_commit_date: 2024-04-30 11:35:36 -0400 (Tue, 30 Apr 2024)
nebbiolo1Linux (Ubuntu 22.04.3 LTS) / x86_64  OK    OK    OK  UNNEEDED, same version is already published
palomino7Windows Server 2022 Datacenter / x64  OK    OK    OK    OK  
merida1macOS 12.7.5 Monterey / x86_64  OK    OK    OK    OK  UNNEEDED, same version is already published
kjohnson1macOS 13.6.6 Ventura / arm64  OK    OK    OK    OK  UNNEEDED, same version is already published


BUILD BIN results for FindIT2 on kjohnson1

To the developers/maintainers of the FindIT2 package:
- Allow up to 24 hours (and sometimes 48 hours) for your latest push to git@git.bioconductor.org:packages/FindIT2.git to reflect on this report. See Troubleshooting Build Report for more information.
- Use the following Renviron settings to reproduce errors and warnings.
- If 'R CMD check' started to fail recently on the Linux builder(s) over a missing dependency, add the missing dependency to 'Suggests:' in your DESCRIPTION file. See Renviron.bioc for more information.

raw results


Summary

Package: FindIT2
Version: 1.10.0
Command: rm -rf FindIT2.buildbin-libdir && mkdir FindIT2.buildbin-libdir && /Users/biocbuild/BBS/utils/build-universal.sh FindIT2_1.10.0.tar.gz /Library/Frameworks/R.framework/Resources/bin/R FindIT2.buildbin-libdir
StartedAt: 2024-07-19 16:36:27 -0400 (Fri, 19 Jul 2024)
EndedAt: 2024-07-19 16:37:17 -0400 (Fri, 19 Jul 2024)
EllapsedTime: 50.2 seconds
RetCode: 0
Status:   OK  
PackageFile: FindIT2_1.10.0.tgz
PackageFileSize: 2.438 MiB

Command output

##############################################################################
##############################################################################
###
### Running command:
###
###   rm -rf FindIT2.buildbin-libdir && mkdir FindIT2.buildbin-libdir && /Users/biocbuild/BBS/utils/build-universal.sh FindIT2_1.10.0.tar.gz /Library/Frameworks/R.framework/Resources/bin/R FindIT2.buildbin-libdir
###
##############################################################################
##############################################################################


>>>>>>> 
>>>>>>> INSTALLATION WITH 'R CMD INSTALL --preclean --no-multiarch --library=FindIT2.buildbin-libdir FindIT2_1.10.0.tar.gz'
>>>>>>> 

* installing *source* package ‘FindIT2’ ...
** using staged installation
** R
** data
** inst
** byte-compile and prepare package for lazy loading
** help
*** installing help indices
** building package indices
** installing vignettes
** testing if installed package can be loaded from temporary location
** testing if installed package can be loaded from final location
** testing if installed package keeps a record of temporary installation path
* DONE (FindIT2)