Back to Multiple platform build/check report for BioC 3.13
ABCDE[F]GHIJKLMNOPQRSTUVWXYZ

This page was generated on 2021-09-13 15:06:25 -0400 (Mon, 13 Sep 2021).

CHECK results for FastqCleaner on tokay2

To the developers/maintainers of the FastqCleaner package:
- Please allow up to 24 hours (and sometimes 48 hours) for your latest push to git@git.bioconductor.org:packages/FastqCleaner.git to
reflect on this report. See How and When does the builder pull? When will my changes propagate? here for more information.
- Make sure to use the following settings in order to reproduce any error or warning you see on this page.

raw results

Package 618/2041HostnameOS / ArchINSTALLBUILDCHECKBUILD BIN
FastqCleaner 1.10.0  (landing page)
Leandro Roser
Snapshot Date: 2021-09-12 04:50:10 -0400 (Sun, 12 Sep 2021)
git_url: https://git.bioconductor.org/packages/FastqCleaner
git_branch: RELEASE_3_13
git_last_commit: 6704c61
git_last_commit_date: 2021-05-19 12:36:03 -0400 (Wed, 19 May 2021)
nebbiolo1Linux (Ubuntu 20.04.2 LTS) / x86_64  OK    OK    OK  UNNEEDED, same version is already published
tokay2Windows Server 2012 R2 Standard / x64  OK    OK    OK    OK  UNNEEDED, same version is already published
machv2macOS 10.14.6 Mojave / x86_64  OK    OK    OK    OK  UNNEEDED, same version is already published

Summary

Package: FastqCleaner
Version: 1.10.0
Command: C:\Users\biocbuild\bbs-3.13-bioc\R\bin\R.exe CMD check --force-multiarch --install=check:FastqCleaner.install-out.txt --library=C:\Users\biocbuild\bbs-3.13-bioc\R\library --no-vignettes --timings FastqCleaner_1.10.0.tar.gz
StartedAt: 2021-09-12 22:25:06 -0400 (Sun, 12 Sep 2021)
EndedAt: 2021-09-12 22:29:47 -0400 (Sun, 12 Sep 2021)
EllapsedTime: 280.2 seconds
RetCode: 0
Status:   OK  
CheckDir: FastqCleaner.Rcheck
Warnings: 0

Command output

##############################################################################
##############################################################################
###
### Running command:
###
###   C:\Users\biocbuild\bbs-3.13-bioc\R\bin\R.exe CMD check --force-multiarch --install=check:FastqCleaner.install-out.txt --library=C:\Users\biocbuild\bbs-3.13-bioc\R\library --no-vignettes --timings FastqCleaner_1.10.0.tar.gz
###
##############################################################################
##############################################################################


* using log directory 'C:/Users/biocbuild/bbs-3.13-bioc/meat/FastqCleaner.Rcheck'
* using R version 4.1.1 (2021-08-10)
* using platform: x86_64-w64-mingw32 (64-bit)
* using session charset: ISO8859-1
* using option '--no-vignettes'
* checking for file 'FastqCleaner/DESCRIPTION' ... OK
* checking extension type ... Package
* this is package 'FastqCleaner' version '1.10.0'
* package encoding: UTF-8
* checking package namespace information ... OK
* checking package dependencies ... OK
* checking if this is a source package ... OK
* checking if there is a namespace ... OK
* checking for hidden files and directories ... OK
* checking for portable file names ... NOTE
Found the following non-portable file paths:
  FastqCleaner/inst/application/www/help/docs/articles/Overview_files/figure-html/unnamed-chunk-11-1.png
  FastqCleaner/inst/application/www/help/docs/articles/Overview_files/figure-html/unnamed-chunk-12-1.png
  FastqCleaner/inst/application/www/help/docs/articles/Overview_files/figure-html/unnamed-chunk-13-1.png
  FastqCleaner/inst/application/www/help/docs/articles/Overview_files/figure-html/unnamed-chunk-14-1.png
  FastqCleaner/inst/application/www/help/docs/articles/Overview_files/figure-html/unnamed-chunk-7-1.png
  FastqCleaner/inst/application/www/help/docs/articles/Overview_files/figure-html/unnamed-chunk-8-1.png

Tarballs are only required to store paths of up to 100 bytes and cannot
store those of more than 256 bytes, with restrictions including to 100
bytes for the final component.
See section 'Package structure' in the 'Writing R Extensions' manual.
* checking whether package 'FastqCleaner' can be installed ... OK
* checking installed package size ... NOTE
  installed size is  6.8Mb
  sub-directories of 1Mb or more:
    application   4.2Mb
    libs          2.1Mb
* checking package directory ... OK
* checking 'build' directory ... OK
* checking DESCRIPTION meta-information ... OK
* checking top-level files ... OK
* checking for left-over files ... OK
* checking index information ... OK
* checking package subdirectories ... OK
* checking R files for non-ASCII characters ... OK
* checking R files for syntax errors ... OK
* loading checks for arch 'i386'
** checking whether the package can be loaded ... OK
** checking whether the package can be loaded with stated dependencies ... OK
** checking whether the package can be unloaded cleanly ... OK
** checking whether the namespace can be loaded with stated dependencies ... OK
** checking whether the namespace can be unloaded cleanly ... OK
* loading checks for arch 'x64'
** checking whether the package can be loaded ... OK
** checking whether the package can be loaded with stated dependencies ... OK
** checking whether the package can be unloaded cleanly ... OK
** checking whether the namespace can be loaded with stated dependencies ... OK
** checking whether the namespace can be unloaded cleanly ... OK
* checking dependencies in R code ... OK
* checking S3 generic/method consistency ... OK
* checking replacement functions ... OK
* checking foreign function calls ... OK
* checking R code for possible problems ... OK
* checking Rd files ... OK
* checking Rd metadata ... OK
* checking Rd cross-references ... OK
* checking for missing documentation entries ... OK
* checking for code/documentation mismatches ... OK
* checking Rd \usage sections ... OK
* checking Rd contents ... OK
* checking for unstated dependencies in examples ... OK
* checking line endings in C/C++/Fortran sources/headers ... OK
* checking line endings in Makefiles ... OK
* checking compilation flags in Makevars ... OK
* checking for GNU extensions in Makefiles ... OK
* checking for portable use of $(BLAS_LIBS) and $(LAPACK_LIBS) ... OK
* checking use of PKG_*FLAGS in Makefiles ... OK
* checking compiled code ... NOTE
Note: information on .o files for i386 is not available
Note: information on .o files for x64 is not available
File 'C:/Users/biocbuild/bbs-3.13-bioc/R/library/FastqCleaner/libs/i386/FastqCleaner.dll':
  Found 'abort', possibly from 'abort' (C), 'runtime' (Fortran)
  Found 'exit', possibly from 'exit' (C), 'stop' (Fortran)
  Found 'printf', possibly from 'printf' (C)
File 'C:/Users/biocbuild/bbs-3.13-bioc/R/library/FastqCleaner/libs/x64/FastqCleaner.dll':
  Found 'abort', possibly from 'abort' (C), 'runtime' (Fortran)
  Found 'exit', possibly from 'exit' (C), 'stop' (Fortran)
  Found 'printf', possibly from 'printf' (C)

Compiled code should not call entry points which might terminate R nor
write to stdout/stderr instead of to the console, nor use Fortran I/O
nor system RNGs. The detected symbols are linked into the code but
might come from libraries and not actually be called.

See 'Writing portable packages' in the 'Writing R Extensions' manual.
* checking files in 'vignettes' ... OK
* checking examples ...
** running examples for arch 'i386' ... OK
** running examples for arch 'x64' ... OK
* checking for unstated dependencies in 'tests' ... OK
* checking tests ...
** running tests for arch 'i386' ...
  Running 'testthat.R'
 OK
** running tests for arch 'x64' ...
  Running 'testthat.R'
 OK
* checking for unstated dependencies in vignettes ... OK
* checking package vignettes in 'inst/doc' ... OK
* checking running R code from vignettes ... SKIPPED
* checking re-building of vignette outputs ... SKIPPED
* checking PDF version of manual ... OK
* DONE

Status: 3 NOTEs
See
  'C:/Users/biocbuild/bbs-3.13-bioc/meat/FastqCleaner.Rcheck/00check.log'
for details.



Installation output

FastqCleaner.Rcheck/00install.out

##############################################################################
##############################################################################
###
### Running command:
###
###   C:\cygwin\bin\curl.exe -O http://155.52.207.165/BBS/3.13/bioc/src/contrib/FastqCleaner_1.10.0.tar.gz && rm -rf FastqCleaner.buildbin-libdir && mkdir FastqCleaner.buildbin-libdir && C:\Users\biocbuild\bbs-3.13-bioc\R\bin\R.exe CMD INSTALL --merge-multiarch --build --library=FastqCleaner.buildbin-libdir FastqCleaner_1.10.0.tar.gz && C:\Users\biocbuild\bbs-3.13-bioc\R\bin\R.exe CMD INSTALL FastqCleaner_1.10.0.zip && rm FastqCleaner_1.10.0.tar.gz FastqCleaner_1.10.0.zip
###
##############################################################################
##############################################################################


  % Total    % Received % Xferd  Average Speed   Time    Time     Time  Current
                                 Dload  Upload   Total   Spent    Left  Speed

  0     0    0     0    0     0      0      0 --:--:-- --:--:-- --:--:--     0
 26 5169k   26 1359k    0     0  1751k      0  0:00:02 --:--:--  0:00:02 1751k
 83 5169k   83 4314k    0     0  2441k      0  0:00:02  0:00:01  0:00:01 2441k
100 5169k  100 5169k    0     0  2591k      0  0:00:01  0:00:01 --:--:-- 2591k

install for i386

* installing *source* package 'FastqCleaner' ...
** using staged installation
** libs
"C:/rtools40/mingw32/bin/"g++  -std=gnu++11 -I"C:/Users/BIOCBU~1/BBS-3~1.13-/R/include" -DNDEBUG -I../inst/include/ -I'C:/Users/biocbuild/bbs-3.13-bioc/R/library/Rcpp/include'   -I"c:/extsoft/include"     -O2 -Wall  -mfpmath=sse -msse2 -mstackrealign  -c RcppExports.cpp -o RcppExports.o
"C:/rtools40/mingw32/bin/"g++  -std=gnu++11 -I"C:/Users/BIOCBU~1/BBS-3~1.13-/R/include" -DNDEBUG -I../inst/include/ -I'C:/Users/biocbuild/bbs-3.13-bioc/R/library/Rcpp/include'   -I"c:/extsoft/include"     -O2 -Wall  -mfpmath=sse -msse2 -mstackrealign  -c cpp_GC_content.cpp -o cpp_GC_content.o
"C:/rtools40/mingw32/bin/"g++  -std=gnu++11 -I"C:/Users/BIOCBU~1/BBS-3~1.13-/R/include" -DNDEBUG -I../inst/include/ -I'C:/Users/biocbuild/bbs-3.13-bioc/R/library/Rcpp/include'   -I"c:/extsoft/include"     -O2 -Wall  -mfpmath=sse -msse2 -mstackrealign  -c cpp_base_content.cpp -o cpp_base_content.o
"C:/rtools40/mingw32/bin/"g++  -std=gnu++11 -I"C:/Users/BIOCBU~1/BBS-3~1.13-/R/include" -DNDEBUG -I../inst/include/ -I'C:/Users/biocbuild/bbs-3.13-bioc/R/library/Rcpp/include'   -I"c:/extsoft/include"     -O2 -Wall  -mfpmath=sse -msse2 -mstackrealign  -c cpp_check_quality_threshold.cpp -o cpp_check_quality_threshold.o
"C:/rtools40/mingw32/bin/"g++  -std=gnu++11 -I"C:/Users/BIOCBU~1/BBS-3~1.13-/R/include" -DNDEBUG -I../inst/include/ -I'C:/Users/biocbuild/bbs-3.13-bioc/R/library/Rcpp/include'   -I"c:/extsoft/include"     -O2 -Wall  -mfpmath=sse -msse2 -mstackrealign  -c cpp_create_stringvec.cpp -o cpp_create_stringvec.o
"C:/rtools40/mingw32/bin/"g++  -std=gnu++11 -I"C:/Users/BIOCBU~1/BBS-3~1.13-/R/include" -DNDEBUG -I../inst/include/ -I'C:/Users/biocbuild/bbs-3.13-bioc/R/library/Rcpp/include'   -I"c:/extsoft/include"     -O2 -Wall  -mfpmath=sse -msse2 -mstackrealign  -c cpp_which_true.cpp -o cpp_which_true.o
C:/rtools40/mingw32/bin/g++ -shared -s -static-libgcc -o FastqCleaner.dll tmp.def RcppExports.o cpp_GC_content.o cpp_base_content.o cpp_check_quality_threshold.o cpp_create_stringvec.o cpp_which_true.o -Lc:/extsoft/lib/i386 -Lc:/extsoft/lib -LC:/Users/BIOCBU~1/BBS-3~1.13-/R/bin/i386 -lR
installing to C:/Users/biocbuild/bbs-3.13-bioc/meat/FastqCleaner.buildbin-libdir/00LOCK-FastqCleaner/00new/FastqCleaner/libs/i386
** R
** inst
** byte-compile and prepare package for lazy loading
** help
*** installing help indices
  converting help for package 'FastqCleaner'
    finding HTML links ... done
    adapter_filter                          html  
    asc2int                                 html  
    check_encoding                          html  
    check_onclick_                          html  
    complex_filter                          html  
    create_cleanfunction_                   html  
    create_uniform_width                    html  
    fixed_filter                            html  
    inject_letter_random                    html  
    int2asc                                 html  
    isNaturalNumber                         html  
    launch_fqc                              html  
    length_filter                           html  
    matching                                html  
    messageFun_                             html  
    myPlot                                  html  
    n_filter                                html  
    outputClean_                            html  
    plotA                                   html  
    plotB                                   html  
    plotC                                   html  
    plotD                                   html  
    plotE                                   html  
    plotF                                   html  
    plotG                                   html  
    plotH                                   html  
    plotI                                   html  
    plotJ                                   html  
    plotObjects                             html  
    processingFunction_                     html  
    qmean_filter                            html  
    random_length                           html  
    random_qual                             html  
    random_seq                              html  
    seq_filter                              html  
    seq_names                               html  
    trim3q_filter                           html  
    unique_filter                           html  
** building package indices
** installing vignettes
** testing if installed package can be loaded from temporary location
** testing if installed package can be loaded from final location
** testing if installed package keeps a record of temporary installation path

install for x64

* installing *source* package 'FastqCleaner' ...
** libs
"C:/rtools40/mingw64/bin/"g++  -std=gnu++11 -I"C:/Users/BIOCBU~1/BBS-3~1.13-/R/include" -DNDEBUG -I../inst/include/ -I'C:/Users/biocbuild/bbs-3.13-bioc/R/library/Rcpp/include'   -I"C:/extsoft/include"     -O2 -Wall  -mfpmath=sse -msse2 -mstackrealign  -c RcppExports.cpp -o RcppExports.o
"C:/rtools40/mingw64/bin/"g++  -std=gnu++11 -I"C:/Users/BIOCBU~1/BBS-3~1.13-/R/include" -DNDEBUG -I../inst/include/ -I'C:/Users/biocbuild/bbs-3.13-bioc/R/library/Rcpp/include'   -I"C:/extsoft/include"     -O2 -Wall  -mfpmath=sse -msse2 -mstackrealign  -c cpp_GC_content.cpp -o cpp_GC_content.o
"C:/rtools40/mingw64/bin/"g++  -std=gnu++11 -I"C:/Users/BIOCBU~1/BBS-3~1.13-/R/include" -DNDEBUG -I../inst/include/ -I'C:/Users/biocbuild/bbs-3.13-bioc/R/library/Rcpp/include'   -I"C:/extsoft/include"     -O2 -Wall  -mfpmath=sse -msse2 -mstackrealign  -c cpp_base_content.cpp -o cpp_base_content.o
"C:/rtools40/mingw64/bin/"g++  -std=gnu++11 -I"C:/Users/BIOCBU~1/BBS-3~1.13-/R/include" -DNDEBUG -I../inst/include/ -I'C:/Users/biocbuild/bbs-3.13-bioc/R/library/Rcpp/include'   -I"C:/extsoft/include"     -O2 -Wall  -mfpmath=sse -msse2 -mstackrealign  -c cpp_check_quality_threshold.cpp -o cpp_check_quality_threshold.o
"C:/rtools40/mingw64/bin/"g++  -std=gnu++11 -I"C:/Users/BIOCBU~1/BBS-3~1.13-/R/include" -DNDEBUG -I../inst/include/ -I'C:/Users/biocbuild/bbs-3.13-bioc/R/library/Rcpp/include'   -I"C:/extsoft/include"     -O2 -Wall  -mfpmath=sse -msse2 -mstackrealign  -c cpp_create_stringvec.cpp -o cpp_create_stringvec.o
"C:/rtools40/mingw64/bin/"g++  -std=gnu++11 -I"C:/Users/BIOCBU~1/BBS-3~1.13-/R/include" -DNDEBUG -I../inst/include/ -I'C:/Users/biocbuild/bbs-3.13-bioc/R/library/Rcpp/include'   -I"C:/extsoft/include"     -O2 -Wall  -mfpmath=sse -msse2 -mstackrealign  -c cpp_which_true.cpp -o cpp_which_true.o
C:/rtools40/mingw64/bin/g++ -shared -s -static-libgcc -o FastqCleaner.dll tmp.def RcppExports.o cpp_GC_content.o cpp_base_content.o cpp_check_quality_threshold.o cpp_create_stringvec.o cpp_which_true.o -LC:/extsoft/lib/x64 -LC:/extsoft/lib -LC:/Users/BIOCBU~1/BBS-3~1.13-/R/bin/x64 -lR
installing to C:/Users/biocbuild/bbs-3.13-bioc/meat/FastqCleaner.buildbin-libdir/FastqCleaner/libs/x64
** testing if installed package can be loaded
* MD5 sums
packaged installation of 'FastqCleaner' as FastqCleaner_1.10.0.zip
* DONE (FastqCleaner)
* installing to library 'C:/Users/biocbuild/bbs-3.13-bioc/R/library'
package 'FastqCleaner' successfully unpacked and MD5 sums checked

Tests output

FastqCleaner.Rcheck/tests_i386/testthat.Rout


R version 4.1.1 (2021-08-10) -- "Kick Things"
Copyright (C) 2021 The R Foundation for Statistical Computing
Platform: i386-w64-mingw32/i386 (32-bit)

R is free software and comes with ABSOLUTELY NO WARRANTY.
You are welcome to redistribute it under certain conditions.
Type 'license()' or 'licence()' for distribution details.

R is a collaborative project with many contributors.
Type 'contributors()' for more information and
'citation()' on how to cite R or R packages in publications.

Type 'demo()' for some demos, 'help()' for on-line help, or
'help.start()' for an HTML browser interface to help.
Type 'q()' to quit R.

> library(testthat)
> library(FastqCleaner)
> 
> test_check("FastqCleaner")
== Skipped tests ===============================================================
* On CRAN (10)

[ FAIL 0 | WARN 0 | SKIP 10 | PASS 0 ]
> 
> proc.time()
   user  system elapsed 
   7.26    0.57    7.82 

FastqCleaner.Rcheck/tests_x64/testthat.Rout


R version 4.1.1 (2021-08-10) -- "Kick Things"
Copyright (C) 2021 The R Foundation for Statistical Computing
Platform: x86_64-w64-mingw32/x64 (64-bit)

R is free software and comes with ABSOLUTELY NO WARRANTY.
You are welcome to redistribute it under certain conditions.
Type 'license()' or 'licence()' for distribution details.

R is a collaborative project with many contributors.
Type 'contributors()' for more information and
'citation()' on how to cite R or R packages in publications.

Type 'demo()' for some demos, 'help()' for on-line help, or
'help.start()' for an HTML browser interface to help.
Type 'q()' to quit R.

> library(testthat)
> library(FastqCleaner)
> 
> test_check("FastqCleaner")
== Skipped tests ===============================================================
* On CRAN (10)

[ FAIL 0 | WARN 0 | SKIP 10 | PASS 0 ]
> 
> proc.time()
   user  system elapsed 
   8.20    0.35    8.54 

Example timings

FastqCleaner.Rcheck/examples_i386/FastqCleaner-Ex.timings

nameusersystemelapsed
adapter_filter0.370.020.39
check_encoding0.190.050.23
complex_filter0.510.040.57
fixed_filter0.360.060.42
inject_letter_random0.220.070.28
launch_fqc000
length_filter1.120.141.27
matching0.250.010.26
n_filter0.660.080.73
qmean_filter0.450.100.54
random_length0.050.010.06
random_qual0.060.000.06
random_seq0.050.020.07
seq_filter0.270.180.45
seq_names0.030.020.05
trim3q_filter0.330.120.45
unique_filter0.260.000.27

FastqCleaner.Rcheck/examples_x64/FastqCleaner-Ex.timings

nameusersystemelapsed
adapter_filter0.350.080.42
check_encoding0.110.030.15
complex_filter0.350.000.34
fixed_filter0.260.030.30
inject_letter_random0.190.000.19
launch_fqc000
length_filter0.280.020.30
matching0.170.000.17
n_filter0.630.000.62
qmean_filter0.480.050.53
random_length0.060.000.07
random_qual0.040.000.03
random_seq0.060.000.06
seq_filter0.500.040.55
seq_names0.040.000.04
trim3q_filter0.490.030.52
unique_filter0.300.040.33