Back to Multiple platform build/check report for BioC 3.13
ABCDE[F]GHIJKLMNOPQRSTUVWXYZ

This page was generated on 2021-10-13 15:05:51 -0400 (Wed, 13 Oct 2021).

BUILD results for FastqCleaner on machv2

To the developers/maintainers of the FastqCleaner package:
- Please allow up to 24 hours (and sometimes 48 hours) for your latest push to git@git.bioconductor.org:packages/FastqCleaner.git to
reflect on this report. See How and When does the builder pull? When will my changes propagate? here for more information.
- Make sure to use the following settings in order to reproduce any error or warning you see on this page.

raw results

Package 618/2041HostnameOS / ArchINSTALLBUILDCHECKBUILD BIN
FastqCleaner 1.10.0  (landing page)
Leandro Roser
Snapshot Date: 2021-10-12 04:50:13 -0400 (Tue, 12 Oct 2021)
git_url: https://git.bioconductor.org/packages/FastqCleaner
git_branch: RELEASE_3_13
git_last_commit: 6704c61
git_last_commit_date: 2021-05-19 12:36:03 -0400 (Wed, 19 May 2021)
nebbiolo1Linux (Ubuntu 20.04.2 LTS) / x86_64  OK    OK    OK  UNNEEDED, same version is already published
tokay2Windows Server 2012 R2 Standard / x64  OK    OK    OK    OK  UNNEEDED, same version is already published
machv2macOS 10.14.6 Mojave / x86_64  OK    OK    OK    OK  UNNEEDED, same version is already published

Summary

Package: FastqCleaner
Version: 1.10.0
Command: /Library/Frameworks/R.framework/Versions/Current/Resources/bin/R CMD build --keep-empty-dirs --no-resave-data FastqCleaner
StartedAt: 2021-10-12 12:03:09 -0400 (Tue, 12 Oct 2021)
EndedAt: 2021-10-12 12:04:55 -0400 (Tue, 12 Oct 2021)
EllapsedTime: 105.7 seconds
RetCode: 0
Status:   OK  
PackageFile: FastqCleaner_1.10.0.tar.gz
PackageFileSize: 4.125 MiB

Command output

##############################################################################
##############################################################################
###
### Running command:
###
###   /Library/Frameworks/R.framework/Versions/Current/Resources/bin/R CMD build --keep-empty-dirs --no-resave-data FastqCleaner
###
##############################################################################
##############################################################################


* checking for file ‘FastqCleaner/DESCRIPTION’ ... OK
* preparing ‘FastqCleaner’:
* checking DESCRIPTION meta-information ... OK
* cleaning src
* installing the package to build vignettes
* creating vignettes ... OK
* cleaning src
* checking for LF line-endings in source and make files and shell scripts
* checking for empty or unneeded directories
Omitted ‘LazyData’ from DESCRIPTION
* building ‘FastqCleaner_1.10.0.tar.gz’
Warning in utils::tar(filepath, pkgname, compression = compression, compression_level = 9L,  :
  storing paths of more than 100 bytes is not portable:
  ‘FastqCleaner/inst/application/www/help/docs/articles/Overview_files/figure-html/unnamed-chunk-11-1.png’
Warning in utils::tar(filepath, pkgname, compression = compression, compression_level = 9L,  :
  storing paths of more than 100 bytes is not portable:
  ‘FastqCleaner/inst/application/www/help/docs/articles/Overview_files/figure-html/unnamed-chunk-12-1.png’
Warning in utils::tar(filepath, pkgname, compression = compression, compression_level = 9L,  :
  storing paths of more than 100 bytes is not portable:
  ‘FastqCleaner/inst/application/www/help/docs/articles/Overview_files/figure-html/unnamed-chunk-13-1.png’
Warning in utils::tar(filepath, pkgname, compression = compression, compression_level = 9L,  :
  storing paths of more than 100 bytes is not portable:
  ‘FastqCleaner/inst/application/www/help/docs/articles/Overview_files/figure-html/unnamed-chunk-14-1.png’
Warning in utils::tar(filepath, pkgname, compression = compression, compression_level = 9L,  :
  storing paths of more than 100 bytes is not portable:
  ‘FastqCleaner/inst/application/www/help/docs/articles/Overview_files/figure-html/unnamed-chunk-7-1.png’
Warning in utils::tar(filepath, pkgname, compression = compression, compression_level = 9L,  :
  storing paths of more than 100 bytes is not portable:
  ‘FastqCleaner/inst/application/www/help/docs/articles/Overview_files/figure-html/unnamed-chunk-8-1.png’