Back to Multiple platform build/check report for BioC 3.14
ABCDE[F]GHIJKLMNOPQRSTUVWXYZ

This page was generated on 2022-01-26 13:06:36 -0500 (Wed, 26 Jan 2022).

HostnameOSArch (*)R versionInstalled pkgs
nebbiolo2Linux (Ubuntu 20.04.4 LTS)x86_644.1.2 (2021-11-01) -- "Bird Hippie" 4329
tokay2Windows Server 2012 R2 Standardx644.1.2 (2021-11-01) -- "Bird Hippie" 4080
machv2macOS 10.14.6 Mojavex86_644.1.2 (2021-11-01) -- "Bird Hippie" 4141
Click on any hostname to see more info about the system (e.g. compilers)      (*) as reported by 'uname -p', except on Windows and Mac OS X

BUILD BIN results for FRASER on tokay2


To the developers/maintainers of the FRASER package:
- Please allow up to 24 hours (and sometimes 48 hours) for your latest push to git@git.bioconductor.org:packages/FRASER.git to
reflect on this report. See How and When does the builder pull? When will my changes propagate? here for more information.
- Make sure to use the following settings in order to reproduce any error or warning you see on this page.

raw results

Package 683/2083HostnameOS / ArchINSTALLBUILDCHECKBUILD BIN
FRASER 1.6.0  (landing page)
Christian Mertes
Snapshot Date: 2022-01-25 01:55:07 -0500 (Tue, 25 Jan 2022)
git_url: https://git.bioconductor.org/packages/FRASER
git_branch: RELEASE_3_14
git_last_commit: fa070e3
git_last_commit_date: 2021-10-26 12:59:14 -0500 (Tue, 26 Oct 2021)
nebbiolo2Linux (Ubuntu 20.04.4 LTS) / x86_64  OK    OK    OK  UNNEEDED, same version is already published
tokay2Windows Server 2012 R2 Standard / x64  OK    OK    OK    OK  UNNEEDED, same version is already published
machv2macOS 10.14.6 Mojave / x86_64  OK    OK    OK    OK  UNNEEDED, same version is already published

Summary

Package: FRASER
Version: 1.6.0
Command: rm -rf FRASER.buildbin-libdir && mkdir FRASER.buildbin-libdir && C:\Users\biocbuild\bbs-3.14-bioc\R\bin\R.exe CMD INSTALL --merge-multiarch --build --library=FRASER.buildbin-libdir FRASER_1.6.0.tar.gz
StartedAt: 2022-01-26 06:12:28 -0500 (Wed, 26 Jan 2022)
EndedAt: 2022-01-26 06:16:17 -0500 (Wed, 26 Jan 2022)
EllapsedTime: 229.4 seconds
RetCode: 0
Status:   OK  
PackageFile: FRASER_1.6.0.zip
PackageFileSize: 3.375 MiB

Command output

##############################################################################
##############################################################################
###
### Running command:
###
###   rm -rf FRASER.buildbin-libdir && mkdir FRASER.buildbin-libdir && C:\Users\biocbuild\bbs-3.14-bioc\R\bin\R.exe CMD INSTALL --merge-multiarch --build --library=FRASER.buildbin-libdir FRASER_1.6.0.tar.gz
###
##############################################################################
##############################################################################



install for i386

* installing *source* package 'FRASER' ...
** using staged installation
** libs
"C:/rtools40/mingw32/bin/"g++  -std=gnu++11 -I"C:/Users/BIOCBU~1/BBS-3~1.14-/R/include" -DNDEBUG  -I'C:/Users/biocbuild/bbs-3.14-bioc/R/library/Rcpp/include' -I'C:/Users/biocbuild/bbs-3.14-bioc/R/library/RcppArmadillo/include'   -I"C:/extsoft/include"  -fopenmp -DARMA_DONT_USE_OPENMP   -O2 -Wall  -mfpmath=sse -msse2 -mstackrealign  -c RcppExports.cpp -o RcppExports.o
"C:/rtools40/mingw32/bin/"g++  -std=gnu++11 -I"C:/Users/BIOCBU~1/BBS-3~1.14-/R/include" -DNDEBUG  -I'C:/Users/biocbuild/bbs-3.14-bioc/R/library/Rcpp/include' -I'C:/Users/biocbuild/bbs-3.14-bioc/R/library/RcppArmadillo/include'   -I"C:/extsoft/include"  -fopenmp -DARMA_DONT_USE_OPENMP   -O2 -Wall  -mfpmath=sse -msse2 -mstackrealign  -c loss_n_gradient_functions.cpp -o loss_n_gradient_functions.o
C:/rtools40/mingw32/bin/g++ -shared -s -static-libgcc -o FRASER.dll tmp.def RcppExports.o loss_n_gradient_functions.o -fopenmp -LC:/Users/BIOCBU~1/BBS-3~1.14-/R/bin/i386 -lRlapack -LC:/Users/BIOCBU~1/BBS-3~1.14-/R/bin/i386 -lRblas -lgfortran -lm -lquadmath -LC:/extsoft/lib/i386 -LC:/extsoft/lib -LC:/Users/BIOCBU~1/BBS-3~1.14-/R/bin/i386 -lR
installing to C:/Users/biocbuild/bbs-3.14-bioc/meat/FRASER.buildbin-libdir/00LOCK-FRASER/00new/FRASER/libs/i386
** R
** inst
** byte-compile and prepare package for lazy loading
** help
*** installing help indices
  converting help for package 'FRASER'
    finding HTML links ... done
    FRASER                                  html  
    FraserDataSet-class                     html  
    FraserDataSet                           html  
    annotateRanges                          html  
    assayNames-FraserDataSet-method         html  
    assays-FraserDataSet-method             html  
    calculatePSIValues                      html  
    countRNA                                html  
    counts                                  html  
    createTestFraserDataSet                 html  
    fds-methods                             html  
    filtering                               html  
    fit                                     html  
    getter_setter_functions                 html  
    injectOutliers                          html  
    length-FraserDataSet-method             html  
    loadFraserDataSet                       html  
    makeSimulatedFraserDataSet              html  
    mergeExternalData                       html  
    optimHyperParams                        html  
    plotFunctions                           html  
    finding level-2 HTML links ... done

    psiTypes                                html  
    results                                 html  
    subset                                  html  
** building package indices
** installing vignettes
** testing if installed package can be loaded from temporary location
** testing if installed package can be loaded from final location
** testing if installed package keeps a record of temporary installation path

install for x64

* installing *source* package 'FRASER' ...
** libs
"C:/rtools40/mingw64/bin/"g++  -std=gnu++11 -I"C:/Users/BIOCBU~1/BBS-3~1.14-/R/include" -DNDEBUG  -I'C:/Users/biocbuild/bbs-3.14-bioc/R/library/Rcpp/include' -I'C:/Users/biocbuild/bbs-3.14-bioc/R/library/RcppArmadillo/include'   -I"C:/extsoft/include"  -fopenmp -DARMA_DONT_USE_OPENMP   -O2 -Wall  -mfpmath=sse -msse2 -mstackrealign  -c RcppExports.cpp -o RcppExports.o
"C:/rtools40/mingw64/bin/"g++  -std=gnu++11 -I"C:/Users/BIOCBU~1/BBS-3~1.14-/R/include" -DNDEBUG  -I'C:/Users/biocbuild/bbs-3.14-bioc/R/library/Rcpp/include' -I'C:/Users/biocbuild/bbs-3.14-bioc/R/library/RcppArmadillo/include'   -I"C:/extsoft/include"  -fopenmp -DARMA_DONT_USE_OPENMP   -O2 -Wall  -mfpmath=sse -msse2 -mstackrealign  -c loss_n_gradient_functions.cpp -o loss_n_gradient_functions.o
C:/rtools40/mingw64/bin/g++ -shared -s -static-libgcc -o FRASER.dll tmp.def RcppExports.o loss_n_gradient_functions.o -fopenmp -LC:/Users/BIOCBU~1/BBS-3~1.14-/R/bin/x64 -lRlapack -LC:/Users/BIOCBU~1/BBS-3~1.14-/R/bin/x64 -lRblas -lgfortran -lm -lquadmath -LC:/extsoft/lib/x64 -LC:/extsoft/lib -LC:/Users/BIOCBU~1/BBS-3~1.14-/R/bin/x64 -lR
installing to C:/Users/biocbuild/bbs-3.14-bioc/meat/FRASER.buildbin-libdir/FRASER/libs/x64
** testing if installed package can be loaded
* MD5 sums
packaged installation of 'FRASER' as FRASER_1.6.0.zip
* DONE (FRASER)