Back to Multiple platform build/check report for BioC 3.13
ABCDE[F]GHIJKLMNOPQRSTUVWXYZ

This page was generated on 2021-09-20 15:04:49 -0400 (Mon, 20 Sep 2021).

BUILD results for FRASER on nebbiolo1

To the developers/maintainers of the FRASER package:
- Please allow up to 24 hours (and sometimes 48 hours) for your latest push to git@git.bioconductor.org:packages/FRASER.git to
reflect on this report. See How and When does the builder pull? When will my changes propagate? here for more information.
- Make sure to use the following settings in order to reproduce any error or warning you see on this page.

raw results

Package 674/2041HostnameOS / ArchINSTALLBUILDCHECKBUILD BIN
FRASER 1.4.0  (landing page)
Christian Mertes
Snapshot Date: 2021-09-19 04:50:10 -0400 (Sun, 19 Sep 2021)
git_url: https://git.bioconductor.org/packages/FRASER
git_branch: RELEASE_3_13
git_last_commit: 926f313
git_last_commit_date: 2021-05-19 12:51:54 -0400 (Wed, 19 May 2021)
nebbiolo1Linux (Ubuntu 20.04.2 LTS) / x86_64  OK    OK    OK  UNNEEDED, same version is already published
tokay2Windows Server 2012 R2 Standard / x64  OK    OK    OK    OK  UNNEEDED, same version is already published
machv2macOS 10.14.6 Mojave / x86_64  OK    OK    OK    OK  UNNEEDED, same version is already published

Summary

Package: FRASER
Version: 1.4.0
Command: /home/biocbuild/bbs-3.13-bioc/R/bin/R CMD build --keep-empty-dirs --no-resave-data FRASER
StartedAt: 2021-09-19 07:16:16 -0400 (Sun, 19 Sep 2021)
EndedAt: 2021-09-19 07:20:24 -0400 (Sun, 19 Sep 2021)
EllapsedTime: 248.2 seconds
RetCode: 0
Status:   OK  
PackageFile: FRASER_1.4.0.tar.gz
PackageFileSize: 2.054 MiB

Command output

##############################################################################
##############################################################################
###
### Running command:
###
###   /home/biocbuild/bbs-3.13-bioc/R/bin/R CMD build --keep-empty-dirs --no-resave-data FRASER
###
##############################################################################
##############################################################################


* checking for file ‘FRASER/DESCRIPTION’ ... OK
* preparing ‘FRASER’:
* checking DESCRIPTION meta-information ... OK
* cleaning src
* installing the package to build vignettes
* creating vignettes ... OK
* cleaning src
* checking for LF line-endings in source and make files and shell scripts
* checking for empty or unneeded directories
* building ‘FRASER_1.4.0.tar.gz’