Back to Multiple platform build/check report for BioC 3.13
ABCDE[F]GHIJKLMNOPQRSTUVWXYZ

This page was generated on 2021-07-23 15:06:03 -0400 (Fri, 23 Jul 2021).

INSTALL results for FCBF on tokay2

To the developers/maintainers of the FCBF package:
- Please allow up to 24 hours (and sometimes 48 hours) for your latest push to git@git.bioconductor.org:packages/FCBF.git to
reflect on this report. See How and When does the builder pull? When will my changes propagate? here for more information.
- Make sure to use the following settings in order to reproduce any error or warning you see on this page.

raw results

Package 620/2041HostnameOS / ArchINSTALLBUILDCHECKBUILD BIN
FCBF 2.0.0  (landing page)
Tiago Lubiana
Snapshot Date: 2021-07-22 04:50:13 -0400 (Thu, 22 Jul 2021)
URL: https://git.bioconductor.org/packages/FCBF
Branch: RELEASE_3_13
Last Commit: 3eb0809
Last Changed Date: 2021-05-19 12:38:33 -0400 (Wed, 19 May 2021)
nebbiolo1Linux (Ubuntu 20.04.2 LTS) / x86_64  OK    OK    OK  UNNEEDED, same version is already published
tokay2Windows Server 2012 R2 Standard / x64  OK    OK    OK    OK  UNNEEDED, same version is already published
machv2macOS 10.14.6 Mojave / x86_64  OK    OK    OK    OK  UNNEEDED, same version is already published

Summary

Package: FCBF
Version: 2.0.0
Command: C:\cygwin\bin\curl.exe -O http://155.52.207.165/BBS/3.13/bioc/src/contrib/FCBF_2.0.0.tar.gz && rm -rf FCBF.buildbin-libdir && mkdir FCBF.buildbin-libdir && C:\Users\biocbuild\bbs-3.13-bioc\R\bin\R.exe CMD INSTALL --merge-multiarch --build --library=FCBF.buildbin-libdir FCBF_2.0.0.tar.gz && C:\Users\biocbuild\bbs-3.13-bioc\R\bin\R.exe CMD INSTALL FCBF_2.0.0.zip && rm FCBF_2.0.0.tar.gz FCBF_2.0.0.zip
StartedAt: 2021-07-22 09:05:04 -0400 (Thu, 22 Jul 2021)
EndedAt: 2021-07-22 09:06:01 -0400 (Thu, 22 Jul 2021)
EllapsedTime: 56.9 seconds
RetCode: 0
Status:   OK  

Command output

##############################################################################
##############################################################################
###
### Running command:
###
###   C:\cygwin\bin\curl.exe -O http://155.52.207.165/BBS/3.13/bioc/src/contrib/FCBF_2.0.0.tar.gz && rm -rf FCBF.buildbin-libdir && mkdir FCBF.buildbin-libdir && C:\Users\biocbuild\bbs-3.13-bioc\R\bin\R.exe CMD INSTALL --merge-multiarch --build --library=FCBF.buildbin-libdir FCBF_2.0.0.tar.gz && C:\Users\biocbuild\bbs-3.13-bioc\R\bin\R.exe CMD INSTALL FCBF_2.0.0.zip && rm FCBF_2.0.0.tar.gz FCBF_2.0.0.zip
###
##############################################################################
##############################################################################


  % Total    % Received % Xferd  Average Speed   Time    Time     Time  Current
                                 Dload  Upload   Total   Spent    Left  Speed

  0     0    0     0    0     0      0      0 --:--:-- --:--:-- --:--:--     0
 83 2670k   83 2233k    0     0  2974k      0 --:--:-- --:--:-- --:--:-- 2973k
100 2670k  100 2670k    0     0  3155k      0 --:--:-- --:--:-- --:--:-- 3156k

install for i386

* installing *source* package 'FCBF' ...
** using staged installation
** R
** data
** byte-compile and prepare package for lazy loading
** help
*** installing help indices
  converting help for package 'FCBF'
    finding HTML links ... done
    FCBF-deprecated                         html  
    IG-deprecated                           html  
    SU-deprecated                           html  
    discretize_exprs                        html  
    discretize_exprs_supervised             html  
    discretize_gene_supervised              html  
    fcbf                                    html  
    get_IG_for_vector_pair                  html  
    get_SU_for_vector_pair                  html  
    get_ig_for_feature_table_and_vector     html  
    get_su-deprecated                       html  
    get_su_for_feature_table_and_vector     html  
    scDengue                                html  
    su_plot                                 html  
** building package indices
** installing vignettes
** testing if installed package can be loaded from temporary location
** testing if installed package can be loaded from final location
** testing if installed package keeps a record of temporary installation path

install for x64

* installing *source* package 'FCBF' ...
** testing if installed package can be loaded
* MD5 sums
packaged installation of 'FCBF' as FCBF_2.0.0.zip
* DONE (FCBF)
* installing to library 'C:/Users/biocbuild/bbs-3.13-bioc/R/library'
package 'FCBF' successfully unpacked and MD5 sums checked