Back to Multiple platform build/check report for BioC 3.13
ABCD[E]FGHIJKLMNOPQRSTUVWXYZ

This page was generated on 2021-09-13 15:06:56 -0400 (Mon, 13 Sep 2021).

BUILD results for ExpressionAtlas on machv2

To the developers/maintainers of the ExpressionAtlas package:
- Please allow up to 24 hours (and sometimes 48 hours) for your latest push to git@git.bioconductor.org:packages/ExpressionAtlas.git to
reflect on this report. See How and When does the builder pull? When will my changes propagate? here for more information.
- Make sure to use the following settings in order to reproduce any error or warning you see on this page.

raw results

Package 610/2041HostnameOS / ArchINSTALLBUILDCHECKBUILD BIN
ExpressionAtlas 1.20.0  (landing page)
Suhaib Mohammed
Snapshot Date: 2021-09-12 04:50:10 -0400 (Sun, 12 Sep 2021)
git_url: https://git.bioconductor.org/packages/ExpressionAtlas
git_branch: RELEASE_3_13
git_last_commit: d1a0181
git_last_commit_date: 2021-05-19 12:18:05 -0400 (Wed, 19 May 2021)
nebbiolo1Linux (Ubuntu 20.04.2 LTS) / x86_64  OK    OK    ERROR  
tokay2Windows Server 2012 R2 Standard / x64  OK    OK    ERROR    OK  
machv2macOS 10.14.6 Mojave / x86_64  OK    OK    ERROR    OK  

Summary

Package: ExpressionAtlas
Version: 1.20.0
Command: /Library/Frameworks/R.framework/Versions/Current/Resources/bin/R CMD build --keep-empty-dirs --no-resave-data ExpressionAtlas
StartedAt: 2021-09-12 11:57:08 -0400 (Sun, 12 Sep 2021)
EndedAt: 2021-09-12 11:58:07 -0400 (Sun, 12 Sep 2021)
EllapsedTime: 59.6 seconds
RetCode: 0
Status:   OK  
PackageFile: ExpressionAtlas_1.20.0.tar.gz
PackageFileSize: 337.5 KiB

Command output

##############################################################################
##############################################################################
###
### Running command:
###
###   /Library/Frameworks/R.framework/Versions/Current/Resources/bin/R CMD build --keep-empty-dirs --no-resave-data ExpressionAtlas
###
##############################################################################
##############################################################################


* checking for file ‘ExpressionAtlas/DESCRIPTION’ ... OK
* preparing ‘ExpressionAtlas’:
* checking DESCRIPTION meta-information ... OK
* installing the package to build vignettes
* creating vignettes ... OK
* checking for LF line-endings in source and make files and shell scripts
* checking for empty or unneeded directories
* looking to see if a ‘data/datalist’ file should be added
* building ‘ExpressionAtlas_1.20.0.tar.gz’