Back to Multiple platform build/check report for BioC 3.13
ABCD[E]FGHIJKLMNOPQRSTUVWXYZ

This page was generated on 2021-09-22 15:04:50 -0400 (Wed, 22 Sep 2021).

BUILD results for ExploreModelMatrix on nebbiolo1

To the developers/maintainers of the ExploreModelMatrix package:
- Please allow up to 24 hours (and sometimes 48 hours) for your latest push to git@git.bioconductor.org:packages/ExploreModelMatrix.git to
reflect on this report. See How and When does the builder pull? When will my changes propagate? here for more information.
- Make sure to use the following settings in order to reproduce any error or warning you see on this page.

raw results

Package 609/2041HostnameOS / ArchINSTALLBUILDCHECKBUILD BIN
ExploreModelMatrix 1.4.0  (landing page)
Charlotte Soneson
Snapshot Date: 2021-09-21 04:50:12 -0400 (Tue, 21 Sep 2021)
git_url: https://git.bioconductor.org/packages/ExploreModelMatrix
git_branch: RELEASE_3_13
git_last_commit: 72ccfe4
git_last_commit_date: 2021-05-19 12:51:09 -0400 (Wed, 19 May 2021)
nebbiolo1Linux (Ubuntu 20.04.2 LTS) / x86_64  OK    OK    OK  UNNEEDED, same version is already published
tokay2Windows Server 2012 R2 Standard / x64  OK    OK    OK    OK  UNNEEDED, same version is already published
machv2macOS 10.14.6 Mojave / x86_64  OK    OK    OK    OK  UNNEEDED, same version is already published

Summary

Package: ExploreModelMatrix
Version: 1.4.0
Command: /home/biocbuild/bbs-3.13-bioc/R/bin/R CMD build --keep-empty-dirs --no-resave-data ExploreModelMatrix
StartedAt: 2021-09-21 07:14:38 -0400 (Tue, 21 Sep 2021)
EndedAt: 2021-09-21 07:14:52 -0400 (Tue, 21 Sep 2021)
EllapsedTime: 13.9 seconds
RetCode: 0
Status:   OK  
PackageFile: ExploreModelMatrix_1.4.0.tar.gz
PackageFileSize: 1.898 MiB

Command output

##############################################################################
##############################################################################
###
### Running command:
###
###   /home/biocbuild/bbs-3.13-bioc/R/bin/R CMD build --keep-empty-dirs --no-resave-data ExploreModelMatrix
###
##############################################################################
##############################################################################


* checking for file ‘ExploreModelMatrix/DESCRIPTION’ ... OK
* preparing ‘ExploreModelMatrix’:
* checking DESCRIPTION meta-information ... OK
* installing the package to build vignettes
* creating vignettes ... OK
* checking for LF line-endings in source and make files and shell scripts
* checking for empty or unneeded directories
* building ‘ExploreModelMatrix_1.4.0.tar.gz’