Back to Multiple platform build/check report for BioC 3.13
ABCD[E]FGHIJKLMNOPQRSTUVWXYZ

This page was generated on 2021-09-22 15:05:43 -0400 (Wed, 22 Sep 2021).

INSTALL results for ExperimentSubset on machv2

To the developers/maintainers of the ExperimentSubset package:
- Please allow up to 24 hours (and sometimes 48 hours) for your latest push to git@git.bioconductor.org:packages/ExperimentSubset.git to
reflect on this report. See How and When does the builder pull? When will my changes propagate? here for more information.
- Make sure to use the following settings in order to reproduce any error or warning you see on this page.

raw results

Package 608/2041HostnameOS / ArchINSTALLBUILDCHECKBUILD BIN
ExperimentSubset 1.2.0  (landing page)
Irzam Sarfraz
Snapshot Date: 2021-09-21 04:50:12 -0400 (Tue, 21 Sep 2021)
git_url: https://git.bioconductor.org/packages/ExperimentSubset
git_branch: RELEASE_3_13
git_last_commit: f9c08bb
git_last_commit_date: 2021-05-19 12:56:45 -0400 (Wed, 19 May 2021)
nebbiolo1Linux (Ubuntu 20.04.2 LTS) / x86_64  OK    OK    OK  UNNEEDED, same version is already published
tokay2Windows Server 2012 R2 Standard / x64  OK    OK    OK    OK  UNNEEDED, same version is already published
machv2macOS 10.14.6 Mojave / x86_64  OK    OK    OK    OK  UNNEEDED, same version is already published

Summary

Package: ExperimentSubset
Version: 1.2.0
Command: /Library/Frameworks/R.framework/Versions/Current/Resources/bin/R CMD INSTALL ExperimentSubset
StartedAt: 2021-09-21 09:49:52 -0400 (Tue, 21 Sep 2021)
EndedAt: 2021-09-21 09:50:45 -0400 (Tue, 21 Sep 2021)
EllapsedTime: 53.2 seconds
RetCode: 0
Status:   OK  

Command output

##############################################################################
##############################################################################
###
### Running command:
###
###   /Library/Frameworks/R.framework/Versions/Current/Resources/bin/R CMD INSTALL ExperimentSubset
###
##############################################################################
##############################################################################


* installing to library ‘/Library/Frameworks/R.framework/Versions/4.1/Resources/library’
* installing *source* package ‘ExperimentSubset’ ...
** using staged installation
** R
** inst
** byte-compile and prepare package for lazy loading
Warning in makePrototypeFromClassDef(properties, ClassDef, immediate, where) :
  in constructing the prototype for class “SubsetSummarizedExperiment”, slots in prototype and not in class: listData, elementType
Warning in makePrototypeFromClassDef(properties, ClassDef, immediate, where) :
  in constructing the prototype for class “SubsetRangedSummarizedExperiment”, slots in prototype and not in class: listData, elementType
Warning in makePrototypeFromClassDef(properties, ClassDef, immediate, where) :
  in constructing the prototype for class “SubsetSingleCellExperiment”, slots in prototype and not in class: listData, elementType
Warning in makePrototypeFromClassDef(properties, ClassDef, immediate, where) :
  in constructing the prototype for class “SubsetTreeSummarizedExperiment”, slots in prototype and not in class: listData, elementType
Warning in makePrototypeFromClassDef(properties, ClassDef, immediate, where) :
  in constructing the prototype for class “SubsetSpatialExperiment”, slots in prototype and not in class: listData, elementType
** help
*** installing help indices
** building package indices
** installing vignettes
** testing if installed package can be loaded from temporary location
** testing if installed package can be loaded from final location
** testing if installed package keeps a record of temporary installation path
* DONE (ExperimentSubset)