Back to Multiple platform build/check report for BioC 3.13
ABCD[E]FGHIJKLMNOPQRSTUVWXYZ

This page was generated on 2021-09-20 15:05:41 -0400 (Mon, 20 Sep 2021).

BUILD results for ExperimentSubset on machv2

To the developers/maintainers of the ExperimentSubset package:
- Please allow up to 24 hours (and sometimes 48 hours) for your latest push to git@git.bioconductor.org:packages/ExperimentSubset.git to
reflect on this report. See How and When does the builder pull? When will my changes propagate? here for more information.
- Make sure to use the following settings in order to reproduce any error or warning you see on this page.

raw results

Package 608/2041HostnameOS / ArchINSTALLBUILDCHECKBUILD BIN
ExperimentSubset 1.2.0  (landing page)
Irzam Sarfraz
Snapshot Date: 2021-09-19 04:50:10 -0400 (Sun, 19 Sep 2021)
git_url: https://git.bioconductor.org/packages/ExperimentSubset
git_branch: RELEASE_3_13
git_last_commit: f9c08bb
git_last_commit_date: 2021-05-19 12:56:45 -0400 (Wed, 19 May 2021)
nebbiolo1Linux (Ubuntu 20.04.2 LTS) / x86_64  OK    OK    OK  UNNEEDED, same version is already published
tokay2Windows Server 2012 R2 Standard / x64  OK    OK    OK    OK  UNNEEDED, same version is already published
machv2macOS 10.14.6 Mojave / x86_64  OK    OK    OK    OK  UNNEEDED, same version is already published

Summary

Package: ExperimentSubset
Version: 1.2.0
Command: /Library/Frameworks/R.framework/Versions/Current/Resources/bin/R CMD build --keep-empty-dirs --no-resave-data ExperimentSubset
StartedAt: 2021-09-19 11:56:57 -0400 (Sun, 19 Sep 2021)
EndedAt: 2021-09-19 11:57:55 -0400 (Sun, 19 Sep 2021)
EllapsedTime: 58.4 seconds
RetCode: 0
Status:   OK  
PackageFile: ExperimentSubset_1.2.0.tar.gz
PackageFileSize: 307 KiB

Command output

##############################################################################
##############################################################################
###
### Running command:
###
###   /Library/Frameworks/R.framework/Versions/Current/Resources/bin/R CMD build --keep-empty-dirs --no-resave-data ExperimentSubset
###
##############################################################################
##############################################################################


* checking for file ‘ExperimentSubset/DESCRIPTION’ ... OK
* preparing ‘ExperimentSubset’:
* checking DESCRIPTION meta-information ... OK
* installing the package to build vignettes
* creating vignettes ... OK
* checking for LF line-endings in source and make files and shell scripts
* checking for empty or unneeded directories
Omitted ‘LazyData’ from DESCRIPTION
* building ‘ExperimentSubset_1.2.0.tar.gz’