Back to Multiple platform build/check report for BioC 3.13
ABCD[E]FGHIJKLMNOPQRSTUVWXYZ

This page was generated on 2021-09-24 15:06:09 -0400 (Fri, 24 Sep 2021).

INSTALL results for ExperimentHubData on tokay2

To the developers/maintainers of the ExperimentHubData package:
- Please allow up to 24 hours (and sometimes 48 hours) for your latest push to git@git.bioconductor.org:packages/ExperimentHubData.git to
reflect on this report. See How and When does the builder pull? When will my changes propagate? here for more information.
- Make sure to use the following settings in order to reproduce any error or warning you see on this page.

raw results

Package 607/2041HostnameOS / ArchINSTALLBUILDCHECKBUILD BIN
ExperimentHubData 1.18.0  (landing page)
Bioconductor Package Maintainer
Snapshot Date: 2021-09-23 04:50:12 -0400 (Thu, 23 Sep 2021)
git_url: https://git.bioconductor.org/packages/ExperimentHubData
git_branch: RELEASE_3_13
git_last_commit: 2706bf5
git_last_commit_date: 2021-05-19 12:18:21 -0400 (Wed, 19 May 2021)
nebbiolo1Linux (Ubuntu 20.04.2 LTS) / x86_64  OK    OK    OK  UNNEEDED, same version is already published
tokay2Windows Server 2012 R2 Standard / x64  OK    OK    OK    OK  UNNEEDED, same version is already published
machv2macOS 10.14.6 Mojave / x86_64  OK    OK    OK    OK  UNNEEDED, same version is already published

Summary

Package: ExperimentHubData
Version: 1.18.0
Command: C:\cygwin\bin\curl.exe -O http://155.52.207.165/BBS/3.13/bioc/src/contrib/ExperimentHubData_1.18.0.tar.gz && rm -rf ExperimentHubData.buildbin-libdir && mkdir ExperimentHubData.buildbin-libdir && C:\Users\biocbuild\bbs-3.13-bioc\R\bin\R.exe CMD INSTALL --merge-multiarch --build --library=ExperimentHubData.buildbin-libdir ExperimentHubData_1.18.0.tar.gz && C:\Users\biocbuild\bbs-3.13-bioc\R\bin\R.exe CMD INSTALL ExperimentHubData_1.18.0.zip && rm ExperimentHubData_1.18.0.tar.gz ExperimentHubData_1.18.0.zip
StartedAt: 2021-09-23 10:03:42 -0400 (Thu, 23 Sep 2021)
EndedAt: 2021-09-23 10:05:05 -0400 (Thu, 23 Sep 2021)
EllapsedTime: 82.5 seconds
RetCode: 0
Status:   OK  

Command output

##############################################################################
##############################################################################
###
### Running command:
###
###   C:\cygwin\bin\curl.exe -O http://155.52.207.165/BBS/3.13/bioc/src/contrib/ExperimentHubData_1.18.0.tar.gz && rm -rf ExperimentHubData.buildbin-libdir && mkdir ExperimentHubData.buildbin-libdir && C:\Users\biocbuild\bbs-3.13-bioc\R\bin\R.exe CMD INSTALL --merge-multiarch --build --library=ExperimentHubData.buildbin-libdir ExperimentHubData_1.18.0.tar.gz && C:\Users\biocbuild\bbs-3.13-bioc\R\bin\R.exe CMD INSTALL ExperimentHubData_1.18.0.zip && rm ExperimentHubData_1.18.0.tar.gz ExperimentHubData_1.18.0.zip
###
##############################################################################
##############################################################################


  % Total    % Received % Xferd  Average Speed   Time    Time     Time  Current
                                 Dload  Upload   Total   Spent    Left  Speed

  0     0    0     0    0     0      0      0 --:--:-- --:--:-- --:--:--     0
100 14771  100 14771    0     0   123k      0 --:--:-- --:--:-- --:--:--  125k

install for i386

* installing *source* package 'ExperimentHubData' ...
** using staged installation
** R
** inst
** byte-compile and prepare package for lazy loading
** help
*** installing help indices
  converting help for package 'ExperimentHubData'
    finding HTML links ... done
    ExperimentHubMetadata-class             html  
    addResources                            html  
    makeExperimentHubMetadata               html  
** building package indices
** installing vignettes
** testing if installed package can be loaded from temporary location
** testing if installed package can be loaded from final location
** testing if installed package keeps a record of temporary installation path

install for x64

* installing *source* package 'ExperimentHubData' ...
** testing if installed package can be loaded
* MD5 sums
packaged installation of 'ExperimentHubData' as ExperimentHubData_1.18.0.zip
* DONE (ExperimentHubData)
* installing to library 'C:/Users/biocbuild/bbs-3.13-bioc/R/library'
package 'ExperimentHubData' successfully unpacked and MD5 sums checked