Back to Multiple platform build/check report for BioC 3.13
ABCD[E]FGHIJKLMNOPQRSTUVWXYZ

This page was generated on 2021-09-20 15:05:12 -0400 (Mon, 20 Sep 2021).

BUILD results for ExperimentHubData on tokay2

To the developers/maintainers of the ExperimentHubData package:
- Please allow up to 24 hours (and sometimes 48 hours) for your latest push to git@git.bioconductor.org:packages/ExperimentHubData.git to
reflect on this report. See How and When does the builder pull? When will my changes propagate? here for more information.
- Make sure to use the following settings in order to reproduce any error or warning you see on this page.

raw results

Package 607/2041HostnameOS / ArchINSTALLBUILDCHECKBUILD BIN
ExperimentHubData 1.18.0  (landing page)
Bioconductor Package Maintainer
Snapshot Date: 2021-09-19 04:50:10 -0400 (Sun, 19 Sep 2021)
git_url: https://git.bioconductor.org/packages/ExperimentHubData
git_branch: RELEASE_3_13
git_last_commit: 2706bf5
git_last_commit_date: 2021-05-19 12:18:21 -0400 (Wed, 19 May 2021)
nebbiolo1Linux (Ubuntu 20.04.2 LTS) / x86_64  OK    OK    OK  UNNEEDED, same version is already published
tokay2Windows Server 2012 R2 Standard / x64  OK    OK    OK    OK  UNNEEDED, same version is already published
machv2macOS 10.14.6 Mojave / x86_64  OK    OK    OK    OK  UNNEEDED, same version is already published

Summary

Package: ExperimentHubData
Version: 1.18.0
Command: chmod a+r ExperimentHubData -R && C:\Users\biocbuild\bbs-3.13-bioc\R\bin\R.exe CMD build --keep-empty-dirs --no-resave-data ExperimentHubData
StartedAt: 2021-09-19 13:32:34 -0400 (Sun, 19 Sep 2021)
EndedAt: 2021-09-19 13:33:27 -0400 (Sun, 19 Sep 2021)
EllapsedTime: 53.2 seconds
RetCode: 0
Status:   OK  
PackageFile: ExperimentHubData_1.18.0.tar.gz
PackageFileSize: 227.4 KiB

Command output

##############################################################################
##############################################################################
###
### Running command:
###
###   chmod a+r ExperimentHubData -R && C:\Users\biocbuild\bbs-3.13-bioc\R\bin\R.exe CMD build --keep-empty-dirs --no-resave-data ExperimentHubData
###
##############################################################################
##############################################################################


* checking for file 'ExperimentHubData/DESCRIPTION' ... OK
* preparing 'ExperimentHubData':
* checking DESCRIPTION meta-information ... OK
* installing the package to build vignettes
* creating vignettes ... OK
* checking for LF line-endings in source and make files and shell scripts
* checking for empty or unneeded directories
* building 'ExperimentHubData_1.18.0.tar.gz'