Back to Multiple platform build/check report for BioC 3.13
ABCD[E]FGHIJKLMNOPQRSTUVWXYZ

This page was generated on 2021-09-17 15:06:36 -0400 (Fri, 17 Sep 2021).

BUILD BIN results for ExperimentHubData on machv2

To the developers/maintainers of the ExperimentHubData package:
- Please allow up to 24 hours (and sometimes 48 hours) for your latest push to git@git.bioconductor.org:packages/ExperimentHubData.git to
reflect on this report. See How and When does the builder pull? When will my changes propagate? here for more information.
- Make sure to use the following settings in order to reproduce any error or warning you see on this page.

raw results

Package 607/2041HostnameOS / ArchINSTALLBUILDCHECKBUILD BIN
ExperimentHubData 1.18.0  (landing page)
Bioconductor Package Maintainer
Snapshot Date: 2021-09-16 04:50:11 -0400 (Thu, 16 Sep 2021)
git_url: https://git.bioconductor.org/packages/ExperimentHubData
git_branch: RELEASE_3_13
git_last_commit: 2706bf5
git_last_commit_date: 2021-05-19 12:18:21 -0400 (Wed, 19 May 2021)
nebbiolo1Linux (Ubuntu 20.04.2 LTS) / x86_64  OK    OK    OK  UNNEEDED, same version is already published
tokay2Windows Server 2012 R2 Standard / x64  OK    OK    OK    OK  UNNEEDED, same version is already published
machv2macOS 10.14.6 Mojave / x86_64  OK    OK    OK    OK  UNNEEDED, same version is already published

Summary

Package: ExperimentHubData
Version: 1.18.0
Command: rm -rf ExperimentHubData.buildbin-libdir && mkdir ExperimentHubData.buildbin-libdir && /Users/biocbuild/BBS/utils/build-universal.sh ExperimentHubData_1.18.0.tar.gz /Library/Frameworks/R.framework/Versions/Current/Resources/bin/R ExperimentHubData.buildbin-libdir
StartedAt: 2021-09-17 02:29:17 -0400 (Fri, 17 Sep 2021)
EndedAt: 2021-09-17 02:30:23 -0400 (Fri, 17 Sep 2021)
EllapsedTime: 65.4 seconds
RetCode: 0
Status:   OK  
PackageFile: ExperimentHubData_1.18.0.tgz
PackageFileSize: 518.4 KiB

Command output

##############################################################################
##############################################################################
###
### Running command:
###
###   rm -rf ExperimentHubData.buildbin-libdir && mkdir ExperimentHubData.buildbin-libdir && /Users/biocbuild/BBS/utils/build-universal.sh ExperimentHubData_1.18.0.tar.gz /Library/Frameworks/R.framework/Versions/Current/Resources/bin/R ExperimentHubData.buildbin-libdir
###
##############################################################################
##############################################################################


>>>>>>> 
>>>>>>> INSTALLATION WITH 'R CMD INSTALL --preclean --no-multiarch --library=ExperimentHubData.buildbin-libdir ExperimentHubData_1.18.0.tar.gz'
>>>>>>> 

* installing *source* package ‘ExperimentHubData’ ...
** using staged installation
** R
** inst
** byte-compile and prepare package for lazy loading
** help
*** installing help indices
** building package indices
** installing vignettes
** testing if installed package can be loaded from temporary location
** testing if installed package can be loaded from final location
** testing if installed package keeps a record of temporary installation path
* DONE (ExperimentHubData)