Back to Multiple platform build/check report for BioC 3.13
ABCD[E]FGHIJKLMNOPQRSTUVWXYZ

This page was generated on 2021-09-20 15:05:12 -0400 (Mon, 20 Sep 2021).

INSTALL results for ExperimentHub on tokay2

To the developers/maintainers of the ExperimentHub package:
- Please allow up to 24 hours (and sometimes 48 hours) for your latest push to git@git.bioconductor.org:packages/ExperimentHub.git to
reflect on this report. See How and When does the builder pull? When will my changes propagate? here for more information.
- Make sure to use the following settings in order to reproduce any error or warning you see on this page.

raw results

Package 606/2041HostnameOS / ArchINSTALLBUILDCHECKBUILD BIN
ExperimentHub 2.0.0  (landing page)
Bioconductor Package Maintainer
Snapshot Date: 2021-09-19 04:50:10 -0400 (Sun, 19 Sep 2021)
git_url: https://git.bioconductor.org/packages/ExperimentHub
git_branch: RELEASE_3_13
git_last_commit: a899441
git_last_commit_date: 2021-05-19 12:18:19 -0400 (Wed, 19 May 2021)
nebbiolo1Linux (Ubuntu 20.04.2 LTS) / x86_64  OK    OK    OK  UNNEEDED, same version is already published
tokay2Windows Server 2012 R2 Standard / x64  OK    OK    OK    OK  UNNEEDED, same version is already published
machv2macOS 10.14.6 Mojave / x86_64  OK    OK    OK    OK  UNNEEDED, same version is already published

Summary

Package: ExperimentHub
Version: 2.0.0
Command: C:\cygwin\bin\curl.exe -O http://155.52.207.165/BBS/3.13/bioc/src/contrib/ExperimentHub_2.0.0.tar.gz && rm -rf ExperimentHub.buildbin-libdir && mkdir ExperimentHub.buildbin-libdir && C:\Users\biocbuild\bbs-3.13-bioc\R\bin\R.exe CMD INSTALL --merge-multiarch --build --library=ExperimentHub.buildbin-libdir ExperimentHub_2.0.0.tar.gz && C:\Users\biocbuild\bbs-3.13-bioc\R\bin\R.exe CMD INSTALL ExperimentHub_2.0.0.zip && rm ExperimentHub_2.0.0.tar.gz ExperimentHub_2.0.0.zip
StartedAt: 2021-09-19 08:09:50 -0400 (Sun, 19 Sep 2021)
EndedAt: 2021-09-19 08:10:42 -0400 (Sun, 19 Sep 2021)
EllapsedTime: 52.2 seconds
RetCode: 0
Status:   OK  

Command output

##############################################################################
##############################################################################
###
### Running command:
###
###   C:\cygwin\bin\curl.exe -O http://155.52.207.165/BBS/3.13/bioc/src/contrib/ExperimentHub_2.0.0.tar.gz && rm -rf ExperimentHub.buildbin-libdir && mkdir ExperimentHub.buildbin-libdir && C:\Users\biocbuild\bbs-3.13-bioc\R\bin\R.exe CMD INSTALL --merge-multiarch --build --library=ExperimentHub.buildbin-libdir ExperimentHub_2.0.0.tar.gz && C:\Users\biocbuild\bbs-3.13-bioc\R\bin\R.exe CMD INSTALL ExperimentHub_2.0.0.zip && rm ExperimentHub_2.0.0.tar.gz ExperimentHub_2.0.0.zip
###
##############################################################################
##############################################################################


  % Total    % Received % Xferd  Average Speed   Time    Time     Time  Current
                                 Dload  Upload   Total   Spent    Left  Speed

  0     0    0     0    0     0      0      0 --:--:-- --:--:-- --:--:--     0
100 14053  100 14053    0     0  35099      0 --:--:-- --:--:-- --:--:-- 35220

install for i386

* installing *source* package 'ExperimentHub' ...
** using staged installation
** R
** byte-compile and prepare package for lazy loading
** help
*** installing help indices
  converting help for package 'ExperimentHub'
    finding HTML links ... done
    ExperimentHub-class                     html  
    getExperimentHubOption                  html  
    listResources                           html  
** building package indices
** installing vignettes
** testing if installed package can be loaded from temporary location
** testing if installed package can be loaded from final location
** testing if installed package keeps a record of temporary installation path

install for x64

* installing *source* package 'ExperimentHub' ...
** testing if installed package can be loaded
* MD5 sums
packaged installation of 'ExperimentHub' as ExperimentHub_2.0.0.zip
* DONE (ExperimentHub)
* installing to library 'C:/Users/biocbuild/bbs-3.13-bioc/R/library'
package 'ExperimentHub' successfully unpacked and MD5 sums checked