Back to Multiple platform build/check report for BioC 3.13
ABCD[E]FGHIJKLMNOPQRSTUVWXYZ

This page was generated on 2021-08-02 15:05:11 -0400 (Mon, 02 Aug 2021).

BUILD BIN results for EventPointer on tokay2

To the developers/maintainers of the EventPointer package:
- Please allow up to 24 hours (and sometimes 48 hours) for your latest push to git@git.bioconductor.org:packages/EventPointer.git to
reflect on this report. See How and When does the builder pull? When will my changes propagate? here for more information.
- Make sure to use the following settings in order to reproduce any error or warning you see on this page.

raw results

Package 600/2041HostnameOS / ArchINSTALLBUILDCHECKBUILD BIN
EventPointer 3.0.0  (landing page)
Juan A. Ferrer-Bonsoms
Snapshot Date: 2021-08-01 04:50:10 -0400 (Sun, 01 Aug 2021)
URL: https://git.bioconductor.org/packages/EventPointer
Branch: RELEASE_3_13
Last Commit: e4f2123
Last Changed Date: 2021-05-19 12:26:09 -0400 (Wed, 19 May 2021)
nebbiolo1Linux (Ubuntu 20.04.2 LTS) / x86_64  OK    OK    OK  UNNEEDED, same version is already published
tokay2Windows Server 2012 R2 Standard / x64  OK    OK    OK    OK  UNNEEDED, same version is already published
machv2macOS 10.14.6 Mojave / x86_64  OK    OK    OK    OK  UNNEEDED, same version is already published

Summary

Package: EventPointer
Version: 3.0.0
Command: rm -rf EventPointer.buildbin-libdir && mkdir EventPointer.buildbin-libdir && C:\Users\biocbuild\bbs-3.13-bioc\R\bin\R.exe CMD INSTALL --merge-multiarch --build --library=EventPointer.buildbin-libdir EventPointer_3.0.0.tar.gz
StartedAt: 2021-08-02 09:19:58 -0400 (Mon, 02 Aug 2021)
EndedAt: 2021-08-02 09:22:39 -0400 (Mon, 02 Aug 2021)
EllapsedTime: 161.7 seconds
RetCode: 0
Status:   OK  
PackageFile: EventPointer_3.0.0.zip
PackageFileSize: 1.372 MiB

Command output

##############################################################################
##############################################################################
###
### Running command:
###
###   rm -rf EventPointer.buildbin-libdir && mkdir EventPointer.buildbin-libdir && C:\Users\biocbuild\bbs-3.13-bioc\R\bin\R.exe CMD INSTALL --merge-multiarch --build --library=EventPointer.buildbin-libdir EventPointer_3.0.0.tar.gz
###
##############################################################################
##############################################################################



install for i386

* installing *source* package 'EventPointer' ...
** using staged installation
** libs
"C:/rtools40/mingw32/bin/"gcc  -I"C:/Users/BIOCBU~1/BBS-3~1.13-/R/include" -DNDEBUG     -I"C:/extsoft/include"     -O2 -Wall  -std=gnu99 -mfpmath=sse -msse2 -mstackrealign  -c dgl.c -o dgl.o
"C:/rtools40/mingw32/bin/"gcc  -I"C:/Users/BIOCBU~1/BBS-3~1.13-/R/include" -DNDEBUG     -I"C:/extsoft/include"     -O2 -Wall  -std=gnu99 -mfpmath=sse -msse2 -mstackrealign  -c params.c -o params.o
"C:/rtools40/mingw32/bin/"gcc  -I"C:/Users/BIOCBU~1/BBS-3~1.13-/R/include" -DNDEBUG     -I"C:/extsoft/include"     -O2 -Wall  -std=gnu99 -mfpmath=sse -msse2 -mstackrealign  -c pgl.c -o pgl.o
"C:/rtools40/mingw32/bin/"gcc  -I"C:/Users/BIOCBU~1/BBS-3~1.13-/R/include" -DNDEBUG     -I"C:/extsoft/include"     -O2 -Wall  -std=gnu99 -mfpmath=sse -msse2 -mstackrealign  -c qdgl.c -o qdgl.o
"C:/rtools40/mingw32/bin/"gcc  -I"C:/Users/BIOCBU~1/BBS-3~1.13-/R/include" -DNDEBUG     -I"C:/extsoft/include"     -O2 -Wall  -std=gnu99 -mfpmath=sse -msse2 -mstackrealign  -c qgl.c -o qgl.o
"C:/rtools40/mingw32/bin/"gcc  -I"C:/Users/BIOCBU~1/BBS-3~1.13-/R/include" -DNDEBUG     -I"C:/extsoft/include"     -O2 -Wall  -std=gnu99 -mfpmath=sse -msse2 -mstackrealign  -c rgl.c -o rgl.o
C:/rtools40/mingw32/bin/gcc -shared -s -static-libgcc -o EventPointer.dll tmp.def dgl.o params.o pgl.o qdgl.o qgl.o rgl.o -LC:/extsoft/lib/i386 -LC:/extsoft/lib -LC:/Users/BIOCBU~1/BBS-3~1.13-/R/bin/i386 -lR
installing to C:/Users/biocbuild/bbs-3.13-bioc/meat/EventPointer.buildbin-libdir/00LOCK-EventPointer/00new/EventPointer/libs/i386
** R
** data
*** moving datasets to lazyload DB
** inst
** byte-compile and prepare package for lazy loading
** help
*** installing help indices
  converting help for package 'EventPointer'
    finding HTML links ... done
    AllEvents_RNASeq                        html  
    AllEvents_RNASeq_MP                     html  
    ArrayDatamultipath                      html  
    ArraysData                              html  
    CDFfromGTF                              html  
    CDFfromGTF_Multipath                    html  
    CreateExSmatrix                         html  
    EventDetection                          html  
    EventDetectionMultipath                 html  
    EventDetection_transcriptome            html  
    EventPointer                            html  
    EventPointer_Bootstraps                 html  
    EventPointer_IGV                        html  
    EventPointer_RNASeq                     html  
    EventPointer_RNASeq_IGV                 html  
    EventPointer_RNASeq_TranRef             html  
    EventPointer_RNASeq_TranRef_IGV         html  
    EventXtrans                             html  
    FindPrimers                             html  
    Fit                                     html  
    GetPSI_FromTranRef                      html  
    InternalFunctions                       html  
    MyPrimers                               html  
    MyPrimers_taqman                        html  
    PSI_Statistic                           html  
    PSIss                                   html  
    PrepareBam_EP                           html  
    Protein_Domain_Enrichment               html  
    ResulTable                              html  
    SF_Prediction                           html  
    SG_RNASeq                               html  
    TxD                                     html  
    getbootstrapdata                        html  
** building package indices
** installing vignettes
** testing if installed package can be loaded from temporary location
** testing if installed package can be loaded from final location
** testing if installed package keeps a record of temporary installation path

install for x64

* installing *source* package 'EventPointer' ...
** libs
"C:/rtools40/mingw64/bin/"gcc  -I"C:/Users/BIOCBU~1/BBS-3~1.13-/R/include" -DNDEBUG     -I"C:/extsoft/include"     -O2 -Wall  -std=gnu99 -mfpmath=sse -msse2 -mstackrealign  -c dgl.c -o dgl.o
"C:/rtools40/mingw64/bin/"gcc  -I"C:/Users/BIOCBU~1/BBS-3~1.13-/R/include" -DNDEBUG     -I"C:/extsoft/include"     -O2 -Wall  -std=gnu99 -mfpmath=sse -msse2 -mstackrealign  -c params.c -o params.o
"C:/rtools40/mingw64/bin/"gcc  -I"C:/Users/BIOCBU~1/BBS-3~1.13-/R/include" -DNDEBUG     -I"C:/extsoft/include"     -O2 -Wall  -std=gnu99 -mfpmath=sse -msse2 -mstackrealign  -c pgl.c -o pgl.o
"C:/rtools40/mingw64/bin/"gcc  -I"C:/Users/BIOCBU~1/BBS-3~1.13-/R/include" -DNDEBUG     -I"C:/extsoft/include"     -O2 -Wall  -std=gnu99 -mfpmath=sse -msse2 -mstackrealign  -c qdgl.c -o qdgl.o
"C:/rtools40/mingw64/bin/"gcc  -I"C:/Users/BIOCBU~1/BBS-3~1.13-/R/include" -DNDEBUG     -I"C:/extsoft/include"     -O2 -Wall  -std=gnu99 -mfpmath=sse -msse2 -mstackrealign  -c qgl.c -o qgl.o
"C:/rtools40/mingw64/bin/"gcc  -I"C:/Users/BIOCBU~1/BBS-3~1.13-/R/include" -DNDEBUG     -I"C:/extsoft/include"     -O2 -Wall  -std=gnu99 -mfpmath=sse -msse2 -mstackrealign  -c rgl.c -o rgl.o
C:/rtools40/mingw64/bin/gcc -shared -s -static-libgcc -o EventPointer.dll tmp.def dgl.o params.o pgl.o qdgl.o qgl.o rgl.o -LC:/extsoft/lib/x64 -LC:/extsoft/lib -LC:/Users/BIOCBU~1/BBS-3~1.13-/R/bin/x64 -lR
installing to C:/Users/biocbuild/bbs-3.13-bioc/meat/EventPointer.buildbin-libdir/EventPointer/libs/x64
** testing if installed package can be loaded
* MD5 sums
packaged installation of 'EventPointer' as EventPointer_3.0.0.zip
* DONE (EventPointer)