Back to Multiple platform build/check report for BioC 3.13
ABCD[E]FGHIJKLMNOPQRSTUVWXYZ

This page was generated on 2021-09-22 15:05:14 -0400 (Wed, 22 Sep 2021).

BUILD results for EpiTxDb on tokay2

To the developers/maintainers of the EpiTxDb package:
- Please allow up to 24 hours (and sometimes 48 hours) for your latest push to git@git.bioconductor.org:packages/EpiTxDb.git to
reflect on this report. See How and When does the builder pull? When will my changes propagate? here for more information.
- Make sure to use the following settings in order to reproduce any error or warning you see on this page.

raw results

Package 586/2041HostnameOS / ArchINSTALLBUILDCHECKBUILD BIN
EpiTxDb 1.4.0  (landing page)
Felix G.M. Ernst
Snapshot Date: 2021-09-21 04:50:12 -0400 (Tue, 21 Sep 2021)
git_url: https://git.bioconductor.org/packages/EpiTxDb
git_branch: RELEASE_3_13
git_last_commit: 14681e3
git_last_commit_date: 2021-05-19 12:50:24 -0400 (Wed, 19 May 2021)
nebbiolo1Linux (Ubuntu 20.04.2 LTS) / x86_64  OK    OK    OK  UNNEEDED, same version is already published
tokay2Windows Server 2012 R2 Standard / x64  OK    OK    OK    OK  UNNEEDED, same version is already published
machv2macOS 10.14.6 Mojave / x86_64  OK    ERROR  skippedskipped

Summary

Package: EpiTxDb
Version: 1.4.0
Command: chmod a+r EpiTxDb -R && C:\Users\biocbuild\bbs-3.13-bioc\R\bin\R.exe CMD build --keep-empty-dirs --no-resave-data EpiTxDb
StartedAt: 2021-09-21 13:42:39 -0400 (Tue, 21 Sep 2021)
EndedAt: 2021-09-21 13:47:14 -0400 (Tue, 21 Sep 2021)
EllapsedTime: 274.8 seconds
RetCode: 0
Status:   OK  
PackageFile: EpiTxDb_1.4.0.tar.gz
PackageFileSize: 665.3 KiB

Command output

##############################################################################
##############################################################################
###
### Running command:
###
###   chmod a+r EpiTxDb -R && C:\Users\biocbuild\bbs-3.13-bioc\R\bin\R.exe CMD build --keep-empty-dirs --no-resave-data EpiTxDb
###
##############################################################################
##############################################################################


* checking for file 'EpiTxDb/DESCRIPTION' ... OK
* preparing 'EpiTxDb':
* checking DESCRIPTION meta-information ... OK
* installing the package to build vignettes
* creating vignettes ... OK
* checking for LF line-endings in source and make files and shell scripts
* checking for empty or unneeded directories
* looking to see if a 'data/datalist' file should be added
* building 'EpiTxDb_1.4.0.tar.gz'