Back to Multiple platform build/check report for BioC 3.13
ABCD[E]FGHIJKLMNOPQRSTUVWXYZ

This page was generated on 2021-10-13 15:05:51 -0400 (Wed, 13 Oct 2021).

BUILD results for EpiTxDb on machv2

To the developers/maintainers of the EpiTxDb package:
- Please allow up to 24 hours (and sometimes 48 hours) for your latest push to git@git.bioconductor.org:packages/EpiTxDb.git to
reflect on this report. See How and When does the builder pull? When will my changes propagate? here for more information.
- Make sure to use the following settings in order to reproduce any error or warning you see on this page.

raw results

Package 586/2041HostnameOS / ArchINSTALLBUILDCHECKBUILD BIN
EpiTxDb 1.4.0  (landing page)
Felix G.M. Ernst
Snapshot Date: 2021-10-12 04:50:13 -0400 (Tue, 12 Oct 2021)
git_url: https://git.bioconductor.org/packages/EpiTxDb
git_branch: RELEASE_3_13
git_last_commit: 14681e3
git_last_commit_date: 2021-05-19 12:50:24 -0400 (Wed, 19 May 2021)
nebbiolo1Linux (Ubuntu 20.04.2 LTS) / x86_64  OK    OK    OK  UNNEEDED, same version is already published
tokay2Windows Server 2012 R2 Standard / x64  OK    OK    OK    OK  UNNEEDED, same version is already published
machv2macOS 10.14.6 Mojave / x86_64  OK    OK    OK    OK  UNNEEDED, same version is already published

Summary

Package: EpiTxDb
Version: 1.4.0
Command: /Library/Frameworks/R.framework/Versions/Current/Resources/bin/R CMD build --keep-empty-dirs --no-resave-data EpiTxDb
StartedAt: 2021-10-12 11:58:26 -0400 (Tue, 12 Oct 2021)
EndedAt: 2021-10-12 12:01:57 -0400 (Tue, 12 Oct 2021)
EllapsedTime: 211.1 seconds
RetCode: 0
Status:   OK  
PackageFile: EpiTxDb_1.4.0.tar.gz
PackageFileSize: 741.2 KiB

Command output

##############################################################################
##############################################################################
###
### Running command:
###
###   /Library/Frameworks/R.framework/Versions/Current/Resources/bin/R CMD build --keep-empty-dirs --no-resave-data EpiTxDb
###
##############################################################################
##############################################################################


* checking for file ‘EpiTxDb/DESCRIPTION’ ... OK
* preparing ‘EpiTxDb’:
* checking DESCRIPTION meta-information ... OK
* installing the package to build vignettes
* creating vignettes ... OK
* checking for LF line-endings in source and make files and shell scripts
* checking for empty or unneeded directories
* looking to see if a ‘data/datalist’ file should be added
* building ‘EpiTxDb_1.4.0.tar.gz’