Back to Multiple platform build/check report for BioC 3.13
ABCD[E]FGHIJKLMNOPQRSTUVWXYZ

This page was generated on 2021-07-23 15:06:33 -0400 (Fri, 23 Jul 2021).

BUILD BIN results for EnrichmentBrowser on machv2

To the developers/maintainers of the EnrichmentBrowser package:
- Please allow up to 24 hours (and sometimes 48 hours) for your latest push to git@git.bioconductor.org:packages/EnrichmentBrowser.git to
reflect on this report. See How and When does the builder pull? When will my changes propagate? here for more information.
- Make sure to use the following settings in order to reproduce any error or warning you see on this page.

raw results

Package 573/2041HostnameOS / ArchINSTALLBUILDCHECKBUILD BIN
EnrichmentBrowser 2.22.2  (landing page)
Ludwig Geistlinger
Snapshot Date: 2021-07-22 04:50:13 -0400 (Thu, 22 Jul 2021)
URL: https://git.bioconductor.org/packages/EnrichmentBrowser
Branch: RELEASE_3_13
Last Commit: e3ba414
Last Changed Date: 2021-07-21 08:44:59 -0400 (Wed, 21 Jul 2021)
nebbiolo1Linux (Ubuntu 20.04.2 LTS) / x86_64  OK    OK    OK  YES
tokay2Windows Server 2012 R2 Standard / x64  OK    OK    OK    OK  YES
machv2macOS 10.14.6 Mojave / x86_64  OK    OK    OK    OK  YES

Summary

Package: EnrichmentBrowser
Version: 2.22.2
Command: rm -rf EnrichmentBrowser.buildbin-libdir && mkdir EnrichmentBrowser.buildbin-libdir && /Users/biocbuild/BBS/utils/build-universal.sh EnrichmentBrowser_2.22.2.tar.gz /Library/Frameworks/R.framework/Versions/Current/Resources/bin/R EnrichmentBrowser.buildbin-libdir
StartedAt: 2021-07-23 01:51:23 -0400 (Fri, 23 Jul 2021)
EndedAt: 2021-07-23 01:52:05 -0400 (Fri, 23 Jul 2021)
EllapsedTime: 42.1 seconds
RetCode: 0
Status:   OK  
PackageFile: EnrichmentBrowser_2.22.2.tgz
PackageFileSize: 2.116 MiB

Command output

##############################################################################
##############################################################################
###
### Running command:
###
###   rm -rf EnrichmentBrowser.buildbin-libdir && mkdir EnrichmentBrowser.buildbin-libdir && /Users/biocbuild/BBS/utils/build-universal.sh EnrichmentBrowser_2.22.2.tar.gz /Library/Frameworks/R.framework/Versions/Current/Resources/bin/R EnrichmentBrowser.buildbin-libdir
###
##############################################################################
##############################################################################


>>>>>>> 
>>>>>>> INSTALLATION WITH 'R CMD INSTALL --preclean --no-multiarch --library=EnrichmentBrowser.buildbin-libdir EnrichmentBrowser_2.22.2.tar.gz'
>>>>>>> 

* installing *source* package ‘EnrichmentBrowser’ ...
** using staged installation
** R
** inst
** byte-compile and prepare package for lazy loading
** help
*** installing help indices
** building package indices
** installing vignettes
** testing if installed package can be loaded from temporary location
** testing if installed package can be loaded from final location
** testing if installed package keeps a record of temporary installation path
* DONE (EnrichmentBrowser)