Back to Multiple platform build/check report for BioC 3.13
ABCD[E]FGHIJKLMNOPQRSTUVWXYZ

This page was generated on 2021-07-23 15:06:02 -0400 (Fri, 23 Jul 2021).

BUILD results for ENCODExplorer on tokay2

To the developers/maintainers of the ENCODExplorer package:
- Please allow up to 24 hours (and sometimes 48 hours) for your latest push to git@git.bioconductor.org:packages/ENCODExplorer.git to
reflect on this report. See How and When does the builder pull? When will my changes propagate? here for more information.
- Make sure to use the following settings in order to reproduce any error or warning you see on this page.

raw results

Package 568/2041HostnameOS / ArchINSTALLBUILDCHECKBUILD BIN
ENCODExplorer 2.18.0  (landing page)
Charles Joly Beauparlant
Snapshot Date: 2021-07-22 04:50:13 -0400 (Thu, 22 Jul 2021)
URL: https://git.bioconductor.org/packages/ENCODExplorer
Branch: RELEASE_3_13
Last Commit: 618ef8e
Last Changed Date: 2021-05-19 12:13:26 -0400 (Wed, 19 May 2021)
nebbiolo1Linux (Ubuntu 20.04.2 LTS) / x86_64  OK    OK    ERROR  
tokay2Windows Server 2012 R2 Standard / x64  OK    OK    ERROR    OK  
machv2macOS 10.14.6 Mojave / x86_64  OK    OK    ERROR    OK  

Summary

Package: ENCODExplorer
Version: 2.18.0
Command: chmod a+r ENCODExplorer -R && C:\Users\biocbuild\bbs-3.13-bioc\R\bin\R.exe CMD build --keep-empty-dirs --no-resave-data ENCODExplorer
StartedAt: 2021-07-22 13:58:57 -0400 (Thu, 22 Jul 2021)
EndedAt: 2021-07-22 14:01:58 -0400 (Thu, 22 Jul 2021)
EllapsedTime: 180.6 seconds
RetCode: 0
Status:   OK  
PackageFile: ENCODExplorer_2.18.0.tar.gz
PackageFileSize: 1.444 MiB

Command output

##############################################################################
##############################################################################
###
### Running command:
###
###   chmod a+r ENCODExplorer -R && C:\Users\biocbuild\bbs-3.13-bioc\R\bin\R.exe CMD build --keep-empty-dirs --no-resave-data ENCODExplorer
###
##############################################################################
##############################################################################


* checking for file 'ENCODExplorer/DESCRIPTION' ... OK
* preparing 'ENCODExplorer':
* checking DESCRIPTION meta-information ... OK
* installing the package to build vignettes
* creating vignettes ... OK
* checking for LF line-endings in source and make files and shell scripts
* checking for empty or unneeded directories
Omitted 'LazyData' from DESCRIPTION
* building 'ENCODExplorer_2.18.0.tar.gz'