Back to Multiple platform build/check report for BioC 3.13
ABCD[E]FGHIJKLMNOPQRSTUVWXYZ

This page was generated on 2021-07-23 15:06:02 -0400 (Fri, 23 Jul 2021).

BUILD BIN results for ENCODExplorer on tokay2

To the developers/maintainers of the ENCODExplorer package:
- Please allow up to 24 hours (and sometimes 48 hours) for your latest push to git@git.bioconductor.org:packages/ENCODExplorer.git to
reflect on this report. See How and When does the builder pull? When will my changes propagate? here for more information.
- Make sure to use the following settings in order to reproduce any error or warning you see on this page.

raw results

Package 568/2041HostnameOS / ArchINSTALLBUILDCHECKBUILD BIN
ENCODExplorer 2.18.0  (landing page)
Charles Joly Beauparlant
Snapshot Date: 2021-07-22 04:50:13 -0400 (Thu, 22 Jul 2021)
URL: https://git.bioconductor.org/packages/ENCODExplorer
Branch: RELEASE_3_13
Last Commit: 618ef8e
Last Changed Date: 2021-05-19 12:13:26 -0400 (Wed, 19 May 2021)
nebbiolo1Linux (Ubuntu 20.04.2 LTS) / x86_64  OK    OK    ERROR  
tokay2Windows Server 2012 R2 Standard / x64  OK    OK    ERROR    OK  
machv2macOS 10.14.6 Mojave / x86_64  OK    OK    ERROR    OK  

Summary

Package: ENCODExplorer
Version: 2.18.0
Command: rm -rf ENCODExplorer.buildbin-libdir && mkdir ENCODExplorer.buildbin-libdir && C:\Users\biocbuild\bbs-3.13-bioc\R\bin\R.exe CMD INSTALL --merge-multiarch --build --library=ENCODExplorer.buildbin-libdir ENCODExplorer_2.18.0.tar.gz
StartedAt: 2021-07-23 09:24:17 -0400 (Fri, 23 Jul 2021)
EndedAt: 2021-07-23 09:25:34 -0400 (Fri, 23 Jul 2021)
EllapsedTime: 76.4 seconds
RetCode: 0
Status:   OK  
PackageFile: ENCODExplorer_2.18.0.zip
PackageFileSize: 1.422 MiB

Command output

##############################################################################
##############################################################################
###
### Running command:
###
###   rm -rf ENCODExplorer.buildbin-libdir && mkdir ENCODExplorer.buildbin-libdir && C:\Users\biocbuild\bbs-3.13-bioc\R\bin\R.exe CMD INSTALL --merge-multiarch --build --library=ENCODExplorer.buildbin-libdir ENCODExplorer_2.18.0.tar.gz
###
##############################################################################
##############################################################################



install for i386

* installing *source* package 'ENCODExplorer' ...
** using staged installation
** R
** inst
** byte-compile and prepare package for lazy loading
** help
*** installing help indices
  converting help for package 'ENCODExplorer'
    finding HTML links ... done
    ENCODEBindingConsensus-class            html  
REDIRECT:topic	 names<-,ENCODEBindingConsensus,character-method -> ENCODEBindingConsensus-class.html [ FAIL ]
    finding level-2 HTML links ... done

    ENCODEExpressionSummary-class           html  
REDIRECT:topic	 names<-,ENCODEExpressionSummary,character-method -> ENCODEExpressionSummary-class.html [ FAIL ]
    ENCODESummary-class                     html  
REDIRECT:topic	 names<-,ENCODESummary,character-method -> ENCODESummary-class.html [ FAIL ]
    ENCODExplorer                           html  
    GenomicOverlaps-class                   html  
    GenomicOverlaps                         html  
    buildConsensusPeaks                     html  
    buildExpressionSummary                  html  
    choose_interactive_value                html  
    combined_regions-GenomicOverlaps-method
                                            html  
    combined_regions-set-GenomicOverlaps-GRanges-method
                                            html  
REDIRECT:topic	 combined_regions<-,GenomicOverlaps,GRanges-method -> combined_regions-set-GenomicOverlaps-GRanges-method.html [ FAIL ]
    consensus_indices                       html  
    consensus_regions                       html  
    createDesign                            html  
    downloadEncode                          html  
    download_dt_file                        html  
    download_single_file                    html  
    fuzzySearch                             html  
    get_encode_df                           html  
    get_encode_df_demo                      html  
    get_encode_df_full                      html  
    initial_regions-GenomicOverlaps-method
                                            html  
    intersect_indices                       html  
    intersect_matrix                        html  
    intersect_regions                       html  
    length-GenomicOverlaps-method           html  
    names-GenomicOverlaps-method            html  
    names-set-GenomicOverlaps-character-method
                                            html  
REDIRECT:topic	 names<-,GenomicOverlaps,character-method -> names-set-GenomicOverlaps-character-method.html [ FAIL ]
    pairwise_overlap                        html  
    queryConsensusPeaks                     html  
    queryEncode                             html  
    queryEncodeGeneric                      html  
    queryExpressionGeneric                  html  
    queryGeneExpression                     html  
    queryTranscriptExpression               html  
    searchEncode                            html  
    searchToquery                           html  
    shinyEncode                             html  
    split_by_metadata                       html  
    union_indices                           html  
    union_regions                           html  
** building package indices
** installing vignettes
** testing if installed package can be loaded from temporary location
** testing if installed package can be loaded from final location
** testing if installed package keeps a record of temporary installation path

install for x64

* installing *source* package 'ENCODExplorer' ...
** testing if installed package can be loaded
* MD5 sums
packaged installation of 'ENCODExplorer' as ENCODExplorer_2.18.0.zip
* DONE (ENCODExplorer)