Back to Multiple platform build/check report for BioC 3.13
ABCD[E]FGHIJKLMNOPQRSTUVWXYZ

This page was generated on 2021-09-13 15:06:24 -0400 (Mon, 13 Sep 2021).

BUILD results for ELMER on tokay2

To the developers/maintainers of the ELMER package:
- Please allow up to 24 hours (and sometimes 48 hours) for your latest push to git@git.bioconductor.org:packages/ELMER.git to
reflect on this report. See How and When does the builder pull? When will my changes propagate? here for more information.
- Make sure to use the following settings in order to reproduce any error or warning you see on this page.

raw results

Package 565/2041HostnameOS / ArchINSTALLBUILDCHECKBUILD BIN
ELMER 2.16.0  (landing page)
Tiago Chedraoui Silva
Snapshot Date: 2021-09-12 04:50:10 -0400 (Sun, 12 Sep 2021)
git_url: https://git.bioconductor.org/packages/ELMER
git_branch: RELEASE_3_13
git_last_commit: 31e996d
git_last_commit_date: 2021-05-19 12:13:57 -0400 (Wed, 19 May 2021)
nebbiolo1Linux (Ubuntu 20.04.2 LTS) / x86_64  OK    ERROR  skipped
tokay2Windows Server 2012 R2 Standard / x64  OK    OK    OK    OK  UNNEEDED, same version is already published
machv2macOS 10.14.6 Mojave / x86_64  OK    ERROR  skippedskipped

Summary

Package: ELMER
Version: 2.16.0
Command: chmod a+r ELMER -R && C:\Users\biocbuild\bbs-3.13-bioc\R\bin\R.exe CMD build --keep-empty-dirs --no-resave-data ELMER
StartedAt: 2021-09-12 13:13:46 -0400 (Sun, 12 Sep 2021)
EndedAt: 2021-09-12 13:34:35 -0400 (Sun, 12 Sep 2021)
EllapsedTime: 1249.0 seconds
RetCode: 0
Status:   OK  
PackageFile: ELMER_2.16.0.tar.gz
PackageFileSize: 33.74 MiB

Command output

##############################################################################
##############################################################################
###
### Running command:
###
###   chmod a+r ELMER -R && C:\Users\biocbuild\bbs-3.13-bioc\R\bin\R.exe CMD build --keep-empty-dirs --no-resave-data ELMER
###
##############################################################################
##############################################################################


* checking for file 'ELMER/DESCRIPTION' ... OK
* preparing 'ELMER':
* checking DESCRIPTION meta-information ... OK
* installing the package to build vignettes
* creating vignettes ... OK
* checking for LF line-endings in source and make files and shell scripts
* checking for empty or unneeded directories
Omitted 'LazyData' from DESCRIPTION
* building 'ELMER_2.16.0.tar.gz'