Back to Multiple platform build/check report for BioC 3.13
ABCD[E]FGHIJKLMNOPQRSTUVWXYZ

This page was generated on 2021-09-20 15:05:11 -0400 (Mon, 20 Sep 2021).

BUILD BIN results for ELMER on tokay2

To the developers/maintainers of the ELMER package:
- Please allow up to 24 hours (and sometimes 48 hours) for your latest push to git@git.bioconductor.org:packages/ELMER.git to
reflect on this report. See How and When does the builder pull? When will my changes propagate? here for more information.
- Make sure to use the following settings in order to reproduce any error or warning you see on this page.

raw results

Package 565/2041HostnameOS / ArchINSTALLBUILDCHECKBUILD BIN
ELMER 2.16.0  (landing page)
Tiago Chedraoui Silva
Snapshot Date: 2021-09-19 04:50:10 -0400 (Sun, 19 Sep 2021)
git_url: https://git.bioconductor.org/packages/ELMER
git_branch: RELEASE_3_13
git_last_commit: 31e996d
git_last_commit_date: 2021-05-19 12:13:57 -0400 (Wed, 19 May 2021)
nebbiolo1Linux (Ubuntu 20.04.2 LTS) / x86_64  OK    OK    OK  UNNEEDED, same version is already published
tokay2Windows Server 2012 R2 Standard / x64  OK    OK    OK    OK  UNNEEDED, same version is already published
machv2macOS 10.14.6 Mojave / x86_64  OK    OK    OK    OK  UNNEEDED, same version is already published

Summary

Package: ELMER
Version: 2.16.0
Command: rm -rf ELMER.buildbin-libdir && mkdir ELMER.buildbin-libdir && C:\Users\biocbuild\bbs-3.13-bioc\R\bin\R.exe CMD INSTALL --merge-multiarch --build --library=ELMER.buildbin-libdir ELMER_2.16.0.tar.gz
StartedAt: 2021-09-20 08:34:30 -0400 (Mon, 20 Sep 2021)
EndedAt: 2021-09-20 08:36:06 -0400 (Mon, 20 Sep 2021)
EllapsedTime: 96.0 seconds
RetCode: 0
Status:   OK  
PackageFile: ELMER_2.16.0.zip
PackageFileSize: 31.25 MiB

Command output

##############################################################################
##############################################################################
###
### Running command:
###
###   rm -rf ELMER.buildbin-libdir && mkdir ELMER.buildbin-libdir && C:\Users\biocbuild\bbs-3.13-bioc\R\bin\R.exe CMD INSTALL --merge-multiarch --build --library=ELMER.buildbin-libdir ELMER_2.16.0.tar.gz
###
##############################################################################
##############################################################################



install for i386

* installing *source* package 'ELMER' ...
** using staged installation
** R
** inst
** byte-compile and prepare package for lazy loading
** help
*** installing help indices
  converting help for package 'ELMER'
    finding HTML links ... done
    ELMER                                   html  
    Get.Pvalue.p                            html  
    GetNearGenes                            html  
    Stat.diff.meth                          html  
    Stat.nonpara                            html  
    Stat.nonpara.permu                      html  
    TCGA.pipe                               html  
    TF.rank.plot                            html  
    TFsurvival.plot                         html  
    addDistNearestTSS                       html  
    addMutCol                               html  
    calcDistNearestTSS                      html  
    calculateEnrichement                    html  
    createBigWigDNAmetArray                 html  
    createIGVtrack                          html  
    createMAE                               html  
    createMotifRelevantTfs                  html  
    createSummaryDocument                   html  
    createTSVTemplates                      html  
    findMotifRegion                         html  
    get.TFs                                 html  
    get.diff.meth                           html  
    get.enriched.motif                      html  
    get.feature.probe                       html  
    get.pair                                html  
    get.permu                               html  
    get.tab                                 html  
    get.tabs                                html  
    get450K                                 html  
    getClinic                               html  
    getExp                                  html  
    getExpSamples                           html  
    getGeneID                               html  
    getMet                                  html  
    getMetSamples                           html  
    getRNAseq                               html  
    getRandomPairs                          html  
    getRegionNearGenes                      html  
    getSymbol                               html  
    getTCGA                                 html  
    getTF                                   html  
    getTFBindingSites                       html  
    getTFtargets                            html  
    getTSS                                  html  
    heatmapGene                             html  
    heatmapPairs                            html  
    lm_eqn                                  html  
    metBoxPlot                              html  
    motif.enrichment.plot                   html  
    preAssociationProbeFiltering            html  
    promoterMeth                            html  
    render_report                           html  
    scatter                                 html  
    scatter.plot                            html  
    schematic.plot                          html  
    summarizeTF                             html  
** building package indices
** installing vignettes
** testing if installed package can be loaded from temporary location
** testing if installed package can be loaded from final location
** testing if installed package keeps a record of temporary installation path

install for x64

* installing *source* package 'ELMER' ...
** testing if installed package can be loaded
* MD5 sums
packaged installation of 'ELMER' as ELMER_2.16.0.zip
* DONE (ELMER)