Back to Multiple platform build/check report for BioC 3.13
ABCD[E]FGHIJKLMNOPQRSTUVWXYZ

This page was generated on 2021-09-20 15:05:11 -0400 (Mon, 20 Sep 2021).

BUILD BIN results for EGSEA on tokay2

To the developers/maintainers of the EGSEA package:
- Please allow up to 24 hours (and sometimes 48 hours) for your latest push to git@git.bioconductor.org:packages/EGSEA.git to
reflect on this report. See How and When does the builder pull? When will my changes propagate? here for more information.
- Make sure to use the following settings in order to reproduce any error or warning you see on this page.

raw results

Package 560/2041HostnameOS / ArchINSTALLBUILDCHECKBUILD BIN
EGSEA 1.20.0  (landing page)
Monther Alhamdoosh
Snapshot Date: 2021-09-19 04:50:10 -0400 (Sun, 19 Sep 2021)
git_url: https://git.bioconductor.org/packages/EGSEA
git_branch: RELEASE_3_13
git_last_commit: 77593a7
git_last_commit_date: 2021-05-19 12:20:22 -0400 (Wed, 19 May 2021)
nebbiolo1Linux (Ubuntu 20.04.2 LTS) / x86_64  OK    OK    OK  UNNEEDED, same version is already published
tokay2Windows Server 2012 R2 Standard / x64  OK    OK    OK    OK  UNNEEDED, same version is already published
machv2macOS 10.14.6 Mojave / x86_64  OK    OK    OK    OK  UNNEEDED, same version is already published

Summary

Package: EGSEA
Version: 1.20.0
Command: rm -rf EGSEA.buildbin-libdir && mkdir EGSEA.buildbin-libdir && C:\Users\biocbuild\bbs-3.13-bioc\R\bin\R.exe CMD INSTALL --merge-multiarch --build --library=EGSEA.buildbin-libdir EGSEA_1.20.0.tar.gz
StartedAt: 2021-09-20 08:33:57 -0400 (Mon, 20 Sep 2021)
EndedAt: 2021-09-20 08:35:32 -0400 (Mon, 20 Sep 2021)
EllapsedTime: 94.9 seconds
RetCode: 0
Status:   OK  
PackageFile: EGSEA_1.20.0.zip
PackageFileSize: 1.739 MiB

Command output

##############################################################################
##############################################################################
###
### Running command:
###
###   rm -rf EGSEA.buildbin-libdir && mkdir EGSEA.buildbin-libdir && C:\Users\biocbuild\bbs-3.13-bioc\R\bin\R.exe CMD INSTALL --merge-multiarch --build --library=EGSEA.buildbin-libdir EGSEA_1.20.0.tar.gz
###
##############################################################################
##############################################################################



install for i386

* installing *source* package 'EGSEA' ...
** using staged installation
** R
** inst
** byte-compile and prepare package for lazy loading

groupGOTerms: 	GOBPTerm, GOMFTerm, GOCCTerm environments built.
** help
*** installing help indices
  converting help for package 'EGSEA'
    finding HTML links ... done
    EGSEA-package                           html  
    EGSEAResults-methods                    html  
    GSCollectionIndex-methods               html  
    egsea-aux                               html  
    egsea-index                             html  
    egsea-main                              html  
REDIRECT:topic	 Previous alias or file overwritten by alias: C:/Users/biocbuild/bbs-3.13-bioc/meat/EGSEA.buildbin-libdir/00LOCK-EGSEA/00new/EGSEA/help/egsea.html
** building package indices
** installing vignettes
** testing if installed package can be loaded from temporary location

groupGOTerms: 	GOBPTerm, GOMFTerm, GOCCTerm environments built.
** testing if installed package can be loaded from final location

groupGOTerms: 	GOBPTerm, GOMFTerm, GOCCTerm environments built.
** testing if installed package keeps a record of temporary installation path

install for x64

* installing *source* package 'EGSEA' ...
** testing if installed package can be loaded

groupGOTerms: 	GOBPTerm, GOMFTerm, GOCCTerm environments built.
* MD5 sums
packaged installation of 'EGSEA' as EGSEA_1.20.0.zip
* DONE (EGSEA)