Index of /checkResults/release/bioc-LATEST/EGAD/raw-results/tokay2

[ICO]NameLast modifiedSizeDescription

[DIR]Parent Directory  -  
[TXT]buildbin-out.txt16-Oct-2021 04:06 4.2K 
[   ]buildbin-summary.dcf16-Oct-2021 04:06 521  
[TXT]buildsrc-out.txt16-Oct-2021 04:06 756  
[   ]buildsrc-summary.dcf16-Oct-2021 04:06 446  
[TXT]checksrc-out.txt16-Oct-2021 04:06 4.5K 
[   ]checksrc-summary.dcf16-Oct-2021 04:06 456  
[TXT]install-out.txt16-Oct-2021 04:06 5.4K 
[   ]install-summary.dcf16-Oct-2021 04:06 614