Index of /checkResults/release/bioc-LATEST/EGAD/raw-results/nebbiolo1

[ICO]NameLast modifiedSizeDescription

[DIR]Parent Directory  -  
[TXT]buildsrc-out.txt16-Oct-2021 04:05 722  
[   ]buildsrc-summary.dcf16-Oct-2021 04:05 407  
[TXT]checksrc-out.txt16-Oct-2021 04:05 4.0K 
[   ]checksrc-summary.dcf16-Oct-2021 04:05 417  
[TXT]install-out.txt16-Oct-2021 04:05 1.0K 
[   ]install-summary.dcf16-Oct-2021 04:05 253