Back to Multiple platform build/check report for BioC 3.13
ABCD[E]FGHIJKLMNOPQRSTUVWXYZ

This page was generated on 2021-07-30 15:05:02 -0400 (Fri, 30 Jul 2021).

All results for package EGAD

To the developers/maintainers of the EGAD package:
- Please allow up to 24 hours (and sometimes 48 hours) for your latest push to git@git.bioconductor.org:packages/EGAD.git to
reflect on this report. See How and When does the builder pull? When will my changes propagate? here for more information.
- Make sure to use the following settings in order to reproduce any error or warning you see on this page.

raw results

Package 559/2041HostnameOS / ArchINSTALLBUILDCHECKBUILD BIN
EGAD 1.20.0  (landing page)
Sara Ballouz
Snapshot Date: 2021-07-29 04:50:02 -0400 (Thu, 29 Jul 2021)
URL: https://git.bioconductor.org/packages/EGAD
Branch: RELEASE_3_13
Last Commit: 948910f
Last Changed Date: 2021-05-19 12:20:29 -0400 (Wed, 19 May 2021)
nebbiolo1Linux (Ubuntu 20.04.2 LTS) / x86_64  OK    OK    WARNINGS  UNNEEDED, same version is already published
tokay2Windows Server 2012 R2 Standard / x64  OK    OK    WARNINGS    OK  UNNEEDED, same version is already published
machv2macOS 10.14.6 Mojave / x86_64  OK    OK    WARNINGS    OK  UNNEEDED, same version is already published