Back to Multiple platform build/check report for BioC 3.13
ABCD[E]FGHIJKLMNOPQRSTUVWXYZ

This page was generated on 2021-07-21 15:05:20 -0400 (Wed, 21 Jul 2021).

BUILD results for EBSEA on tokay2

To the developers/maintainers of the EBSEA package:
- Please allow up to 24 hours (and sometimes 48 hours) for your latest push to git@git.bioconductor.org:packages/EBSEA.git to
reflect on this report. See How and When does the builder pull? When will my changes propagate? here for more information.
- Make sure to use the following settings in order to reproduce any error or warning you see on this page.

raw results

Package 550/2041HostnameOS / ArchINSTALLBUILDCHECKBUILD BIN
EBSEA 1.20.0  (landing page)
Arfa Mehmood
Snapshot Date: 2021-07-20 04:50:13 -0400 (Tue, 20 Jul 2021)
URL: https://git.bioconductor.org/packages/EBSEA
Branch: RELEASE_3_13
Last Commit: 72eef5e
Last Changed Date: 2021-05-19 12:19:28 -0400 (Wed, 19 May 2021)
nebbiolo1Linux (Ubuntu 20.04.2 LTS) / x86_64  OK    OK    OK  UNNEEDED, same version is already published
tokay2Windows Server 2012 R2 Standard / x64  OK    OK    OK    OK  UNNEEDED, same version is already published
machv2macOS 10.14.6 Mojave / x86_64  OK    OK    OK    OK  UNNEEDED, same version is already published

Summary

Package: EBSEA
Version: 1.20.0
Command: chmod a+r EBSEA -R && C:\Users\biocbuild\bbs-3.13-bioc\R\bin\R.exe CMD build --keep-empty-dirs --no-resave-data EBSEA
StartedAt: 2021-07-20 14:12:43 -0400 (Tue, 20 Jul 2021)
EndedAt: 2021-07-20 14:13:42 -0400 (Tue, 20 Jul 2021)
EllapsedTime: 59.7 seconds
RetCode: 0
Status:   OK  
PackageFile: EBSEA_1.20.0.tar.gz
PackageFileSize: 31.32 KiB

Command output

##############################################################################
##############################################################################
###
### Running command:
###
###   chmod a+r EBSEA -R && C:\Users\biocbuild\bbs-3.13-bioc\R\bin\R.exe CMD build --keep-empty-dirs --no-resave-data EBSEA
###
##############################################################################
##############################################################################


* checking for file 'EBSEA/DESCRIPTION' ... OK
* preparing 'EBSEA':
* checking DESCRIPTION meta-information ... OK
* installing the package to build vignettes
* creating vignettes ... OK
* checking for LF line-endings in source and make files and shell scripts
* checking for empty or unneeded directories
* looking to see if a 'data/datalist' file should be added
* building 'EBSEA_1.20.0.tar.gz'