Back to Multiple platform build/check report for BioC 3.13
ABC[D]EFGHIJKLMNOPQRSTUVWXYZ

This page was generated on 2021-09-13 15:05:58 -0400 (Mon, 13 Sep 2021).

CHECK results for DropletUtils on nebbiolo1

To the developers/maintainers of the DropletUtils package:
- Please allow up to 24 hours (and sometimes 48 hours) for your latest push to git@git.bioconductor.org:packages/DropletUtils.git to
reflect on this report. See How and When does the builder pull? When will my changes propagate? here for more information.
- Make sure to use the following settings in order to reproduce any error or warning you see on this page.

raw results

Package 534/2041HostnameOS / ArchINSTALLBUILDCHECKBUILD BIN
DropletUtils 1.12.2  (landing page)
Aaron Lun
Snapshot Date: 2021-09-12 04:50:10 -0400 (Sun, 12 Sep 2021)
git_url: https://git.bioconductor.org/packages/DropletUtils
git_branch: RELEASE_3_13
git_last_commit: 1feac34
git_last_commit_date: 2021-07-22 04:01:54 -0400 (Thu, 22 Jul 2021)
nebbiolo1Linux (Ubuntu 20.04.2 LTS) / x86_64  OK    OK    OK  UNNEEDED, same version is already published
tokay2Windows Server 2012 R2 Standard / x64  OK    OK    OK    OK  UNNEEDED, same version is already published
machv2macOS 10.14.6 Mojave / x86_64  OK    OK    OK    OK  UNNEEDED, same version is already published

Summary

Package: DropletUtils
Version: 1.12.2
Command: /home/biocbuild/bbs-3.13-bioc/R/bin/R CMD check --install=check:DropletUtils.install-out.txt --library=/home/biocbuild/bbs-3.13-bioc/R/library --no-vignettes --timings DropletUtils_1.12.2.tar.gz
StartedAt: 2021-09-12 09:39:13 -0400 (Sun, 12 Sep 2021)
EndedAt: 2021-09-12 09:43:42 -0400 (Sun, 12 Sep 2021)
EllapsedTime: 269.0 seconds
RetCode: 0
Status:   OK  
CheckDir: DropletUtils.Rcheck
Warnings: 0

Command output

##############################################################################
##############################################################################
###
### Running command:
###
###   /home/biocbuild/bbs-3.13-bioc/R/bin/R CMD check --install=check:DropletUtils.install-out.txt --library=/home/biocbuild/bbs-3.13-bioc/R/library --no-vignettes --timings DropletUtils_1.12.2.tar.gz
###
##############################################################################
##############################################################################


* using log directory ‘/home/biocbuild/bbs-3.13-bioc/meat/DropletUtils.Rcheck’
* using R version 4.1.1 (2021-08-10)
* using platform: x86_64-pc-linux-gnu (64-bit)
* using session charset: UTF-8
* using option ‘--no-vignettes’
* checking for file ‘DropletUtils/DESCRIPTION’ ... OK
* this is package ‘DropletUtils’ version ‘1.12.2’
* checking package namespace information ... OK
* checking package dependencies ... OK
* checking if this is a source package ... OK
* checking if there is a namespace ... OK
* checking for hidden files and directories ... NOTE
Found the following hidden files and directories:
  .BBSoptions
These were most likely included in error. See section ‘Package
structure’ in the ‘Writing R Extensions’ manual.
* checking for portable file names ... OK
* checking for sufficient/correct file permissions ... OK
* checking whether package ‘DropletUtils’ can be installed ... OK
* checking installed package size ... NOTE
  installed size is 15.1Mb
  sub-directories of 1Mb or more:
    libs  14.7Mb
* checking package directory ... OK
* checking ‘build’ directory ... OK
* checking DESCRIPTION meta-information ... OK
* checking top-level files ... OK
* checking for left-over files ... OK
* checking index information ... OK
* checking package subdirectories ... OK
* checking R files for non-ASCII characters ... OK
* checking R files for syntax errors ... OK
* checking whether the package can be loaded ... OK
* checking whether the package can be loaded with stated dependencies ... OK
* checking whether the package can be unloaded cleanly ... OK
* checking whether the namespace can be loaded with stated dependencies ... OK
* checking whether the namespace can be unloaded cleanly ... OK
* checking dependencies in R code ... OK
* checking S3 generic/method consistency ... OK
* checking replacement functions ... OK
* checking foreign function calls ... OK
* checking R code for possible problems ... OK
* checking Rd files ... OK
* checking Rd metadata ... OK
* checking Rd cross-references ... OK
* checking for missing documentation entries ... OK
* checking for code/documentation mismatches ... OK
* checking Rd \usage sections ... OK
* checking Rd contents ... OK
* checking for unstated dependencies in examples ... OK
* checking line endings in C/C++/Fortran sources/headers ... OK
* checking line endings in Makefiles ... OK
* checking compilation flags in Makevars ... OK
* checking for GNU extensions in Makefiles ... NOTE
GNU make is a SystemRequirements.
* checking for portable use of $(BLAS_LIBS) and $(LAPACK_LIBS) ... OK
* checking use of PKG_*FLAGS in Makefiles ... OK
* checking compiled code ... NOTE
Note: information on .o files is not available
File ‘/home/biocbuild/bbs-3.13-bioc/R/library/DropletUtils/libs/DropletUtils.so’:
  Found ‘_ZSt4cerr’, possibly from ‘std::cerr’ (C++)
  Found ‘abort’, possibly from ‘abort’ (C)
  Found ‘exit’, possibly from ‘exit’ (C)
  Found ‘rand_r’, possibly from ‘rand_r’ (C)
  Found ‘stderr’, possibly from ‘stderr’ (C)
  Found ‘stdout’, possibly from ‘stdout’ (C)

Compiled code should not call entry points which might terminate R nor
write to stdout/stderr instead of to the console, nor use Fortran I/O
nor system RNGs. The detected symbols are linked into the code but
might come from libraries and not actually be called.

See ‘Writing portable packages’ in the ‘Writing R Extensions’ manual.
* checking files in ‘vignettes’ ... OK
* checking examples ... OK
* checking for unstated dependencies in ‘tests’ ... OK
* checking tests ...
  Running ‘testthat.R’
 OK
* checking for unstated dependencies in vignettes ... OK
* checking package vignettes in ‘inst/doc’ ... OK
* checking running R code from vignettes ... SKIPPED
* checking re-building of vignette outputs ... SKIPPED
* checking PDF version of manual ... OK
* DONE

Status: 4 NOTEs
See
  ‘/home/biocbuild/bbs-3.13-bioc/meat/DropletUtils.Rcheck/00check.log’
for details.



Installation output

DropletUtils.Rcheck/00install.out

##############################################################################
##############################################################################
###
### Running command:
###
###   /home/biocbuild/bbs-3.13-bioc/R/bin/R CMD INSTALL DropletUtils
###
##############################################################################
##############################################################################


* installing to library ‘/home/biocbuild/bbs-3.13-bioc/R/library’
* installing *source* package ‘DropletUtils’ ...
** using staged installation
** libs
g++ -std=gnu++11 -I"/home/biocbuild/bbs-3.13-bioc/R/include" -DNDEBUG  -I'/home/biocbuild/bbs-3.13-bioc/R/library/Rcpp/include' -I'/home/biocbuild/bbs-3.13-bioc/R/library/beachmat/include' -I'/home/biocbuild/bbs-3.13-bioc/R/library/Rhdf5lib/include' -I'/home/biocbuild/bbs-3.13-bioc/R/library/BH/include' -I'/home/biocbuild/bbs-3.13-bioc/R/library/dqrng/include' -I'/home/biocbuild/bbs-3.13-bioc/R/library/scuttle/include' -I/usr/local/include   -fpic  -g -O2  -Wall -c RcppExports.cpp -o RcppExports.o
g++ -std=gnu++11 -I"/home/biocbuild/bbs-3.13-bioc/R/include" -DNDEBUG  -I'/home/biocbuild/bbs-3.13-bioc/R/library/Rcpp/include' -I'/home/biocbuild/bbs-3.13-bioc/R/library/beachmat/include' -I'/home/biocbuild/bbs-3.13-bioc/R/library/Rhdf5lib/include' -I'/home/biocbuild/bbs-3.13-bioc/R/library/BH/include' -I'/home/biocbuild/bbs-3.13-bioc/R/library/dqrng/include' -I'/home/biocbuild/bbs-3.13-bioc/R/library/scuttle/include' -I/usr/local/include   -fpic  -g -O2  -Wall -c downsample_run.cpp -o downsample_run.o
g++ -std=gnu++11 -I"/home/biocbuild/bbs-3.13-bioc/R/include" -DNDEBUG  -I'/home/biocbuild/bbs-3.13-bioc/R/library/Rcpp/include' -I'/home/biocbuild/bbs-3.13-bioc/R/library/beachmat/include' -I'/home/biocbuild/bbs-3.13-bioc/R/library/Rhdf5lib/include' -I'/home/biocbuild/bbs-3.13-bioc/R/library/BH/include' -I'/home/biocbuild/bbs-3.13-bioc/R/library/dqrng/include' -I'/home/biocbuild/bbs-3.13-bioc/R/library/scuttle/include' -I/usr/local/include   -fpic  -g -O2  -Wall -c encode_sequences.cpp -o encode_sequences.o
encode_sequences.cpp: In function ‘Rcpp::IntegerVector encode_sequences(Rcpp::StringVector)’:
encode_sequences.cpp:8:23: warning: comparison of integer expressions of different signedness: ‘size_t’ {aka ‘long unsigned int’} and ‘R_xlen_t’ {aka ‘long int’} [-Wsign-compare]
    8 |     for (size_t i=0; i<output.size(); ++i) {
      |                      ~^~~~~~~~~~~~~~
g++ -std=gnu++11 -I"/home/biocbuild/bbs-3.13-bioc/R/include" -DNDEBUG  -I'/home/biocbuild/bbs-3.13-bioc/R/library/Rcpp/include' -I'/home/biocbuild/bbs-3.13-bioc/R/library/beachmat/include' -I'/home/biocbuild/bbs-3.13-bioc/R/library/Rhdf5lib/include' -I'/home/biocbuild/bbs-3.13-bioc/R/library/BH/include' -I'/home/biocbuild/bbs-3.13-bioc/R/library/dqrng/include' -I'/home/biocbuild/bbs-3.13-bioc/R/library/scuttle/include' -I/usr/local/include   -fpic  -g -O2  -Wall -c find_chimeric.cpp -o find_chimeric.o
find_chimeric.cpp: In function ‘Rcpp::List find_chimeric(Rcpp::StringVector, Rcpp::IntegerVector, Rcpp::IntegerVector, double, bool)’:
find_chimeric.cpp:28:23: warning: comparison of integer expressions of different signedness: ‘size_t’ {aka ‘long unsigned int’} and ‘long int’ [-Wsign-compare]
   28 |     for (size_t i=0; i<nmolecules; ++i, ++uIt) {
      |                      ~^~~~~~~~~~~
g++ -std=gnu++11 -I"/home/biocbuild/bbs-3.13-bioc/R/include" -DNDEBUG  -I'/home/biocbuild/bbs-3.13-bioc/R/library/Rcpp/include' -I'/home/biocbuild/bbs-3.13-bioc/R/library/beachmat/include' -I'/home/biocbuild/bbs-3.13-bioc/R/library/Rhdf5lib/include' -I'/home/biocbuild/bbs-3.13-bioc/R/library/BH/include' -I'/home/biocbuild/bbs-3.13-bioc/R/library/dqrng/include' -I'/home/biocbuild/bbs-3.13-bioc/R/library/scuttle/include' -I/usr/local/include   -fpic  -g -O2  -Wall -c find_swapped.cpp -o find_swapped.o
In file included from /home/biocbuild/bbs-3.13-bioc/R/library/beachmat/include/beachmat3/lin_matrix.h:12,
                 from /home/biocbuild/bbs-3.13-bioc/R/library/beachmat/include/beachmat3/read_lin_block.h:11,
                 from /home/biocbuild/bbs-3.13-bioc/R/library/beachmat/include/beachmat3/beachmat.h:24,
                 from find_swapped.cpp:2:
/home/biocbuild/bbs-3.13-bioc/R/library/beachmat/include/beachmat3/Csparse_reader.h: In instantiation of ‘beachmat::SparseArraySeed_reader<V, TIT>::SparseArraySeed_reader(Rcpp::RObject) [with V = Rcpp::Vector<13>; TIT = const int*; Rcpp::RObject = Rcpp::RObject_Impl<Rcpp::PreserveStorage>]’:
/home/biocbuild/bbs-3.13-bioc/R/library/beachmat/include/beachmat3/lin_matrix.h:561:56:   required from ‘beachmat::lin_SparseArraySeed<V, TIT>::lin_SparseArraySeed(Rcpp::RObject) [with V = Rcpp::Vector<13>; TIT = const int*; Rcpp::RObject = Rcpp::RObject_Impl<Rcpp::PreserveStorage>]’
/home/biocbuild/bbs-3.13-bioc/R/library/beachmat/include/beachmat3/read_lin_block.h:36:39:   required from ‘std::unique_ptr<_Codecvt> beachmat::read_lin_sparse_block_raw(Rcpp::RObject) [with M = beachmat::lin_matrix; Rcpp::RObject = Rcpp::RObject_Impl<Rcpp::PreserveStorage>]’
/home/biocbuild/bbs-3.13-bioc/R/library/beachmat/include/beachmat3/read_lin_block.h:65:63:   required from here
/home/biocbuild/bbs-3.13-bioc/R/library/beachmat/include/beachmat3/Csparse_reader.h:535:17: warning: comparison of integer expressions of different signedness: ‘const size_t’ {aka ‘const long unsigned int’} and ‘R_xlen_t’ {aka ‘long int’} [-Wsign-compare]
  535 |         if (nnz != x.size()) {
/home/biocbuild/bbs-3.13-bioc/R/library/beachmat/include/beachmat3/Csparse_reader.h:551:45: warning: comparison of integer expressions of different signedness: ‘int’ and ‘const size_t’ {aka ‘const long unsigned int’} [-Wsign-compare]
  551 |                     if (lastR <= 0 || lastR > NR || lastC <= 0 || lastC > NC) {
      |                                       ~~~~~~^~~~
/home/biocbuild/bbs-3.13-bioc/R/library/beachmat/include/beachmat3/Csparse_reader.h:551:73: warning: comparison of integer expressions of different signedness: ‘int’ and ‘const size_t’ {aka ‘const long unsigned int’} [-Wsign-compare]
  551 |                     if (lastR <= 0 || lastR > NR || lastC <= 0 || lastC > NC) {
      |                                                                   ~~~~~~^~~~
/home/biocbuild/bbs-3.13-bioc/R/library/beachmat/include/beachmat3/Csparse_reader.h:593:35: warning: comparison of integer expressions of different signedness: ‘int’ and ‘const size_t’ {aka ‘const long unsigned int’} [-Wsign-compare]
  593 |                 for (int v = 0; v < nnz; ++v, ++rowIt, ++colIt, ++xIt) {
      |                                 ~~^~~~~
/home/biocbuild/bbs-3.13-bioc/R/library/beachmat/include/beachmat3/Csparse_reader.h: In instantiation of ‘beachmat::SparseArraySeed_reader<V, TIT>::SparseArraySeed_reader(Rcpp::RObject) [with V = Rcpp::Vector<14, Rcpp::PreserveStorage>; TIT = const double*; Rcpp::RObject = Rcpp::RObject_Impl<Rcpp::PreserveStorage>]’:
/home/biocbuild/bbs-3.13-bioc/R/library/beachmat/include/beachmat3/lin_matrix.h:561:56:   required from ‘beachmat::lin_SparseArraySeed<V, TIT>::lin_SparseArraySeed(Rcpp::RObject) [with V = Rcpp::Vector<14, Rcpp::PreserveStorage>; TIT = const double*; Rcpp::RObject = Rcpp::RObject_Impl<Rcpp::PreserveStorage>]’
/home/biocbuild/bbs-3.13-bioc/R/library/beachmat/include/beachmat3/read_lin_block.h:38:39:   required from ‘std::unique_ptr<_Codecvt> beachmat::read_lin_sparse_block_raw(Rcpp::RObject) [with M = beachmat::lin_matrix; Rcpp::RObject = Rcpp::RObject_Impl<Rcpp::PreserveStorage>]’
/home/biocbuild/bbs-3.13-bioc/R/library/beachmat/include/beachmat3/read_lin_block.h:65:63:   required from here
/home/biocbuild/bbs-3.13-bioc/R/library/beachmat/include/beachmat3/Csparse_reader.h:535:17: warning: comparison of integer expressions of different signedness: ‘const size_t’ {aka ‘const long unsigned int’} and ‘R_xlen_t’ {aka ‘long int’} [-Wsign-compare]
  535 |         if (nnz != x.size()) {
/home/biocbuild/bbs-3.13-bioc/R/library/beachmat/include/beachmat3/Csparse_reader.h:551:45: warning: comparison of integer expressions of different signedness: ‘int’ and ‘const size_t’ {aka ‘const long unsigned int’} [-Wsign-compare]
  551 |                     if (lastR <= 0 || lastR > NR || lastC <= 0 || lastC > NC) {
      |                                       ~~~~~~^~~~
/home/biocbuild/bbs-3.13-bioc/R/library/beachmat/include/beachmat3/Csparse_reader.h:551:73: warning: comparison of integer expressions of different signedness: ‘int’ and ‘const size_t’ {aka ‘const long unsigned int’} [-Wsign-compare]
  551 |                     if (lastR <= 0 || lastR > NR || lastC <= 0 || lastC > NC) {
      |                                                                   ~~~~~~^~~~
/home/biocbuild/bbs-3.13-bioc/R/library/beachmat/include/beachmat3/Csparse_reader.h:593:35: warning: comparison of integer expressions of different signedness: ‘int’ and ‘const size_t’ {aka ‘const long unsigned int’} [-Wsign-compare]
  593 |                 for (int v = 0; v < nnz; ++v, ++rowIt, ++colIt, ++xIt) {
      |                                 ~~^~~~~
/home/biocbuild/bbs-3.13-bioc/R/library/beachmat/include/beachmat3/Csparse_reader.h: In instantiation of ‘beachmat::SparseArraySeed_reader<V, TIT>::SparseArraySeed_reader(Rcpp::RObject) [with V = Rcpp::Vector<10, Rcpp::PreserveStorage>; TIT = const int*; Rcpp::RObject = Rcpp::RObject_Impl<Rcpp::PreserveStorage>]’:
/home/biocbuild/bbs-3.13-bioc/R/library/beachmat/include/beachmat3/lin_matrix.h:561:56:   required from ‘beachmat::lin_SparseArraySeed<V, TIT>::lin_SparseArraySeed(Rcpp::RObject) [with V = Rcpp::Vector<10, Rcpp::PreserveStorage>; TIT = const int*; Rcpp::RObject = Rcpp::RObject_Impl<Rcpp::PreserveStorage>]’
/home/biocbuild/bbs-3.13-bioc/R/library/beachmat/include/beachmat3/read_lin_block.h:40:39:   required from ‘std::unique_ptr<_Codecvt> beachmat::read_lin_sparse_block_raw(Rcpp::RObject) [with M = beachmat::lin_matrix; Rcpp::RObject = Rcpp::RObject_Impl<Rcpp::PreserveStorage>]’
/home/biocbuild/bbs-3.13-bioc/R/library/beachmat/include/beachmat3/read_lin_block.h:65:63:   required from here
/home/biocbuild/bbs-3.13-bioc/R/library/beachmat/include/beachmat3/Csparse_reader.h:535:17: warning: comparison of integer expressions of different signedness: ‘const size_t’ {aka ‘const long unsigned int’} and ‘R_xlen_t’ {aka ‘long int’} [-Wsign-compare]
  535 |         if (nnz != x.size()) {
/home/biocbuild/bbs-3.13-bioc/R/library/beachmat/include/beachmat3/Csparse_reader.h:551:45: warning: comparison of integer expressions of different signedness: ‘int’ and ‘const size_t’ {aka ‘const long unsigned int’} [-Wsign-compare]
  551 |                     if (lastR <= 0 || lastR > NR || lastC <= 0 || lastC > NC) {
      |                                       ~~~~~~^~~~
/home/biocbuild/bbs-3.13-bioc/R/library/beachmat/include/beachmat3/Csparse_reader.h:551:73: warning: comparison of integer expressions of different signedness: ‘int’ and ‘const size_t’ {aka ‘const long unsigned int’} [-Wsign-compare]
  551 |                     if (lastR <= 0 || lastR > NR || lastC <= 0 || lastC > NC) {
      |                                                                   ~~~~~~^~~~
/home/biocbuild/bbs-3.13-bioc/R/library/beachmat/include/beachmat3/Csparse_reader.h:593:35: warning: comparison of integer expressions of different signedness: ‘int’ and ‘const size_t’ {aka ‘const long unsigned int’} [-Wsign-compare]
  593 |                 for (int v = 0; v < nnz; ++v, ++rowIt, ++colIt, ++xIt) {
      |                                 ~~^~~~~
/home/biocbuild/bbs-3.13-bioc/R/library/beachmat/include/beachmat3/Csparse_reader.h: In instantiation of ‘beachmat::sparse_index<OUT, I> beachmat::Csparse_core<TIT, I, P>::get_row(size_t, ALT, I*, size_t, size_t) [with OUT = const int*; ALT = int*; TIT = const double*; I = int; P = long unsigned int; size_t = long unsigned int]’:
/home/biocbuild/bbs-3.13-bioc/R/library/beachmat/include/beachmat3/Csparse_reader.h:650:73:   required from ‘beachmat::sparse_index<OUT, int> beachmat::SparseArraySeed_reader<V, TIT>::get_row(size_t, ALT, int*, size_t, size_t) [with OUT = const int*; ALT = int*; V = Rcpp::Vector<14, Rcpp::PreserveStorage>; TIT = const double*; size_t = long unsigned int]’
/home/biocbuild/bbs-3.13-bioc/R/library/beachmat/include/beachmat3/lin_matrix.h:596:82:   required from ‘beachmat::sparse_index<const int*, int> beachmat::lin_SparseArraySeed<V, TIT>::get_row(size_t, int*, int*, size_t, size_t) [with V = Rcpp::Vector<14, Rcpp::PreserveStorage>; TIT = const double*; size_t = long unsigned int]’
/home/biocbuild/bbs-3.13-bioc/R/library/beachmat/include/beachmat3/lin_matrix.h:595:35:   required from here
/home/biocbuild/bbs-3.13-bioc/R/library/beachmat/include/beachmat3/Csparse_reader.h:250:22: warning: comparison of integer expressions of different signedness: ‘const int’ and ‘const long unsigned int’ [-Wsign-compare]
  250 |             if (idex != *pIt && static_cast<size_t>(i[idex]) == r) {
      |                 ~~~~~^~~~~~~
/home/biocbuild/bbs-3.13-bioc/R/library/beachmat/include/beachmat3/Csparse_reader.h: In instantiation of ‘beachmat::sparse_index<OUT, I> beachmat::Csparse_core<TIT, I, P>::get_row(size_t, ALT, I*, size_t, size_t) [with OUT = const double*; ALT = double*; TIT = const double*; I = int; P = long unsigned int; size_t = long unsigned int]’:
/home/biocbuild/bbs-3.13-bioc/R/library/beachmat/include/beachmat3/Csparse_reader.h:650:73:   required from ‘beachmat::sparse_index<OUT, int> beachmat::SparseArraySeed_reader<V, TIT>::get_row(size_t, ALT, int*, size_t, size_t) [with OUT = const double*; ALT = double*; V = Rcpp::Vector<14, Rcpp::PreserveStorage>; TIT = const double*; size_t = long unsigned int]’
/home/biocbuild/bbs-3.13-bioc/R/library/beachmat/include/beachmat3/lin_matrix.h:602:85:   required from ‘beachmat::sparse_index<const double*, int> beachmat::lin_SparseArraySeed<V, TIT>::get_row(size_t, double*, int*, size_t, size_t) [with V = Rcpp::Vector<14, Rcpp::PreserveStorage>; TIT = const double*; size_t = long unsigned int]’
/home/biocbuild/bbs-3.13-bioc/R/library/beachmat/include/beachmat3/lin_matrix.h:601:38:   required from here
/home/biocbuild/bbs-3.13-bioc/R/library/beachmat/include/beachmat3/Csparse_reader.h:250:22: warning: comparison of integer expressions of different signedness: ‘const int’ and ‘const long unsigned int’ [-Wsign-compare]
/home/biocbuild/bbs-3.13-bioc/R/library/beachmat/include/beachmat3/Csparse_reader.h: In instantiation of ‘beachmat::sparse_index<OUT, I> beachmat::Csparse_core<TIT, I, P>::get_row(size_t, ALT, I*, size_t, size_t) [with OUT = const int*; ALT = int*; TIT = const int*; I = int; P = long unsigned int; size_t = long unsigned int]’:
/home/biocbuild/bbs-3.13-bioc/R/library/beachmat/include/beachmat3/Csparse_reader.h:650:73:   required from ‘beachmat::sparse_index<OUT, int> beachmat::SparseArraySeed_reader<V, TIT>::get_row(size_t, ALT, int*, size_t, size_t) [with OUT = const int*; ALT = int*; V = Rcpp::Vector<10, Rcpp::PreserveStorage>; TIT = const int*; size_t = long unsigned int]’
/home/biocbuild/bbs-3.13-bioc/R/library/beachmat/include/beachmat3/lin_matrix.h:596:82:   required from ‘beachmat::sparse_index<const int*, int> beachmat::lin_SparseArraySeed<V, TIT>::get_row(size_t, int*, int*, size_t, size_t) [with V = Rcpp::Vector<10, Rcpp::PreserveStorage>; TIT = const int*; size_t = long unsigned int]’
/home/biocbuild/bbs-3.13-bioc/R/library/beachmat/include/beachmat3/lin_matrix.h:595:35:   required from here
/home/biocbuild/bbs-3.13-bioc/R/library/beachmat/include/beachmat3/Csparse_reader.h:250:22: warning: comparison of integer expressions of different signedness: ‘const int’ and ‘const long unsigned int’ [-Wsign-compare]
/home/biocbuild/bbs-3.13-bioc/R/library/beachmat/include/beachmat3/Csparse_reader.h: In instantiation of ‘beachmat::sparse_index<OUT, I> beachmat::Csparse_core<TIT, I, P>::get_row(size_t, ALT, I*, size_t, size_t) [with OUT = const double*; ALT = double*; TIT = const int*; I = int; P = long unsigned int; size_t = long unsigned int]’:
/home/biocbuild/bbs-3.13-bioc/R/library/beachmat/include/beachmat3/Csparse_reader.h:650:73:   required from ‘beachmat::sparse_index<OUT, int> beachmat::SparseArraySeed_reader<V, TIT>::get_row(size_t, ALT, int*, size_t, size_t) [with OUT = const double*; ALT = double*; V = Rcpp::Vector<10, Rcpp::PreserveStorage>; TIT = const int*; size_t = long unsigned int]’
/home/biocbuild/bbs-3.13-bioc/R/library/beachmat/include/beachmat3/lin_matrix.h:602:85:   required from ‘beachmat::sparse_index<const double*, int> beachmat::lin_SparseArraySeed<V, TIT>::get_row(size_t, double*, int*, size_t, size_t) [with V = Rcpp::Vector<10, Rcpp::PreserveStorage>; TIT = const int*; size_t = long unsigned int]’
/home/biocbuild/bbs-3.13-bioc/R/library/beachmat/include/beachmat3/lin_matrix.h:601:38:   required from here
/home/biocbuild/bbs-3.13-bioc/R/library/beachmat/include/beachmat3/Csparse_reader.h:250:22: warning: comparison of integer expressions of different signedness: ‘const int’ and ‘const long unsigned int’ [-Wsign-compare]
g++ -std=gnu++11 -I"/home/biocbuild/bbs-3.13-bioc/R/include" -DNDEBUG  -I'/home/biocbuild/bbs-3.13-bioc/R/library/Rcpp/include' -I'/home/biocbuild/bbs-3.13-bioc/R/library/beachmat/include' -I'/home/biocbuild/bbs-3.13-bioc/R/library/Rhdf5lib/include' -I'/home/biocbuild/bbs-3.13-bioc/R/library/BH/include' -I'/home/biocbuild/bbs-3.13-bioc/R/library/dqrng/include' -I'/home/biocbuild/bbs-3.13-bioc/R/library/scuttle/include' -I/usr/local/include   -fpic  -g -O2  -Wall -c get_cell_barcodes.cpp -o get_cell_barcodes.o
g++ -std=gnu++11 -I"/home/biocbuild/bbs-3.13-bioc/R/include" -DNDEBUG  -I'/home/biocbuild/bbs-3.13-bioc/R/library/Rcpp/include' -I'/home/biocbuild/bbs-3.13-bioc/R/library/beachmat/include' -I'/home/biocbuild/bbs-3.13-bioc/R/library/Rhdf5lib/include' -I'/home/biocbuild/bbs-3.13-bioc/R/library/BH/include' -I'/home/biocbuild/bbs-3.13-bioc/R/library/dqrng/include' -I'/home/biocbuild/bbs-3.13-bioc/R/library/scuttle/include' -I/usr/local/include   -fpic  -g -O2  -Wall -c group_cells.cpp -o group_cells.o
group_cells.cpp: In function ‘Rcpp::List group_cells(Rcpp::StringVector, Rcpp::IntegerVector)’:
group_cells.cpp:10:10: warning: comparison of integer expressions of different signedness: ‘const size_t’ {aka ‘const long unsigned int’} and ‘R_xlen_t’ {aka ‘long int’} [-Wsign-compare]
   10 |     if (N!=gems.size()) {
      |         ~^~~~~~~~~~~~~
g++ -std=gnu++11 -I"/home/biocbuild/bbs-3.13-bioc/R/include" -DNDEBUG  -I'/home/biocbuild/bbs-3.13-bioc/R/library/Rcpp/include' -I'/home/biocbuild/bbs-3.13-bioc/R/library/beachmat/include' -I'/home/biocbuild/bbs-3.13-bioc/R/library/Rhdf5lib/include' -I'/home/biocbuild/bbs-3.13-bioc/R/library/BH/include' -I'/home/biocbuild/bbs-3.13-bioc/R/library/dqrng/include' -I'/home/biocbuild/bbs-3.13-bioc/R/library/scuttle/include' -I/usr/local/include   -fpic  -g -O2  -Wall -c hashed_deltas.cpp -o hashed_deltas.o
In file included from /home/biocbuild/bbs-3.13-bioc/R/library/beachmat/include/beachmat3/lin_matrix.h:12,
                 from /home/biocbuild/bbs-3.13-bioc/R/library/beachmat/include/beachmat3/read_lin_block.h:11,
                 from /home/biocbuild/bbs-3.13-bioc/R/library/beachmat/include/beachmat3/beachmat.h:24,
                 from hashed_deltas.cpp:2:
/home/biocbuild/bbs-3.13-bioc/R/library/beachmat/include/beachmat3/Csparse_reader.h: In instantiation of ‘beachmat::SparseArraySeed_reader<V, TIT>::SparseArraySeed_reader(Rcpp::RObject) [with V = Rcpp::Vector<13>; TIT = const int*; Rcpp::RObject = Rcpp::RObject_Impl<Rcpp::PreserveStorage>]’:
/home/biocbuild/bbs-3.13-bioc/R/library/beachmat/include/beachmat3/lin_matrix.h:561:56:   required from ‘beachmat::lin_SparseArraySeed<V, TIT>::lin_SparseArraySeed(Rcpp::RObject) [with V = Rcpp::Vector<13>; TIT = const int*; Rcpp::RObject = Rcpp::RObject_Impl<Rcpp::PreserveStorage>]’
/home/biocbuild/bbs-3.13-bioc/R/library/beachmat/include/beachmat3/read_lin_block.h:36:39:   required from ‘std::unique_ptr<_Codecvt> beachmat::read_lin_sparse_block_raw(Rcpp::RObject) [with M = beachmat::lin_matrix; Rcpp::RObject = Rcpp::RObject_Impl<Rcpp::PreserveStorage>]’
/home/biocbuild/bbs-3.13-bioc/R/library/beachmat/include/beachmat3/read_lin_block.h:65:63:   required from here
/home/biocbuild/bbs-3.13-bioc/R/library/beachmat/include/beachmat3/Csparse_reader.h:535:17: warning: comparison of integer expressions of different signedness: ‘const size_t’ {aka ‘const long unsigned int’} and ‘R_xlen_t’ {aka ‘long int’} [-Wsign-compare]
  535 |         if (nnz != x.size()) {
/home/biocbuild/bbs-3.13-bioc/R/library/beachmat/include/beachmat3/Csparse_reader.h:551:45: warning: comparison of integer expressions of different signedness: ‘int’ and ‘const size_t’ {aka ‘const long unsigned int’} [-Wsign-compare]
  551 |                     if (lastR <= 0 || lastR > NR || lastC <= 0 || lastC > NC) {
      |                                       ~~~~~~^~~~
/home/biocbuild/bbs-3.13-bioc/R/library/beachmat/include/beachmat3/Csparse_reader.h:551:73: warning: comparison of integer expressions of different signedness: ‘int’ and ‘const size_t’ {aka ‘const long unsigned int’} [-Wsign-compare]
  551 |                     if (lastR <= 0 || lastR > NR || lastC <= 0 || lastC > NC) {
      |                                                                   ~~~~~~^~~~
/home/biocbuild/bbs-3.13-bioc/R/library/beachmat/include/beachmat3/Csparse_reader.h:593:35: warning: comparison of integer expressions of different signedness: ‘int’ and ‘const size_t’ {aka ‘const long unsigned int’} [-Wsign-compare]
  593 |                 for (int v = 0; v < nnz; ++v, ++rowIt, ++colIt, ++xIt) {
      |                                 ~~^~~~~
/home/biocbuild/bbs-3.13-bioc/R/library/beachmat/include/beachmat3/Csparse_reader.h: In instantiation of ‘beachmat::SparseArraySeed_reader<V, TIT>::SparseArraySeed_reader(Rcpp::RObject) [with V = Rcpp::Vector<14, Rcpp::PreserveStorage>; TIT = const double*; Rcpp::RObject = Rcpp::RObject_Impl<Rcpp::PreserveStorage>]’:
/home/biocbuild/bbs-3.13-bioc/R/library/beachmat/include/beachmat3/lin_matrix.h:561:56:   required from ‘beachmat::lin_SparseArraySeed<V, TIT>::lin_SparseArraySeed(Rcpp::RObject) [with V = Rcpp::Vector<14, Rcpp::PreserveStorage>; TIT = const double*; Rcpp::RObject = Rcpp::RObject_Impl<Rcpp::PreserveStorage>]’
/home/biocbuild/bbs-3.13-bioc/R/library/beachmat/include/beachmat3/read_lin_block.h:38:39:   required from ‘std::unique_ptr<_Codecvt> beachmat::read_lin_sparse_block_raw(Rcpp::RObject) [with M = beachmat::lin_matrix; Rcpp::RObject = Rcpp::RObject_Impl<Rcpp::PreserveStorage>]’
/home/biocbuild/bbs-3.13-bioc/R/library/beachmat/include/beachmat3/read_lin_block.h:65:63:   required from here
/home/biocbuild/bbs-3.13-bioc/R/library/beachmat/include/beachmat3/Csparse_reader.h:535:17: warning: comparison of integer expressions of different signedness: ‘const size_t’ {aka ‘const long unsigned int’} and ‘R_xlen_t’ {aka ‘long int’} [-Wsign-compare]
  535 |         if (nnz != x.size()) {
/home/biocbuild/bbs-3.13-bioc/R/library/beachmat/include/beachmat3/Csparse_reader.h:551:45: warning: comparison of integer expressions of different signedness: ‘int’ and ‘const size_t’ {aka ‘const long unsigned int’} [-Wsign-compare]
  551 |                     if (lastR <= 0 || lastR > NR || lastC <= 0 || lastC > NC) {
      |                                       ~~~~~~^~~~
/home/biocbuild/bbs-3.13-bioc/R/library/beachmat/include/beachmat3/Csparse_reader.h:551:73: warning: comparison of integer expressions of different signedness: ‘int’ and ‘const size_t’ {aka ‘const long unsigned int’} [-Wsign-compare]
  551 |                     if (lastR <= 0 || lastR > NR || lastC <= 0 || lastC > NC) {
      |                                                                   ~~~~~~^~~~
/home/biocbuild/bbs-3.13-bioc/R/library/beachmat/include/beachmat3/Csparse_reader.h:593:35: warning: comparison of integer expressions of different signedness: ‘int’ and ‘const size_t’ {aka ‘const long unsigned int’} [-Wsign-compare]
  593 |                 for (int v = 0; v < nnz; ++v, ++rowIt, ++colIt, ++xIt) {
      |                                 ~~^~~~~
/home/biocbuild/bbs-3.13-bioc/R/library/beachmat/include/beachmat3/Csparse_reader.h: In instantiation of ‘beachmat::SparseArraySeed_reader<V, TIT>::SparseArraySeed_reader(Rcpp::RObject) [with V = Rcpp::Vector<10, Rcpp::PreserveStorage>; TIT = const int*; Rcpp::RObject = Rcpp::RObject_Impl<Rcpp::PreserveStorage>]’:
/home/biocbuild/bbs-3.13-bioc/R/library/beachmat/include/beachmat3/lin_matrix.h:561:56:   required from ‘beachmat::lin_SparseArraySeed<V, TIT>::lin_SparseArraySeed(Rcpp::RObject) [with V = Rcpp::Vector<10, Rcpp::PreserveStorage>; TIT = const int*; Rcpp::RObject = Rcpp::RObject_Impl<Rcpp::PreserveStorage>]’
/home/biocbuild/bbs-3.13-bioc/R/library/beachmat/include/beachmat3/read_lin_block.h:40:39:   required from ‘std::unique_ptr<_Codecvt> beachmat::read_lin_sparse_block_raw(Rcpp::RObject) [with M = beachmat::lin_matrix; Rcpp::RObject = Rcpp::RObject_Impl<Rcpp::PreserveStorage>]’
/home/biocbuild/bbs-3.13-bioc/R/library/beachmat/include/beachmat3/read_lin_block.h:65:63:   required from here
/home/biocbuild/bbs-3.13-bioc/R/library/beachmat/include/beachmat3/Csparse_reader.h:535:17: warning: comparison of integer expressions of different signedness: ‘const size_t’ {aka ‘const long unsigned int’} and ‘R_xlen_t’ {aka ‘long int’} [-Wsign-compare]
  535 |         if (nnz != x.size()) {
/home/biocbuild/bbs-3.13-bioc/R/library/beachmat/include/beachmat3/Csparse_reader.h:551:45: warning: comparison of integer expressions of different signedness: ‘int’ and ‘const size_t’ {aka ‘const long unsigned int’} [-Wsign-compare]
  551 |                     if (lastR <= 0 || lastR > NR || lastC <= 0 || lastC > NC) {
      |                                       ~~~~~~^~~~
/home/biocbuild/bbs-3.13-bioc/R/library/beachmat/include/beachmat3/Csparse_reader.h:551:73: warning: comparison of integer expressions of different signedness: ‘int’ and ‘const size_t’ {aka ‘const long unsigned int’} [-Wsign-compare]
  551 |                     if (lastR <= 0 || lastR > NR || lastC <= 0 || lastC > NC) {
      |                                                                   ~~~~~~^~~~
/home/biocbuild/bbs-3.13-bioc/R/library/beachmat/include/beachmat3/Csparse_reader.h:593:35: warning: comparison of integer expressions of different signedness: ‘int’ and ‘const size_t’ {aka ‘const long unsigned int’} [-Wsign-compare]
  593 |                 for (int v = 0; v < nnz; ++v, ++rowIt, ++colIt, ++xIt) {
      |                                 ~~^~~~~
/home/biocbuild/bbs-3.13-bioc/R/library/beachmat/include/beachmat3/Csparse_reader.h: In instantiation of ‘beachmat::sparse_index<OUT, I> beachmat::Csparse_core<TIT, I, P>::get_row(size_t, ALT, I*, size_t, size_t) [with OUT = const int*; ALT = int*; TIT = const double*; I = int; P = long unsigned int; size_t = long unsigned int]’:
/home/biocbuild/bbs-3.13-bioc/R/library/beachmat/include/beachmat3/Csparse_reader.h:650:73:   required from ‘beachmat::sparse_index<OUT, int> beachmat::SparseArraySeed_reader<V, TIT>::get_row(size_t, ALT, int*, size_t, size_t) [with OUT = const int*; ALT = int*; V = Rcpp::Vector<14, Rcpp::PreserveStorage>; TIT = const double*; size_t = long unsigned int]’
/home/biocbuild/bbs-3.13-bioc/R/library/beachmat/include/beachmat3/lin_matrix.h:596:82:   required from ‘beachmat::sparse_index<const int*, int> beachmat::lin_SparseArraySeed<V, TIT>::get_row(size_t, int*, int*, size_t, size_t) [with V = Rcpp::Vector<14, Rcpp::PreserveStorage>; TIT = const double*; size_t = long unsigned int]’
/home/biocbuild/bbs-3.13-bioc/R/library/beachmat/include/beachmat3/lin_matrix.h:595:35:   required from here
/home/biocbuild/bbs-3.13-bioc/R/library/beachmat/include/beachmat3/Csparse_reader.h:250:22: warning: comparison of integer expressions of different signedness: ‘const int’ and ‘const long unsigned int’ [-Wsign-compare]
  250 |             if (idex != *pIt && static_cast<size_t>(i[idex]) == r) {
      |                 ~~~~~^~~~~~~
/home/biocbuild/bbs-3.13-bioc/R/library/beachmat/include/beachmat3/Csparse_reader.h: In instantiation of ‘beachmat::sparse_index<OUT, I> beachmat::Csparse_core<TIT, I, P>::get_row(size_t, ALT, I*, size_t, size_t) [with OUT = const double*; ALT = double*; TIT = const double*; I = int; P = long unsigned int; size_t = long unsigned int]’:
/home/biocbuild/bbs-3.13-bioc/R/library/beachmat/include/beachmat3/Csparse_reader.h:650:73:   required from ‘beachmat::sparse_index<OUT, int> beachmat::SparseArraySeed_reader<V, TIT>::get_row(size_t, ALT, int*, size_t, size_t) [with OUT = const double*; ALT = double*; V = Rcpp::Vector<14, Rcpp::PreserveStorage>; TIT = const double*; size_t = long unsigned int]’
/home/biocbuild/bbs-3.13-bioc/R/library/beachmat/include/beachmat3/lin_matrix.h:602:85:   required from ‘beachmat::sparse_index<const double*, int> beachmat::lin_SparseArraySeed<V, TIT>::get_row(size_t, double*, int*, size_t, size_t) [with V = Rcpp::Vector<14, Rcpp::PreserveStorage>; TIT = const double*; size_t = long unsigned int]’
/home/biocbuild/bbs-3.13-bioc/R/library/beachmat/include/beachmat3/lin_matrix.h:601:38:   required from here
/home/biocbuild/bbs-3.13-bioc/R/library/beachmat/include/beachmat3/Csparse_reader.h:250:22: warning: comparison of integer expressions of different signedness: ‘const int’ and ‘const long unsigned int’ [-Wsign-compare]
/home/biocbuild/bbs-3.13-bioc/R/library/beachmat/include/beachmat3/Csparse_reader.h: In instantiation of ‘beachmat::sparse_index<OUT, I> beachmat::Csparse_core<TIT, I, P>::get_row(size_t, ALT, I*, size_t, size_t) [with OUT = const int*; ALT = int*; TIT = const int*; I = int; P = long unsigned int; size_t = long unsigned int]’:
/home/biocbuild/bbs-3.13-bioc/R/library/beachmat/include/beachmat3/Csparse_reader.h:650:73:   required from ‘beachmat::sparse_index<OUT, int> beachmat::SparseArraySeed_reader<V, TIT>::get_row(size_t, ALT, int*, size_t, size_t) [with OUT = const int*; ALT = int*; V = Rcpp::Vector<10, Rcpp::PreserveStorage>; TIT = const int*; size_t = long unsigned int]’
/home/biocbuild/bbs-3.13-bioc/R/library/beachmat/include/beachmat3/lin_matrix.h:596:82:   required from ‘beachmat::sparse_index<const int*, int> beachmat::lin_SparseArraySeed<V, TIT>::get_row(size_t, int*, int*, size_t, size_t) [with V = Rcpp::Vector<10, Rcpp::PreserveStorage>; TIT = const int*; size_t = long unsigned int]’
/home/biocbuild/bbs-3.13-bioc/R/library/beachmat/include/beachmat3/lin_matrix.h:595:35:   required from here
/home/biocbuild/bbs-3.13-bioc/R/library/beachmat/include/beachmat3/Csparse_reader.h:250:22: warning: comparison of integer expressions of different signedness: ‘const int’ and ‘const long unsigned int’ [-Wsign-compare]
/home/biocbuild/bbs-3.13-bioc/R/library/beachmat/include/beachmat3/Csparse_reader.h: In instantiation of ‘beachmat::sparse_index<OUT, I> beachmat::Csparse_core<TIT, I, P>::get_row(size_t, ALT, I*, size_t, size_t) [with OUT = const double*; ALT = double*; TIT = const int*; I = int; P = long unsigned int; size_t = long unsigned int]’:
/home/biocbuild/bbs-3.13-bioc/R/library/beachmat/include/beachmat3/Csparse_reader.h:650:73:   required from ‘beachmat::sparse_index<OUT, int> beachmat::SparseArraySeed_reader<V, TIT>::get_row(size_t, ALT, int*, size_t, size_t) [with OUT = const double*; ALT = double*; V = Rcpp::Vector<10, Rcpp::PreserveStorage>; TIT = const int*; size_t = long unsigned int]’
/home/biocbuild/bbs-3.13-bioc/R/library/beachmat/include/beachmat3/lin_matrix.h:602:85:   required from ‘beachmat::sparse_index<const double*, int> beachmat::lin_SparseArraySeed<V, TIT>::get_row(size_t, double*, int*, size_t, size_t) [with V = Rcpp::Vector<10, Rcpp::PreserveStorage>; TIT = const int*; size_t = long unsigned int]’
/home/biocbuild/bbs-3.13-bioc/R/library/beachmat/include/beachmat3/lin_matrix.h:601:38:   required from here
/home/biocbuild/bbs-3.13-bioc/R/library/beachmat/include/beachmat3/Csparse_reader.h:250:22: warning: comparison of integer expressions of different signedness: ‘const int’ and ‘const long unsigned int’ [-Wsign-compare]
g++ -std=gnu++11 -I"/home/biocbuild/bbs-3.13-bioc/R/include" -DNDEBUG  -I'/home/biocbuild/bbs-3.13-bioc/R/library/Rcpp/include' -I'/home/biocbuild/bbs-3.13-bioc/R/library/beachmat/include' -I'/home/biocbuild/bbs-3.13-bioc/R/library/Rhdf5lib/include' -I'/home/biocbuild/bbs-3.13-bioc/R/library/BH/include' -I'/home/biocbuild/bbs-3.13-bioc/R/library/dqrng/include' -I'/home/biocbuild/bbs-3.13-bioc/R/library/scuttle/include' -I/usr/local/include   -fpic  -g -O2  -Wall -c montecarlo_pval.cpp -o montecarlo_pval.o
In file included from /home/biocbuild/bbs-3.13-bioc/R/library/BH/include/boost/mpl/aux_/na_assert.hpp:23,
                 from /home/biocbuild/bbs-3.13-bioc/R/library/BH/include/boost/mpl/arg.hpp:25,
                 from /home/biocbuild/bbs-3.13-bioc/R/library/BH/include/boost/mpl/placeholders.hpp:24,
                 from /home/biocbuild/bbs-3.13-bioc/R/library/BH/include/boost/mpl/apply.hpp:24,
                 from /home/biocbuild/bbs-3.13-bioc/R/library/BH/include/boost/mpl/aux_/iter_apply.hpp:17,
                 from /home/biocbuild/bbs-3.13-bioc/R/library/BH/include/boost/mpl/aux_/find_if_pred.hpp:14,
                 from /home/biocbuild/bbs-3.13-bioc/R/library/BH/include/boost/mpl/find_if.hpp:17,
                 from /home/biocbuild/bbs-3.13-bioc/R/library/BH/include/boost/mpl/find.hpp:17,
                 from /home/biocbuild/bbs-3.13-bioc/R/library/BH/include/boost/mpl/aux_/contains_impl.hpp:20,
                 from /home/biocbuild/bbs-3.13-bioc/R/library/BH/include/boost/mpl/contains.hpp:20,
                 from /home/biocbuild/bbs-3.13-bioc/R/library/BH/include/boost/math/policies/policy.hpp:10,
                 from /home/biocbuild/bbs-3.13-bioc/R/library/BH/include/boost/math/special_functions/math_fwd.hpp:29,
                 from /home/biocbuild/bbs-3.13-bioc/R/library/BH/include/boost/math/special_functions/fpclassify.hpp:19,
                 from /home/biocbuild/bbs-3.13-bioc/R/library/BH/include/boost/random/hyperexponential_distribution.hpp:22,
                 from /home/biocbuild/bbs-3.13-bioc/R/library/BH/include/boost/random.hpp:69,
                 from montecarlo_pval.cpp:3:
/home/biocbuild/bbs-3.13-bioc/R/library/BH/include/boost/mpl/assert.hpp:194:21: warning: unnecessary parentheses in declaration of ‘assert_arg’ [-Wparentheses]
  194 | failed ************ (Pred::************
      |                     ^
/home/biocbuild/bbs-3.13-bioc/R/library/BH/include/boost/mpl/assert.hpp:199:21: warning: unnecessary parentheses in declaration of ‘assert_not_arg’ [-Wparentheses]
  199 | failed ************ (boost::mpl::not_<Pred>::************
      |                     ^
montecarlo_pval.cpp: In function ‘Rcpp::IntegerVector montecarlo_pval(Rcpp::IntegerVector, Rcpp::IntegerVector, Rcpp::NumericVector, Rcpp::NumericVector, int, double, Rcpp::List, Rcpp::IntegerVector)’:
montecarlo_pval.cpp:99:23: warning: comparison of integer expressions of different signedness: ‘size_t’ {aka ‘long unsigned int’} and ‘const int’ [-Wsign-compare]
   99 |             if (higher<curlen) {
      |                 ~~~~~~^~~~~~~
g++ -std=gnu++11 -I"/home/biocbuild/bbs-3.13-bioc/R/include" -DNDEBUG  -I'/home/biocbuild/bbs-3.13-bioc/R/library/Rcpp/include' -I'/home/biocbuild/bbs-3.13-bioc/R/library/beachmat/include' -I'/home/biocbuild/bbs-3.13-bioc/R/library/Rhdf5lib/include' -I'/home/biocbuild/bbs-3.13-bioc/R/library/BH/include' -I'/home/biocbuild/bbs-3.13-bioc/R/library/dqrng/include' -I'/home/biocbuild/bbs-3.13-bioc/R/library/scuttle/include' -I/usr/local/include   -fpic  -g -O2  -Wall -c rand_custom.cpp -o rand_custom.o
rand_custom.cpp: In function ‘void check_pcg_vectors(Rcpp::List, Rcpp::IntegerVector, size_t, const char*)’:
rand_custom.cpp:8:21: warning: comparison of integer expressions of different signedness: ‘R_xlen_t’ {aka ‘long int’} and ‘size_t’ {aka ‘long unsigned int’} [-Wsign-compare]
    8 |     if (seeds.size()!=N) {
      |         ~~~~~~~~~~~~^~~
rand_custom.cpp:14:23: warning: comparison of integer expressions of different signedness: ‘R_xlen_t’ {aka ‘long int’} and ‘size_t’ {aka ‘long unsigned int’} [-Wsign-compare]
   14 |     if (streams.size()!=N) {
      |         ~~~~~~~~~~~~~~^~~
g++ -std=gnu++11 -I"/home/biocbuild/bbs-3.13-bioc/R/include" -DNDEBUG  -I'/home/biocbuild/bbs-3.13-bioc/R/library/Rcpp/include' -I'/home/biocbuild/bbs-3.13-bioc/R/library/beachmat/include' -I'/home/biocbuild/bbs-3.13-bioc/R/library/Rhdf5lib/include' -I'/home/biocbuild/bbs-3.13-bioc/R/library/BH/include' -I'/home/biocbuild/bbs-3.13-bioc/R/library/dqrng/include' -I'/home/biocbuild/bbs-3.13-bioc/R/library/scuttle/include' -I/usr/local/include   -fpic  -g -O2  -Wall -c utils.cpp -o utils.o
g++ -std=gnu++11 -shared -L/home/biocbuild/bbs-3.13-bioc/R/lib -L/usr/local/lib -o DropletUtils.so RcppExports.o downsample_run.o encode_sequences.o find_chimeric.o find_swapped.o get_cell_barcodes.o group_cells.o hashed_deltas.o montecarlo_pval.o rand_custom.o utils.o /home/biocbuild/bbs-3.13-bioc/R/library/Rhdf5lib/lib/libhdf5_cpp.a /home/biocbuild/bbs-3.13-bioc/R/library/Rhdf5lib/lib/libhdf5.a /home/biocbuild/bbs-3.13-bioc/R/library/Rhdf5lib/lib/libsz.a -lcrypto -lcurl -lz -L/home/biocbuild/bbs-3.13-bioc/R/lib -lR
installing to /home/biocbuild/bbs-3.13-bioc/R/library/00LOCK-DropletUtils/00new/DropletUtils/libs
** R
** inst
** byte-compile and prepare package for lazy loading
** help
*** installing help indices
** building package indices
** installing vignettes
** testing if installed package can be loaded from temporary location
** checking absolute paths in shared objects and dynamic libraries
** testing if installed package can be loaded from final location
** testing if installed package keeps a record of temporary installation path
* DONE (DropletUtils)

Tests output

DropletUtils.Rcheck/tests/testthat.Rout


R version 4.1.1 (2021-08-10) -- "Kick Things"
Copyright (C) 2021 The R Foundation for Statistical Computing
Platform: x86_64-pc-linux-gnu (64-bit)

R is free software and comes with ABSOLUTELY NO WARRANTY.
You are welcome to redistribute it under certain conditions.
Type 'license()' or 'licence()' for distribution details.

R is a collaborative project with many contributors.
Type 'contributors()' for more information and
'citation()' on how to cite R or R packages in publications.

Type 'demo()' for some demos, 'help()' for on-line help, or
'help.start()' for an HTML browser interface to help.
Type 'q()' to quit R.

> library(testthat)
> library(DropletUtils)
Loading required package: SingleCellExperiment
Loading required package: SummarizedExperiment
Loading required package: MatrixGenerics
Loading required package: matrixStats

Attaching package: 'MatrixGenerics'

The following objects are masked from 'package:matrixStats':

    colAlls, colAnyNAs, colAnys, colAvgsPerRowSet, colCollapse,
    colCounts, colCummaxs, colCummins, colCumprods, colCumsums,
    colDiffs, colIQRDiffs, colIQRs, colLogSumExps, colMadDiffs,
    colMads, colMaxs, colMeans2, colMedians, colMins, colOrderStats,
    colProds, colQuantiles, colRanges, colRanks, colSdDiffs, colSds,
    colSums2, colTabulates, colVarDiffs, colVars, colWeightedMads,
    colWeightedMeans, colWeightedMedians, colWeightedSds,
    colWeightedVars, rowAlls, rowAnyNAs, rowAnys, rowAvgsPerColSet,
    rowCollapse, rowCounts, rowCummaxs, rowCummins, rowCumprods,
    rowCumsums, rowDiffs, rowIQRDiffs, rowIQRs, rowLogSumExps,
    rowMadDiffs, rowMads, rowMaxs, rowMeans2, rowMedians, rowMins,
    rowOrderStats, rowProds, rowQuantiles, rowRanges, rowRanks,
    rowSdDiffs, rowSds, rowSums2, rowTabulates, rowVarDiffs, rowVars,
    rowWeightedMads, rowWeightedMeans, rowWeightedMedians,
    rowWeightedSds, rowWeightedVars

Loading required package: GenomicRanges
Loading required package: stats4
Loading required package: BiocGenerics
Loading required package: parallel

Attaching package: 'BiocGenerics'

The following objects are masked from 'package:parallel':

    clusterApply, clusterApplyLB, clusterCall, clusterEvalQ,
    clusterExport, clusterMap, parApply, parCapply, parLapply,
    parLapplyLB, parRapply, parSapply, parSapplyLB

The following objects are masked from 'package:stats':

    IQR, mad, sd, var, xtabs

The following objects are masked from 'package:base':

    Filter, Find, Map, Position, Reduce, anyDuplicated, append,
    as.data.frame, basename, cbind, colnames, dirname, do.call,
    duplicated, eval, evalq, get, grep, grepl, intersect, is.unsorted,
    lapply, mapply, match, mget, order, paste, pmax, pmax.int, pmin,
    pmin.int, rank, rbind, rownames, sapply, setdiff, sort, table,
    tapply, union, unique, unsplit, which.max, which.min

Loading required package: S4Vectors

Attaching package: 'S4Vectors'

The following objects are masked from 'package:base':

    I, expand.grid, unname

Loading required package: IRanges
Loading required package: GenomeInfoDb
Loading required package: Biobase
Welcome to Bioconductor

    Vignettes contain introductory material; view with
    'browseVignettes()'. To cite Bioconductor, see
    'citation("Biobase")', and for packages 'citation("pkgname")'.


Attaching package: 'Biobase'

The following object is masked from 'package:MatrixGenerics':

    rowMedians

The following objects are masked from 'package:matrixStats':

    anyMissing, rowMedians

> test_check("DropletUtils")
[ FAIL 0 | WARN 4 | SKIP 0 | PASS 986 ]
> 
> proc.time()
   user  system elapsed 
117.437   3.389 117.698 

Example timings

DropletUtils.Rcheck/DropletUtils-Ex.timings

nameusersystemelapsed
ambientContribMaximum0.9420.0200.963
ambientContribNegative0.0210.0000.021
ambientContribSparse0.0260.0040.030
ambientProfileBimodal0.0020.0040.007
ambientProfileEmpty0.1140.0130.128
barcodeRanks0.2600.0150.275
chimericDrops0.1360.0080.146
cleanTagCounts0.0520.0000.053
defaultDrops0.1000.0040.105
downsampleReads0.1030.0280.131
emptyDrops2.8490.0842.933
encodeSequences000
get10xMolInfoStats0.1600.0080.168
hashedDrops0.1190.0120.130
makeCountMatrix0.0090.0000.009
read10xCounts0.6160.0360.652
read10xMolInfo0.0820.0040.086
removeAmbience0.2820.0720.354
swappedDrops0.3560.1440.500
write10xCounts0.1000.0160.116