Back to Multiple platform build/check report for BioC 3.13
ABC[D]EFGHIJKLMNOPQRSTUVWXYZ

This page was generated on 2021-09-13 15:06:23 -0400 (Mon, 13 Sep 2021).

INSTALL results for DiscoRhythm on tokay2

To the developers/maintainers of the DiscoRhythm package:
- Please allow up to 24 hours (and sometimes 48 hours) for your latest push to git@git.bioconductor.org:packages/DiscoRhythm.git to
reflect on this report. See How and When does the builder pull? When will my changes propagate? here for more information.
- Make sure to use the following settings in order to reproduce any error or warning you see on this page.

raw results

Package 509/2041HostnameOS / ArchINSTALLBUILDCHECKBUILD BIN
DiscoRhythm 1.8.0  (landing page)
Matthew Carlucci
Snapshot Date: 2021-09-12 04:50:10 -0400 (Sun, 12 Sep 2021)
git_url: https://git.bioconductor.org/packages/DiscoRhythm
git_branch: RELEASE_3_13
git_last_commit: 1ea451c
git_last_commit_date: 2021-05-19 12:42:40 -0400 (Wed, 19 May 2021)
nebbiolo1Linux (Ubuntu 20.04.2 LTS) / x86_64  OK    OK    OK  UNNEEDED, same version is already published
tokay2Windows Server 2012 R2 Standard / x64  OK    OK    OK    OK  UNNEEDED, same version is already published
machv2macOS 10.14.6 Mojave / x86_64  OK    OK    OK    OK  UNNEEDED, same version is already published

Summary

Package: DiscoRhythm
Version: 1.8.0
Command: C:\cygwin\bin\curl.exe -O http://155.52.207.165/BBS/3.13/bioc/src/contrib/DiscoRhythm_1.8.0.tar.gz && rm -rf DiscoRhythm.buildbin-libdir && mkdir DiscoRhythm.buildbin-libdir && C:\Users\biocbuild\bbs-3.13-bioc\R\bin\R.exe CMD INSTALL --merge-multiarch --build --library=DiscoRhythm.buildbin-libdir DiscoRhythm_1.8.0.tar.gz && C:\Users\biocbuild\bbs-3.13-bioc\R\bin\R.exe CMD INSTALL DiscoRhythm_1.8.0.zip && rm DiscoRhythm_1.8.0.tar.gz DiscoRhythm_1.8.0.zip
StartedAt: 2021-09-12 10:54:48 -0400 (Sun, 12 Sep 2021)
EndedAt: 2021-09-12 10:56:00 -0400 (Sun, 12 Sep 2021)
EllapsedTime: 72.0 seconds
RetCode: 0
Status:   OK  

Command output

##############################################################################
##############################################################################
###
### Running command:
###
###   C:\cygwin\bin\curl.exe -O http://155.52.207.165/BBS/3.13/bioc/src/contrib/DiscoRhythm_1.8.0.tar.gz && rm -rf DiscoRhythm.buildbin-libdir && mkdir DiscoRhythm.buildbin-libdir && C:\Users\biocbuild\bbs-3.13-bioc\R\bin\R.exe CMD INSTALL --merge-multiarch --build --library=DiscoRhythm.buildbin-libdir DiscoRhythm_1.8.0.tar.gz && C:\Users\biocbuild\bbs-3.13-bioc\R\bin\R.exe CMD INSTALL DiscoRhythm_1.8.0.zip && rm DiscoRhythm_1.8.0.tar.gz DiscoRhythm_1.8.0.zip
###
##############################################################################
##############################################################################


  % Total    % Received % Xferd  Average Speed   Time    Time     Time  Current
                                 Dload  Upload   Total   Spent    Left  Speed

  0     0    0     0    0     0      0      0 --:--:-- --:--:-- --:--:--     0
  3 1498k    3 48387    0     0   309k      0  0:00:04 --:--:--  0:00:04  308k
100 1498k  100 1498k    0     0  2490k      0 --:--:-- --:--:-- --:--:-- 2489k

install for i386

* installing *source* package 'DiscoRhythm' ...
** using staged installation
** R
** data
*** moving datasets to lazyload DB
** inst
** byte-compile and prepare package for lazy loading
** help
*** installing help indices
  converting help for package 'DiscoRhythm'
    finding HTML links ... done
    DiscoRhythm-package                     html  
    PeriodDetection_range                   html  
    checkJTKperiod                          html  
    checkPeriod                             html  
    discoApp                                html  
    discoBatch                              html  
    discoCheckInput                         html  
    discoColors                             html  
    discoDFtoSE                             html  
    discoDesignSummary                      html  
    discoGetSimu                            html  
    discoODAexclusionMatrix                 html  
    discoODAid2name                         html  
    discoODAs                               html  
    discoPCA                                html  
    discoPCAgetOutliers                     html  
    discoParseMeta                          html  
    discoPeriodDetection                    html  
    discoQC                                 html  
    discoShinyHandler                       html  
    fisherExact                             html  
    inferFilteredDesign                     html  
    lmCSmat                                 html  
    lmCSmatNoNA                             html  
    sincos                                  html  
    theme_disco                             html  
** building package indices
** installing vignettes
** testing if installed package can be loaded from temporary location
** testing if installed package can be loaded from final location
** testing if installed package keeps a record of temporary installation path

install for x64

* installing *source* package 'DiscoRhythm' ...
** testing if installed package can be loaded
* MD5 sums
packaged installation of 'DiscoRhythm' as DiscoRhythm_1.8.0.zip
* DONE (DiscoRhythm)
* installing to library 'C:/Users/biocbuild/bbs-3.13-bioc/R/library'
package 'DiscoRhythm' successfully unpacked and MD5 sums checked