Back to Multiple platform build/check report for BioC 3.13
ABC[D]EFGHIJKLMNOPQRSTUVWXYZ

This page was generated on 2021-09-24 15:05:43 -0400 (Fri, 24 Sep 2021).

INSTALL results for DiscoRhythm on nebbiolo1

To the developers/maintainers of the DiscoRhythm package:
- Please allow up to 24 hours (and sometimes 48 hours) for your latest push to git@git.bioconductor.org:packages/DiscoRhythm.git to
reflect on this report. See How and When does the builder pull? When will my changes propagate? here for more information.
- Make sure to use the following settings in order to reproduce any error or warning you see on this page.

raw results

Package 509/2041HostnameOS / ArchINSTALLBUILDCHECKBUILD BIN
DiscoRhythm 1.8.0  (landing page)
Matthew Carlucci
Snapshot Date: 2021-09-23 04:50:12 -0400 (Thu, 23 Sep 2021)
git_url: https://git.bioconductor.org/packages/DiscoRhythm
git_branch: RELEASE_3_13
git_last_commit: 1ea451c
git_last_commit_date: 2021-05-19 12:42:40 -0400 (Wed, 19 May 2021)
nebbiolo1Linux (Ubuntu 20.04.2 LTS) / x86_64  OK    OK    OK  UNNEEDED, same version is already published
tokay2Windows Server 2012 R2 Standard / x64  OK    OK    OK    OK  UNNEEDED, same version is already published
machv2macOS 10.14.6 Mojave / x86_64  OK    OK    OK    OK  UNNEEDED, same version is already published

Summary

Package: DiscoRhythm
Version: 1.8.0
Command: /home/biocbuild/bbs-3.13-bioc/R/bin/R CMD INSTALL DiscoRhythm
StartedAt: 2021-09-23 06:36:29 -0400 (Thu, 23 Sep 2021)
EndedAt: 2021-09-23 06:36:50 -0400 (Thu, 23 Sep 2021)
EllapsedTime: 21.3 seconds
RetCode: 0
Status:   OK  

Command output

##############################################################################
##############################################################################
###
### Running command:
###
###   /home/biocbuild/bbs-3.13-bioc/R/bin/R CMD INSTALL DiscoRhythm
###
##############################################################################
##############################################################################


* installing to library ‘/home/biocbuild/bbs-3.13-bioc/R/library’
* installing *source* package ‘DiscoRhythm’ ...
** using staged installation
** R
** data
*** moving datasets to lazyload DB
** inst
** byte-compile and prepare package for lazy loading
** help
*** installing help indices
** building package indices
** installing vignettes
** testing if installed package can be loaded from temporary location
** testing if installed package can be loaded from final location
** testing if installed package keeps a record of temporary installation path
* DONE (DiscoRhythm)