Back to Multiple platform build/check report for BioC 3.13
ABC[D]EFGHIJKLMNOPQRSTUVWXYZ

This page was generated on 2021-09-22 15:05:13 -0400 (Wed, 22 Sep 2021).

BUILD results for DiffBind on tokay2

To the developers/maintainers of the DiffBind package:
- Please allow up to 24 hours (and sometimes 48 hours) for your latest push to git@git.bioconductor.org:packages/DiffBind.git to
reflect on this report. See How and When does the builder pull? When will my changes propagate? here for more information.
- Make sure to use the following settings in order to reproduce any error or warning you see on this page.

raw results

Package 495/2041HostnameOS / ArchINSTALLBUILDCHECKBUILD BIN
DiffBind 3.2.7  (landing page)
Rory Stark
Snapshot Date: 2021-09-21 04:50:12 -0400 (Tue, 21 Sep 2021)
git_url: https://git.bioconductor.org/packages/DiffBind
git_branch: RELEASE_3_13
git_last_commit: bf9b04a
git_last_commit_date: 2021-09-13 11:04:43 -0400 (Mon, 13 Sep 2021)
nebbiolo1Linux (Ubuntu 20.04.2 LTS) / x86_64  OK    OK    OK  UNNEEDED, same version is already published
tokay2Windows Server 2012 R2 Standard / x64  OK    OK    OK    OK  UNNEEDED, same version is already published
machv2macOS 10.14.6 Mojave / x86_64  OK    OK    OK    OK  UNNEEDED, same version is already published

Summary

Package: DiffBind
Version: 3.2.7
Command: chmod a+r DiffBind -R && C:\Users\biocbuild\bbs-3.13-bioc\R\bin\R.exe CMD build --keep-empty-dirs --no-resave-data DiffBind
StartedAt: 2021-09-21 13:16:06 -0400 (Tue, 21 Sep 2021)
EndedAt: 2021-09-21 13:21:45 -0400 (Tue, 21 Sep 2021)
EllapsedTime: 339.3 seconds
RetCode: 0
Status:   OK  
PackageFile: DiffBind_3.2.7.tar.gz
PackageFileSize: 6.45 MiB

Command output

##############################################################################
##############################################################################
###
### Running command:
###
###   chmod a+r DiffBind -R && C:\Users\biocbuild\bbs-3.13-bioc\R\bin\R.exe CMD build --keep-empty-dirs --no-resave-data DiffBind
###
##############################################################################
##############################################################################


* checking for file 'DiffBind/DESCRIPTION' ... OK
* preparing 'DiffBind':
* checking DESCRIPTION meta-information ... OK
* cleaning src
* installing the package to build vignettes
* creating vignettes ... OK
* cleaning src
* checking for LF line-endings in source and make files and shell scripts
* checking for empty or unneeded directories
* looking to see if a 'data/datalist' file should be added
* building 'DiffBind_3.2.7.tar.gz'