Back to Multiple platform build/check report for BioC 3.13
ABC[D]EFGHIJKLMNOPQRSTUVWXYZ

This page was generated on 2021-09-20 15:05:10 -0400 (Mon, 20 Sep 2021).

INSTALL results for DelayedMatrixStats on tokay2

To the developers/maintainers of the DelayedMatrixStats package:
- Please allow up to 24 hours (and sometimes 48 hours) for your latest push to git@git.bioconductor.org:packages/DelayedMatrixStats.git to
reflect on this report. See How and When does the builder pull? When will my changes propagate? here for more information.
- Make sure to use the following settings in order to reproduce any error or warning you see on this page.

raw results

Package 471/2041HostnameOS / ArchINSTALLBUILDCHECKBUILD BIN
DelayedMatrixStats 1.14.3  (landing page)
Peter Hickey
Snapshot Date: 2021-09-19 04:50:10 -0400 (Sun, 19 Sep 2021)
git_url: https://git.bioconductor.org/packages/DelayedMatrixStats
git_branch: RELEASE_3_13
git_last_commit: b8bf535
git_last_commit_date: 2021-08-25 18:52:42 -0400 (Wed, 25 Aug 2021)
nebbiolo1Linux (Ubuntu 20.04.2 LTS) / x86_64  OK    OK    OK  UNNEEDED, same version is already published
tokay2Windows Server 2012 R2 Standard / x64  OK    OK    OK    OK  UNNEEDED, same version is already published
machv2macOS 10.14.6 Mojave / x86_64  OK    OK    OK    OK  UNNEEDED, same version is already published

Summary

Package: DelayedMatrixStats
Version: 1.14.3
Command: C:\cygwin\bin\curl.exe -O http://155.52.207.165/BBS/3.13/bioc/src/contrib/DelayedMatrixStats_1.14.3.tar.gz && rm -rf DelayedMatrixStats.buildbin-libdir && mkdir DelayedMatrixStats.buildbin-libdir && C:\Users\biocbuild\bbs-3.13-bioc\R\bin\R.exe CMD INSTALL --merge-multiarch --build --library=DelayedMatrixStats.buildbin-libdir DelayedMatrixStats_1.14.3.tar.gz && C:\Users\biocbuild\bbs-3.13-bioc\R\bin\R.exe CMD INSTALL DelayedMatrixStats_1.14.3.zip && rm DelayedMatrixStats_1.14.3.tar.gz DelayedMatrixStats_1.14.3.zip
StartedAt: 2021-09-19 08:24:21 -0400 (Sun, 19 Sep 2021)
EndedAt: 2021-09-19 08:25:21 -0400 (Sun, 19 Sep 2021)
EllapsedTime: 60.8 seconds
RetCode: 0
Status:   OK  

Command output

##############################################################################
##############################################################################
###
### Running command:
###
###   C:\cygwin\bin\curl.exe -O http://155.52.207.165/BBS/3.13/bioc/src/contrib/DelayedMatrixStats_1.14.3.tar.gz && rm -rf DelayedMatrixStats.buildbin-libdir && mkdir DelayedMatrixStats.buildbin-libdir && C:\Users\biocbuild\bbs-3.13-bioc\R\bin\R.exe CMD INSTALL --merge-multiarch --build --library=DelayedMatrixStats.buildbin-libdir DelayedMatrixStats_1.14.3.tar.gz && C:\Users\biocbuild\bbs-3.13-bioc\R\bin\R.exe CMD INSTALL DelayedMatrixStats_1.14.3.zip && rm DelayedMatrixStats_1.14.3.tar.gz DelayedMatrixStats_1.14.3.zip
###
##############################################################################
##############################################################################


  % Total    % Received % Xferd  Average Speed   Time    Time     Time  Current
                                 Dload  Upload   Total   Spent    Left  Speed

  0     0    0     0    0     0      0      0 --:--:-- --:--:-- --:--:--     0
100 44590  100 44590    0     0   101k      0 --:--:-- --:--:-- --:--:--  101k

install for i386

Warning in untar2(tarfile, files, list, exdir, restore_times) :
  failed to copy 'DelayedMatrixStats/longtests/../tests/testthat' to 'DelayedMatrixStats/longtests/testthat'
* installing *source* package 'DelayedMatrixStats' ...
** using staged installation
** R
** inst
** byte-compile and prepare package for lazy loading
** help
*** installing help indices
  converting help for package 'DelayedMatrixStats'
    finding HTML links ... done
    DelayedMatrixStats                      html  
    colAlls                                 html  
    finding level-2 HTML links ... done

    colAnyNAs                               html  
    colAvgsPerRowSet                        html  
    colCollapse                             html  
    colCounts                               html  
    colCummaxs                              html  
    colDiffs                                html  
    colIQRDiffs                             html  
    colIQRs                                 html  
    colLogSumExps                           html  
    colMads                                 html  
    colMeans2                               html  
    colMedians                              html  
    colOrderStats                           html  
    colProds                                html  
    colQuantiles                            html  
    colRanks                                html  
    colSums2                                html  
    colTabulates                            html  
    colVars                                 html  
    colWeightedMads                         html  
    colWeightedMeans                        html  
    colWeightedMedians                      html  
    colWeightedVars                         html  
    from_DelayedArray_to_simple_seed_class
                                            html  
    reexports                               html  
    subset_by_Nindex                        html  
** building package indices
** installing vignettes
** testing if installed package can be loaded from temporary location
** testing if installed package can be loaded from final location
** testing if installed package keeps a record of temporary installation path

install for x64

Warning in untar2(tarfile, files, list, exdir, restore_times) :
  failed to copy 'DelayedMatrixStats/longtests/../tests/testthat' to 'DelayedMatrixStats/longtests/testthat'
* installing *source* package 'DelayedMatrixStats' ...
** testing if installed package can be loaded
* MD5 sums
packaged installation of 'DelayedMatrixStats' as DelayedMatrixStats_1.14.3.zip
* DONE (DelayedMatrixStats)
* installing to library 'C:/Users/biocbuild/bbs-3.13-bioc/R/library'
package 'DelayedMatrixStats' successfully unpacked and MD5 sums checked