Back to Multiple platform build/check report for BioC 3.13
ABC[D]EFGHIJKLMNOPQRSTUVWXYZ

This page was generated on 2021-09-22 15:05:41 -0400 (Wed, 22 Sep 2021).

BUILD results for DelayedMatrixStats on machv2

To the developers/maintainers of the DelayedMatrixStats package:
- Please allow up to 24 hours (and sometimes 48 hours) for your latest push to git@git.bioconductor.org:packages/DelayedMatrixStats.git to
reflect on this report. See How and When does the builder pull? When will my changes propagate? here for more information.
- Make sure to use the following settings in order to reproduce any error or warning you see on this page.

raw results

Package 471/2041HostnameOS / ArchINSTALLBUILDCHECKBUILD BIN
DelayedMatrixStats 1.14.3  (landing page)
Peter Hickey
Snapshot Date: 2021-09-21 04:50:12 -0400 (Tue, 21 Sep 2021)
git_url: https://git.bioconductor.org/packages/DelayedMatrixStats
git_branch: RELEASE_3_13
git_last_commit: b8bf535
git_last_commit_date: 2021-08-25 18:52:42 -0400 (Wed, 25 Aug 2021)
nebbiolo1Linux (Ubuntu 20.04.2 LTS) / x86_64  OK    OK    OK  UNNEEDED, same version is already published
tokay2Windows Server 2012 R2 Standard / x64  OK    OK    OK    OK  UNNEEDED, same version is already published
machv2macOS 10.14.6 Mojave / x86_64  OK    OK    OK    OK  UNNEEDED, same version is already published

Summary

Package: DelayedMatrixStats
Version: 1.14.3
Command: /Library/Frameworks/R.framework/Versions/Current/Resources/bin/R CMD build --keep-empty-dirs --no-resave-data DelayedMatrixStats
StartedAt: 2021-09-21 11:40:53 -0400 (Tue, 21 Sep 2021)
EndedAt: 2021-09-21 11:44:59 -0400 (Tue, 21 Sep 2021)
EllapsedTime: 246.4 seconds
RetCode: 0
Status:   OK  
PackageFile: DelayedMatrixStats_1.14.3.tar.gz
PackageFileSize: 269.8 KiB

Command output

##############################################################################
##############################################################################
###
### Running command:
###
###   /Library/Frameworks/R.framework/Versions/Current/Resources/bin/R CMD build --keep-empty-dirs --no-resave-data DelayedMatrixStats
###
##############################################################################
##############################################################################


* checking for file ‘DelayedMatrixStats/DESCRIPTION’ ... OK
* preparing ‘DelayedMatrixStats’:
* checking DESCRIPTION meta-information ... OK
* installing the package to build vignettes
* creating vignettes ... OK
* checking for LF line-endings in source and make files and shell scripts
* checking for empty or unneeded directories
Omitted ‘LazyData’ from DESCRIPTION
* building ‘DelayedMatrixStats_1.14.3.tar.gz’