Back to Multiple platform build/check report for BioC 3.13
ABC[D]EFGHIJKLMNOPQRSTUVWXYZ

This page was generated on 2021-09-22 15:05:41 -0400 (Wed, 22 Sep 2021).

BUILD BIN results for DelayedMatrixStats on machv2

To the developers/maintainers of the DelayedMatrixStats package:
- Please allow up to 24 hours (and sometimes 48 hours) for your latest push to git@git.bioconductor.org:packages/DelayedMatrixStats.git to
reflect on this report. See How and When does the builder pull? When will my changes propagate? here for more information.
- Make sure to use the following settings in order to reproduce any error or warning you see on this page.

raw results

Package 471/2041HostnameOS / ArchINSTALLBUILDCHECKBUILD BIN
DelayedMatrixStats 1.14.3  (landing page)
Peter Hickey
Snapshot Date: 2021-09-21 04:50:12 -0400 (Tue, 21 Sep 2021)
git_url: https://git.bioconductor.org/packages/DelayedMatrixStats
git_branch: RELEASE_3_13
git_last_commit: b8bf535
git_last_commit_date: 2021-08-25 18:52:42 -0400 (Wed, 25 Aug 2021)
nebbiolo1Linux (Ubuntu 20.04.2 LTS) / x86_64  OK    OK    OK  UNNEEDED, same version is already published
tokay2Windows Server 2012 R2 Standard / x64  OK    OK    OK    OK  UNNEEDED, same version is already published
machv2macOS 10.14.6 Mojave / x86_64  OK    OK    OK    OK  UNNEEDED, same version is already published

Summary

Package: DelayedMatrixStats
Version: 1.14.3
Command: rm -rf DelayedMatrixStats.buildbin-libdir && mkdir DelayedMatrixStats.buildbin-libdir && /Users/biocbuild/BBS/utils/build-universal.sh DelayedMatrixStats_1.14.3.tar.gz /Library/Frameworks/R.framework/Versions/Current/Resources/bin/R DelayedMatrixStats.buildbin-libdir
StartedAt: 2021-09-22 02:13:34 -0400 (Wed, 22 Sep 2021)
EndedAt: 2021-09-22 02:14:47 -0400 (Wed, 22 Sep 2021)
EllapsedTime: 73.0 seconds
RetCode: 0
Status:   OK  
PackageFile: DelayedMatrixStats_1.14.3.tgz
PackageFileSize: 661.2 KiB

Command output

##############################################################################
##############################################################################
###
### Running command:
###
###   rm -rf DelayedMatrixStats.buildbin-libdir && mkdir DelayedMatrixStats.buildbin-libdir && /Users/biocbuild/BBS/utils/build-universal.sh DelayedMatrixStats_1.14.3.tar.gz /Library/Frameworks/R.framework/Versions/Current/Resources/bin/R DelayedMatrixStats.buildbin-libdir
###
##############################################################################
##############################################################################


>>>>>>> 
>>>>>>> INSTALLATION WITH 'R CMD INSTALL --preclean --no-multiarch --library=DelayedMatrixStats.buildbin-libdir DelayedMatrixStats_1.14.3.tar.gz'
>>>>>>> 

* installing *source* package ‘DelayedMatrixStats’ ...
** using staged installation
** R
** inst
** byte-compile and prepare package for lazy loading
** help
*** installing help indices
** building package indices
** installing vignettes
** testing if installed package can be loaded from temporary location
** testing if installed package can be loaded from final location
** testing if installed package keeps a record of temporary installation path
* DONE (DelayedMatrixStats)