Back to Multiple platform build/check report for BioC 3.13
ABC[D]EFGHIJKLMNOPQRSTUVWXYZ

This page was generated on 2021-09-24 15:06:07 -0400 (Fri, 24 Sep 2021).

INSTALL results for DelayedDataFrame on tokay2

To the developers/maintainers of the DelayedDataFrame package:
- Please allow up to 24 hours (and sometimes 48 hours) for your latest push to git@git.bioconductor.org:packages/DelayedDataFrame.git to
reflect on this report. See How and When does the builder pull? When will my changes propagate? here for more information.
- Make sure to use the following settings in order to reproduce any error or warning you see on this page.

raw results

Package 470/2041HostnameOS / ArchINSTALLBUILDCHECKBUILD BIN
DelayedDataFrame 1.8.0  (landing page)
Qian Liu
Snapshot Date: 2021-09-23 04:50:12 -0400 (Thu, 23 Sep 2021)
git_url: https://git.bioconductor.org/packages/DelayedDataFrame
git_branch: RELEASE_3_13
git_last_commit: df21f97
git_last_commit_date: 2021-05-19 12:39:56 -0400 (Wed, 19 May 2021)
nebbiolo1Linux (Ubuntu 20.04.2 LTS) / x86_64  OK    OK    OK  UNNEEDED, same version is already published
tokay2Windows Server 2012 R2 Standard / x64  OK    OK    OK    OK  UNNEEDED, same version is already published
machv2macOS 10.14.6 Mojave / x86_64  OK    OK    OK    OK  UNNEEDED, same version is already published

Summary

Package: DelayedDataFrame
Version: 1.8.0
Command: C:\cygwin\bin\curl.exe -O http://155.52.207.165/BBS/3.13/bioc/src/contrib/DelayedDataFrame_1.8.0.tar.gz && rm -rf DelayedDataFrame.buildbin-libdir && mkdir DelayedDataFrame.buildbin-libdir && C:\Users\biocbuild\bbs-3.13-bioc\R\bin\R.exe CMD INSTALL --merge-multiarch --build --library=DelayedDataFrame.buildbin-libdir DelayedDataFrame_1.8.0.tar.gz && C:\Users\biocbuild\bbs-3.13-bioc\R\bin\R.exe CMD INSTALL DelayedDataFrame_1.8.0.zip && rm DelayedDataFrame_1.8.0.tar.gz DelayedDataFrame_1.8.0.zip
StartedAt: 2021-09-23 08:25:35 -0400 (Thu, 23 Sep 2021)
EndedAt: 2021-09-23 08:26:33 -0400 (Thu, 23 Sep 2021)
EllapsedTime: 58.6 seconds
RetCode: 0
Status:   OK  

Command output

##############################################################################
##############################################################################
###
### Running command:
###
###   C:\cygwin\bin\curl.exe -O http://155.52.207.165/BBS/3.13/bioc/src/contrib/DelayedDataFrame_1.8.0.tar.gz && rm -rf DelayedDataFrame.buildbin-libdir && mkdir DelayedDataFrame.buildbin-libdir && C:\Users\biocbuild\bbs-3.13-bioc\R\bin\R.exe CMD INSTALL --merge-multiarch --build --library=DelayedDataFrame.buildbin-libdir DelayedDataFrame_1.8.0.tar.gz && C:\Users\biocbuild\bbs-3.13-bioc\R\bin\R.exe CMD INSTALL DelayedDataFrame_1.8.0.zip && rm DelayedDataFrame_1.8.0.tar.gz DelayedDataFrame_1.8.0.zip
###
##############################################################################
##############################################################################


  % Total    % Received % Xferd  Average Speed   Time    Time     Time  Current
                                 Dload  Upload   Total   Spent    Left  Speed

  0     0    0     0    0     0      0      0 --:--:-- --:--:-- --:--:--     0
100  192k  100  192k    0     0   806k      0 --:--:-- --:--:-- --:--:--  808k

install for i386

* installing *source* package 'DelayedDataFrame' ...
** using staged installation
** R
** inst
** byte-compile and prepare package for lazy loading
** help
*** installing help indices
  converting help for package 'DelayedDataFrame'
    finding HTML links ... done
    DelayedDataFrame-class                  html  
    DelayedDataFrame-method                 html  
    LazyIndex-class                         html  
REDIRECT:topic	 Previous alias or file overwritten by alias: C:/Users/biocbuild/bbs-3.13-bioc/meat/DelayedDataFrame.buildbin-libdir/00LOCK-DelayedDataFrame/00new/DelayedDataFrame/help/LazyIndex.html
** building package indices
** installing vignettes
** testing if installed package can be loaded from temporary location
** testing if installed package can be loaded from final location
** testing if installed package keeps a record of temporary installation path

install for x64

* installing *source* package 'DelayedDataFrame' ...
** testing if installed package can be loaded
* MD5 sums
packaged installation of 'DelayedDataFrame' as DelayedDataFrame_1.8.0.zip
* DONE (DelayedDataFrame)
* installing to library 'C:/Users/biocbuild/bbs-3.13-bioc/R/library'
package 'DelayedDataFrame' successfully unpacked and MD5 sums checked