Back to Multiple platform build/check report for BioC 3.13
ABC[D]EFGHIJKLMNOPQRSTUVWXYZ

This page was generated on 2021-09-22 15:05:41 -0400 (Wed, 22 Sep 2021).

BUILD results for DelayedArray on machv2

To the developers/maintainers of the DelayedArray package:
- Please allow up to 24 hours (and sometimes 48 hours) for your latest push to git@git.bioconductor.org:packages/DelayedArray.git to
reflect on this report. See How and When does the builder pull? When will my changes propagate? here for more information.
- Make sure to use the following settings in order to reproduce any error or warning you see on this page.

raw results

Package 469/2041HostnameOS / ArchINSTALLBUILDCHECKBUILD BIN
DelayedArray 0.18.0  (landing page)
Hervé Pagès
Snapshot Date: 2021-09-21 04:50:12 -0400 (Tue, 21 Sep 2021)
git_url: https://git.bioconductor.org/packages/DelayedArray
git_branch: RELEASE_3_13
git_last_commit: 4e18a4f
git_last_commit_date: 2021-05-19 12:24:43 -0400 (Wed, 19 May 2021)
nebbiolo1Linux (Ubuntu 20.04.2 LTS) / x86_64  OK    OK    WARNINGS  UNNEEDED, same version is already published
tokay2Windows Server 2012 R2 Standard / x64  OK    OK    WARNINGS    OK  UNNEEDED, same version is already published
machv2macOS 10.14.6 Mojave / x86_64  OK    OK    WARNINGS    OK  UNNEEDED, same version is already published

Summary

Package: DelayedArray
Version: 0.18.0
Command: /Library/Frameworks/R.framework/Versions/Current/Resources/bin/R CMD build --keep-empty-dirs --no-resave-data DelayedArray
StartedAt: 2021-09-21 11:40:39 -0400 (Tue, 21 Sep 2021)
EndedAt: 2021-09-21 11:41:56 -0400 (Tue, 21 Sep 2021)
EllapsedTime: 77.6 seconds
RetCode: 0
Status:   OK  
PackageFile: DelayedArray_0.18.0.tar.gz
PackageFileSize: 660.3 KiB

Command output

##############################################################################
##############################################################################
###
### Running command:
###
###   /Library/Frameworks/R.framework/Versions/Current/Resources/bin/R CMD build --keep-empty-dirs --no-resave-data DelayedArray
###
##############################################################################
##############################################################################


* checking for file ‘DelayedArray/DESCRIPTION’ ... OK
* preparing ‘DelayedArray’:
* checking DESCRIPTION meta-information ... OK
* cleaning src
* installing the package to build vignettes
* creating vignettes ... OK
* cleaning src
* excluding invalid files
Subdirectory 'inst/doc' contains invalid file names:
  ‘02-Implementing_a_backend.Rmd’ ‘01-Working_with_large_arrays.Rnw’
  ‘03-DelayedArray_HDF5Array_update.Rnw’
  ‘02-Implementing_a_backend.html’ ‘01-Working_with_large_arrays.pdf’
  ‘03-DelayedArray_HDF5Array_update.pdf’
* checking for LF line-endings in source and make files and shell scripts
* checking for empty or unneeded directories
* building ‘DelayedArray_0.18.0.tar.gz’