Back to Multiple platform build/check report for BioC 3.13
ABC[D]EFGHIJKLMNOPQRSTUVWXYZ

This page was generated on 2021-09-20 15:05:10 -0400 (Mon, 20 Sep 2021).

CHECK results for DegNorm on tokay2

To the developers/maintainers of the DegNorm package:
- Please allow up to 24 hours (and sometimes 48 hours) for your latest push to git@git.bioconductor.org:packages/DegNorm.git to
reflect on this report. See How and When does the builder pull? When will my changes propagate? here for more information.
- Make sure to use the following settings in order to reproduce any error or warning you see on this page.

raw results

Package 465/2041HostnameOS / ArchINSTALLBUILDCHECKBUILD BIN
DegNorm 1.2.0  (landing page)
Ji-Ping Wang
Snapshot Date: 2021-09-19 04:50:10 -0400 (Sun, 19 Sep 2021)
git_url: https://git.bioconductor.org/packages/DegNorm
git_branch: RELEASE_3_13
git_last_commit: 4194859
git_last_commit_date: 2021-05-19 12:52:58 -0400 (Wed, 19 May 2021)
nebbiolo1Linux (Ubuntu 20.04.2 LTS) / x86_64  OK    OK    OK  UNNEEDED, same version is already published
tokay2Windows Server 2012 R2 Standard / x64  OK    OK    OK    OK  UNNEEDED, same version is already published
machv2macOS 10.14.6 Mojave / x86_64  OK    OK    OK    OK  UNNEEDED, same version is already published

Summary

Package: DegNorm
Version: 1.2.0
Command: C:\Users\biocbuild\bbs-3.13-bioc\R\bin\R.exe CMD check --force-multiarch --install=check:DegNorm.install-out.txt --library=C:\Users\biocbuild\bbs-3.13-bioc\R\library --no-vignettes --timings DegNorm_1.2.0.tar.gz
StartedAt: 2021-09-19 21:22:37 -0400 (Sun, 19 Sep 2021)
EndedAt: 2021-09-19 21:33:00 -0400 (Sun, 19 Sep 2021)
EllapsedTime: 623.1 seconds
RetCode: 0
Status:   OK  
CheckDir: DegNorm.Rcheck
Warnings: 0

Command output

##############################################################################
##############################################################################
###
### Running command:
###
###   C:\Users\biocbuild\bbs-3.13-bioc\R\bin\R.exe CMD check --force-multiarch --install=check:DegNorm.install-out.txt --library=C:\Users\biocbuild\bbs-3.13-bioc\R\library --no-vignettes --timings DegNorm_1.2.0.tar.gz
###
##############################################################################
##############################################################################


* using log directory 'C:/Users/biocbuild/bbs-3.13-bioc/meat/DegNorm.Rcheck'
* using R version 4.1.1 (2021-08-10)
* using platform: x86_64-w64-mingw32 (64-bit)
* using session charset: ISO8859-1
* using option '--no-vignettes'
* checking for file 'DegNorm/DESCRIPTION' ... OK
* checking extension type ... Package
* this is package 'DegNorm' version '1.2.0'
* checking package namespace information ... OK
* checking package dependencies ... OK
* checking if this is a source package ... OK
* checking if there is a namespace ... OK
* checking for hidden files and directories ... OK
* checking for portable file names ... OK
* checking whether package 'DegNorm' can be installed ... OK
* checking installed package size ... NOTE
  installed size is  9.8Mb
  sub-directories of 1Mb or more:
    doc       4.5Mb
    extdata   2.1Mb
    libs      2.4Mb
* checking package directory ... OK
* checking 'build' directory ... OK
* checking DESCRIPTION meta-information ... OK
* checking top-level files ... OK
* checking for left-over files ... OK
* checking index information ... OK
* checking package subdirectories ... OK
* checking R files for non-ASCII characters ... OK
* checking R files for syntax errors ... OK
* loading checks for arch 'i386'
** checking whether the package can be loaded ... OK
** checking whether the package can be loaded with stated dependencies ... OK
** checking whether the package can be unloaded cleanly ... OK
** checking whether the namespace can be loaded with stated dependencies ... OK
** checking whether the namespace can be unloaded cleanly ... OK
* loading checks for arch 'x64'
** checking whether the package can be loaded ... OK
** checking whether the package can be loaded with stated dependencies ... OK
** checking whether the package can be unloaded cleanly ... OK
** checking whether the namespace can be loaded with stated dependencies ... OK
** checking whether the namespace can be unloaded cleanly ... OK
* checking dependencies in R code ... OK
* checking S3 generic/method consistency ... OK
* checking replacement functions ... OK
* checking foreign function calls ... OK
* checking R code for possible problems ... OK
* checking Rd files ... OK
* checking Rd metadata ... OK
* checking Rd cross-references ... OK
* checking for missing documentation entries ... OK
* checking for code/documentation mismatches ... OK
* checking Rd \usage sections ... OK
* checking Rd contents ... OK
* checking for unstated dependencies in examples ... OK
* checking contents of 'data' directory ... OK
* checking data for non-ASCII characters ... OK
* checking data for ASCII and uncompressed saves ... OK
* checking line endings in C/C++/Fortran sources/headers ... OK
* checking line endings in Makefiles ... OK
* checking compilation flags in Makevars ... OK
* checking for GNU extensions in Makefiles ... OK
* checking for portable use of $(BLAS_LIBS) and $(LAPACK_LIBS) ... OK
* checking use of PKG_*FLAGS in Makefiles ... OK
* checking compiled code ... OK
* checking installed files from 'inst/doc' ... OK
* checking files in 'vignettes' ... OK
* checking examples ...
** running examples for arch 'i386' ... OK
Examples with CPU (user + system) or elapsed time > 5s
                    user system elapsed
read_coverage_batch 6.09   1.03   90.73
degnorm             1.70   0.31   43.68
** running examples for arch 'x64' ... OK
Examples with CPU (user + system) or elapsed time > 5s
                    user system elapsed
read_coverage_batch 6.43   0.11  106.06
degnorm             0.64   0.23   44.05
* checking for unstated dependencies in vignettes ... OK
* checking package vignettes in 'inst/doc' ... OK
* checking running R code from vignettes ... SKIPPED
* checking re-building of vignette outputs ... SKIPPED
* checking PDF version of manual ... OK
* DONE

Status: 1 NOTE
See
  'C:/Users/biocbuild/bbs-3.13-bioc/meat/DegNorm.Rcheck/00check.log'
for details.



Installation output

DegNorm.Rcheck/00install.out

##############################################################################
##############################################################################
###
### Running command:
###
###   C:\cygwin\bin\curl.exe -O http://155.52.207.165/BBS/3.13/bioc/src/contrib/DegNorm_1.2.0.tar.gz && rm -rf DegNorm.buildbin-libdir && mkdir DegNorm.buildbin-libdir && C:\Users\biocbuild\bbs-3.13-bioc\R\bin\R.exe CMD INSTALL --merge-multiarch --build --library=DegNorm.buildbin-libdir DegNorm_1.2.0.tar.gz && C:\Users\biocbuild\bbs-3.13-bioc\R\bin\R.exe CMD INSTALL DegNorm_1.2.0.zip && rm DegNorm_1.2.0.tar.gz DegNorm_1.2.0.zip
###
##############################################################################
##############################################################################


  % Total    % Received % Xferd  Average Speed   Time    Time     Time  Current
                                 Dload  Upload   Total   Spent    Left  Speed

  0     0    0     0    0     0      0      0 --:--:-- --:--:-- --:--:--     0
  0     0    0     0    0     0      0      0 --:--:-- --:--:-- --:--:--     0
100 3313k  100 3313k    0     0  4465k      0 --:--:-- --:--:-- --:--:-- 4466k

install for i386

* installing *source* package 'DegNorm' ...
** using staged installation
** libs
"C:/rtools40/mingw32/bin/"g++  -std=gnu++11 -I"C:/Users/BIOCBU~1/BBS-3~1.13-/R/include" -DNDEBUG  -I'C:/Users/biocbuild/bbs-3.13-bioc/R/library/Rcpp/include' -I'C:/Users/biocbuild/bbs-3.13-bioc/R/library/RcppArmadillo/include' -I'C:/Users/biocbuild/bbs-3.13-bioc/R/library/S4Vectors/include' -I'C:/Users/biocbuild/bbs-3.13-bioc/R/library/IRanges/include'   -I"c:/extsoft/include"  -fopenmp    -O2 -Wall  -mfpmath=sse -msse2 -mstackrealign  -c RcppExports.cpp -o RcppExports.o
"C:/rtools40/mingw32/bin/"g++  -std=gnu++11 -I"C:/Users/BIOCBU~1/BBS-3~1.13-/R/include" -DNDEBUG  -I'C:/Users/biocbuild/bbs-3.13-bioc/R/library/Rcpp/include' -I'C:/Users/biocbuild/bbs-3.13-bioc/R/library/RcppArmadillo/include' -I'C:/Users/biocbuild/bbs-3.13-bioc/R/library/S4Vectors/include' -I'C:/Users/biocbuild/bbs-3.13-bioc/R/library/IRanges/include'   -I"c:/extsoft/include"  -fopenmp    -O2 -Wall  -mfpmath=sse -msse2 -mstackrealign  -c degnormCPP.cpp -o degnormCPP.o
C:/rtools40/mingw32/bin/g++ -shared -s -static-libgcc -o DegNorm.dll tmp.def RcppExports.o degnormCPP.o -fopenmp -LC:/Users/BIOCBU~1/BBS-3~1.13-/R/bin/i386 -lRlapack -LC:/Users/BIOCBU~1/BBS-3~1.13-/R/bin/i386 -lRblas -lgfortran -lm -lquadmath -Lc:/extsoft/lib/i386 -Lc:/extsoft/lib -LC:/Users/BIOCBU~1/BBS-3~1.13-/R/bin/i386 -lR
installing to C:/Users/biocbuild/bbs-3.13-bioc/meat/DegNorm.buildbin-libdir/00LOCK-DegNorm/00new/DegNorm/libs/i386
** R
** data
** inst
** byte-compile and prepare package for lazy loading
** help
*** installing help indices
  converting help for package 'DegNorm'
    finding HTML links ... done
    DegNorm-package                         html  
    PlotFunctions                           html  
    coverage_res_chr21                      html  
    degnorm                                 html  
    plot_coverage                           html  
    read_coverage                           html  
    read_coverage_batch                     html  
    res_DegNorm_chr21                       html  
    summary_CoverageClass                   html  
    summary_DegNormClass                    html  
** building package indices
** installing vignettes
** testing if installed package can be loaded from temporary location
** testing if installed package can be loaded from final location
** testing if installed package keeps a record of temporary installation path

install for x64

* installing *source* package 'DegNorm' ...
** libs
"C:/rtools40/mingw64/bin/"g++  -std=gnu++11 -I"C:/Users/BIOCBU~1/BBS-3~1.13-/R/include" -DNDEBUG  -I'C:/Users/biocbuild/bbs-3.13-bioc/R/library/Rcpp/include' -I'C:/Users/biocbuild/bbs-3.13-bioc/R/library/RcppArmadillo/include' -I'C:/Users/biocbuild/bbs-3.13-bioc/R/library/S4Vectors/include' -I'C:/Users/biocbuild/bbs-3.13-bioc/R/library/IRanges/include'   -I"C:/extsoft/include"  -fopenmp    -O2 -Wall  -mfpmath=sse -msse2 -mstackrealign  -c RcppExports.cpp -o RcppExports.o
"C:/rtools40/mingw64/bin/"g++  -std=gnu++11 -I"C:/Users/BIOCBU~1/BBS-3~1.13-/R/include" -DNDEBUG  -I'C:/Users/biocbuild/bbs-3.13-bioc/R/library/Rcpp/include' -I'C:/Users/biocbuild/bbs-3.13-bioc/R/library/RcppArmadillo/include' -I'C:/Users/biocbuild/bbs-3.13-bioc/R/library/S4Vectors/include' -I'C:/Users/biocbuild/bbs-3.13-bioc/R/library/IRanges/include'   -I"C:/extsoft/include"  -fopenmp    -O2 -Wall  -mfpmath=sse -msse2 -mstackrealign  -c degnormCPP.cpp -o degnormCPP.o
C:/rtools40/mingw64/bin/g++ -shared -s -static-libgcc -o DegNorm.dll tmp.def RcppExports.o degnormCPP.o -fopenmp -LC:/Users/BIOCBU~1/BBS-3~1.13-/R/bin/x64 -lRlapack -LC:/Users/BIOCBU~1/BBS-3~1.13-/R/bin/x64 -lRblas -lgfortran -lm -lquadmath -LC:/extsoft/lib/x64 -LC:/extsoft/lib -LC:/Users/BIOCBU~1/BBS-3~1.13-/R/bin/x64 -lR
installing to C:/Users/biocbuild/bbs-3.13-bioc/meat/DegNorm.buildbin-libdir/DegNorm/libs/x64
** testing if installed package can be loaded
* MD5 sums
packaged installation of 'DegNorm' as DegNorm_1.2.0.zip
* DONE (DegNorm)
* installing to library 'C:/Users/biocbuild/bbs-3.13-bioc/R/library'
package 'DegNorm' successfully unpacked and MD5 sums checked

Tests output


Example timings

DegNorm.Rcheck/examples_i386/DegNorm-Ex.timings

nameusersystemelapsed
PlotFunctions1.720.081.97
coverage_res_chr210.200.060.27
degnorm 1.70 0.3143.68
plot_coverage0.740.160.89
read_coverage_batch 6.09 1.0390.73
res_DegNorm_chr210.080.080.16
summary_CoverageClass0.230.050.28
summary_DegNormClass0.080.010.09

DegNorm.Rcheck/examples_x64/DegNorm-Ex.timings

nameusersystemelapsed
PlotFunctions1.610.101.71
coverage_res_chr210.080.030.11
degnorm 0.64 0.2344.05
plot_coverage1.420.031.45
read_coverage_batch 6.43 0.11106.06
res_DegNorm_chr210.110.000.11
summary_CoverageClass0.150.030.19
summary_DegNormClass0.080.000.07