Back to Multiple platform build/check report for BioC 3.13
ABC[D]EFGHIJKLMNOPQRSTUVWXYZ

This page was generated on 2021-09-17 15:06:02 -0400 (Fri, 17 Sep 2021).

BUILD results for DegNorm on tokay2

To the developers/maintainers of the DegNorm package:
- Please allow up to 24 hours (and sometimes 48 hours) for your latest push to git@git.bioconductor.org:packages/DegNorm.git to
reflect on this report. See How and When does the builder pull? When will my changes propagate? here for more information.
- Make sure to use the following settings in order to reproduce any error or warning you see on this page.

raw results

Package 465/2041HostnameOS / ArchINSTALLBUILDCHECKBUILD BIN
DegNorm 1.2.0  (landing page)
Ji-Ping Wang
Snapshot Date: 2021-09-16 04:50:11 -0400 (Thu, 16 Sep 2021)
git_url: https://git.bioconductor.org/packages/DegNorm
git_branch: RELEASE_3_13
git_last_commit: 4194859
git_last_commit_date: 2021-05-19 12:52:58 -0400 (Wed, 19 May 2021)
nebbiolo1Linux (Ubuntu 20.04.2 LTS) / x86_64  OK    OK    OK  UNNEEDED, same version is already published
tokay2Windows Server 2012 R2 Standard / x64  OK    OK    OK    OK  UNNEEDED, same version is already published
machv2macOS 10.14.6 Mojave / x86_64  OK    OK    OK    OK  UNNEEDED, same version is already published

Summary

Package: DegNorm
Version: 1.2.0
Command: chmod a+r DegNorm -R && C:\Users\biocbuild\bbs-3.13-bioc\R\bin\R.exe CMD build --keep-empty-dirs --no-resave-data DegNorm
StartedAt: 2021-09-16 12:58:06 -0400 (Thu, 16 Sep 2021)
EndedAt: 2021-09-16 13:02:55 -0400 (Thu, 16 Sep 2021)
EllapsedTime: 289.0 seconds
RetCode: 0
Status:   OK  
PackageFile: DegNorm_1.2.0.tar.gz
PackageFileSize: 3.132 MiB

Command output

##############################################################################
##############################################################################
###
### Running command:
###
###   chmod a+r DegNorm -R && C:\Users\biocbuild\bbs-3.13-bioc\R\bin\R.exe CMD build --keep-empty-dirs --no-resave-data DegNorm
###
##############################################################################
##############################################################################


* checking for file 'DegNorm/DESCRIPTION' ... OK
* preparing 'DegNorm':
* checking DESCRIPTION meta-information ... OK
* cleaning src
* installing the package to build vignettes
* creating vignettes ... OK
Warning: 'inst/doc' files
    'DegNorm.html', 'DegNorm.R'
  ignored as vignettes have been rebuilt.
  Run R CMD build with --no-build-vignettes to prevent rebuilding.
* cleaning src
* checking for LF line-endings in source and make files and shell scripts
* checking for empty or unneeded directories
* looking to see if a 'data/datalist' file should be added
* building 'DegNorm_1.2.0.tar.gz'