Back to Multiple platform build/check report for BioC 3.13
ABC[D]EFGHIJKLMNOPQRSTUVWXYZ

This page was generated on 2021-09-24 15:05:43 -0400 (Fri, 24 Sep 2021).

BUILD results for DRIMSeq on nebbiolo1

To the developers/maintainers of the DRIMSeq package:
- Please allow up to 24 hours (and sometimes 48 hours) for your latest push to git@git.bioconductor.org:packages/DRIMSeq.git to
reflect on this report. See How and When does the builder pull? When will my changes propagate? here for more information.
- Make sure to use the following settings in order to reproduce any error or warning you see on this page.

raw results

Package 532/2041HostnameOS / ArchINSTALLBUILDCHECKBUILD BIN
DRIMSeq 1.20.0  (landing page)
Malgorzata Nowicka
Snapshot Date: 2021-09-23 04:50:12 -0400 (Thu, 23 Sep 2021)
git_url: https://git.bioconductor.org/packages/DRIMSeq
git_branch: RELEASE_3_13
git_last_commit: 27f2619
git_last_commit_date: 2021-05-19 12:18:54 -0400 (Wed, 19 May 2021)
nebbiolo1Linux (Ubuntu 20.04.2 LTS) / x86_64  OK    OK    WARNINGS  UNNEEDED, same version is already published
tokay2Windows Server 2012 R2 Standard / x64  OK    OK    WARNINGS    OK  UNNEEDED, same version is already published
machv2macOS 10.14.6 Mojave / x86_64  OK    OK    WARNINGS    OK  UNNEEDED, same version is already published

Summary

Package: DRIMSeq
Version: 1.20.0
Command: /home/biocbuild/bbs-3.13-bioc/R/bin/R CMD build --keep-empty-dirs --no-resave-data DRIMSeq
StartedAt: 2021-09-23 07:08:41 -0400 (Thu, 23 Sep 2021)
EndedAt: 2021-09-23 07:11:47 -0400 (Thu, 23 Sep 2021)
EllapsedTime: 186.8 seconds
RetCode: 0
Status:   OK  
PackageFile: DRIMSeq_1.20.0.tar.gz
PackageFileSize: 473.4 KiB

Command output

##############################################################################
##############################################################################
###
### Running command:
###
###   /home/biocbuild/bbs-3.13-bioc/R/bin/R CMD build --keep-empty-dirs --no-resave-data DRIMSeq
###
##############################################################################
##############################################################################


* checking for file ‘DRIMSeq/DESCRIPTION’ ... OK
* preparing ‘DRIMSeq’:
* checking DESCRIPTION meta-information ... OK
* installing the package to build vignettes
* creating vignettes ... OK
* checking for LF line-endings in source and make files and shell scripts
* checking for empty or unneeded directories
Omitted ‘LazyData’ from DESCRIPTION
* building ‘DRIMSeq_1.20.0.tar.gz’