Back to Multiple platform build/check report for BioC 3.13
ABC[D]EFGHIJKLMNOPQRSTUVWXYZ

This page was generated on 2021-08-04 15:04:48 -0400 (Wed, 04 Aug 2021).

All results for package DNABarcodes

To the developers/maintainers of the DNABarcodes package:
- Please allow up to 24 hours (and sometimes 48 hours) for your latest push to git@git.bioconductor.org:packages/DNABarcodes.git to
reflect on this report. See How and When does the builder pull? When will my changes propagate? here for more information.
- Make sure to use the following settings in order to reproduce any error or warning you see on this page.

raw results

Package 522/2041HostnameOS / ArchINSTALLBUILDCHECKBUILD BIN
DNABarcodes 1.22.0  (landing page)
Tilo Buschmann
Snapshot Date: 2021-08-03 04:50:12 -0400 (Tue, 03 Aug 2021)
URL: https://git.bioconductor.org/packages/DNABarcodes
Branch: RELEASE_3_13
Last Commit: 985d1f4
Last Changed Date: 2021-05-19 12:15:37 -0400 (Wed, 19 May 2021)
nebbiolo1Linux (Ubuntu 20.04.2 LTS) / x86_64  OK    OK    OK  UNNEEDED, same version is already published
tokay2Windows Server 2012 R2 Standard / x64  OK    OK    OK    OK  UNNEEDED, same version is already published
machv2macOS 10.14.6 Mojave / x86_64  OK    OK    OK    OK  UNNEEDED, same version is already published

Results for Bioconductor software packages that depend directly on package DNABarcodes

QUICK STATSOS / ArchINSTALLBUILDCHECKBUILD BIN
nebbiolo1Linux (Ubuntu 20.04.2 LTS) / x86_64
001
001
0001
tokay2Windows Server 2012 R2 Standard / x64
001
001
0001
001
machv2macOS 10.14.6 Mojave / x86_64
001
001
0001
001
Package 1/1HostnameOS / ArchINSTALLBUILDCHECKBUILD BIN
DNABarcodeCompatibility 1.8.0  (landing page)
Céline Trébeau
Last Commit: 4f760bf
Last Changed Date: 2021-05-19 12:39:49 -0400
nebbiolo1Linux (Ubuntu 20.04.2 LTS) / x86_64  OK    OK    OK  UNNEEDED, same version is already published
tokay2Windows Server 2012 R2 Standard / x64  OK    OK    OK    OK  UNNEEDED, same version is already published
machv2macOS 10.14.6 Mojave / x86_64  OK    OK    OK    OK  UNNEEDED, same version is already published