Back to Multiple platform build/check report for BioC 3.13
ABC[D]EFGHIJKLMNOPQRSTUVWXYZ

This page was generated on 2021-09-22 15:04:50 -0400 (Wed, 22 Sep 2021).

BUILD results for DMRcate on nebbiolo1

To the developers/maintainers of the DMRcate package:
- Please allow up to 24 hours (and sometimes 48 hours) for your latest push to git@git.bioconductor.org:packages/DMRcate.git to
reflect on this report. See How and When does the builder pull? When will my changes propagate? here for more information.
- Make sure to use the following settings in order to reproduce any error or warning you see on this page.

raw results

Package 517/2041HostnameOS / ArchINSTALLBUILDCHECKBUILD BIN
DMRcate 2.6.0  (landing page)
Tim Peters
Snapshot Date: 2021-09-21 04:50:12 -0400 (Tue, 21 Sep 2021)
git_url: https://git.bioconductor.org/packages/DMRcate
git_branch: RELEASE_3_13
git_last_commit: d7de4ca
git_last_commit_date: 2021-05-19 12:03:06 -0400 (Wed, 19 May 2021)
nebbiolo1Linux (Ubuntu 20.04.2 LTS) / x86_64  OK    OK    WARNINGS  UNNEEDED, same version is already published
tokay2Windows Server 2012 R2 Standard / x64  OK    OK    ERROR    OK  
machv2macOS 10.14.6 Mojave / x86_64  OK    OK    ERROR    OK  

Summary

Package: DMRcate
Version: 2.6.0
Command: /home/biocbuild/bbs-3.13-bioc/R/bin/R CMD build --keep-empty-dirs --no-resave-data DMRcate
StartedAt: 2021-09-21 07:08:59 -0400 (Tue, 21 Sep 2021)
EndedAt: 2021-09-21 07:23:24 -0400 (Tue, 21 Sep 2021)
EllapsedTime: 864.8 seconds
RetCode: 0
Status:   OK  
PackageFile: DMRcate_2.6.0.tar.gz
PackageFileSize: 336.2 KiB

Command output

##############################################################################
##############################################################################
###
### Running command:
###
###   /home/biocbuild/bbs-3.13-bioc/R/bin/R CMD build --keep-empty-dirs --no-resave-data DMRcate
###
##############################################################################
##############################################################################


* checking for file ‘DMRcate/DESCRIPTION’ ... OK
* preparing ‘DMRcate’:
* checking DESCRIPTION meta-information ... OK
* installing the package to build vignettes
* creating vignettes ... OK
* checking for LF line-endings in source and make files and shell scripts
* checking for empty or unneeded directories
* building ‘DMRcate_2.6.0.tar.gz’