Back to Multiple platform build/check report for BioC 3.13
ABC[D]EFGHIJKLMNOPQRSTUVWXYZ

This page was generated on 2021-09-13 15:06:23 -0400 (Mon, 13 Sep 2021).

BUILD results for DMRcaller on tokay2

To the developers/maintainers of the DMRcaller package:
- Please allow up to 24 hours (and sometimes 48 hours) for your latest push to git@git.bioconductor.org:packages/DMRcaller.git to
reflect on this report. See How and When does the builder pull? When will my changes propagate? here for more information.
- Make sure to use the following settings in order to reproduce any error or warning you see on this page.

raw results

Package 516/2041HostnameOS / ArchINSTALLBUILDCHECKBUILD BIN
DMRcaller 1.24.0  (landing page)
Nicolae Radu Zabet
Snapshot Date: 2021-09-12 04:50:10 -0400 (Sun, 12 Sep 2021)
git_url: https://git.bioconductor.org/packages/DMRcaller
git_branch: RELEASE_3_13
git_last_commit: 828312c
git_last_commit_date: 2021-05-19 12:12:36 -0400 (Wed, 19 May 2021)
nebbiolo1Linux (Ubuntu 20.04.2 LTS) / x86_64  OK    OK    OK  UNNEEDED, same version is already published
tokay2Windows Server 2012 R2 Standard / x64  OK    OK    OK    OK  UNNEEDED, same version is already published
machv2macOS 10.14.6 Mojave / x86_64  OK    OK    OK    OK  UNNEEDED, same version is already published

Summary

Package: DMRcaller
Version: 1.24.0
Command: chmod a+r DMRcaller -R && C:\Users\biocbuild\bbs-3.13-bioc\R\bin\R.exe CMD build --keep-empty-dirs --no-resave-data DMRcaller
StartedAt: 2021-09-12 13:03:53 -0400 (Sun, 12 Sep 2021)
EndedAt: 2021-09-12 13:05:57 -0400 (Sun, 12 Sep 2021)
EllapsedTime: 124.3 seconds
RetCode: 0
Status:   OK  
PackageFile: DMRcaller_1.24.0.tar.gz
PackageFileSize: 1.628 MiB

Command output

##############################################################################
##############################################################################
###
### Running command:
###
###   chmod a+r DMRcaller -R && C:\Users\biocbuild\bbs-3.13-bioc\R\bin\R.exe CMD build --keep-empty-dirs --no-resave-data DMRcaller
###
##############################################################################
##############################################################################


* checking for file 'DMRcaller/DESCRIPTION' ... OK
* preparing 'DMRcaller':
* checking DESCRIPTION meta-information ... OK
* installing the package to build vignettes
* creating vignettes ... OK
* checking for LF line-endings in source and make files and shell scripts
* checking for empty or unneeded directories
* looking to see if a 'data/datalist' file should be added
* building 'DMRcaller_1.24.0.tar.gz'